{"text_format":"1","workbook":"xlsx","n_sheets":12,"sheets":["Base","FORS","ÅRSTOT","BETONG","TØMRERE","MALERE","RØRLEGGERE","TAKTEKKERE","MURERE","Ark1","BLIKK OG VENTILASJON","ISOLATØR"],"not_rendered":{"charts":0,"images":2,"macros":1,"external_links":0,"defined_names":0,"comments":0,"pivot_tables":0},"unopened":[],"bounds":{"document_bytes":16777216,"sheet_cells":100000,"rows_first":2000,"rows_last":500,"rows_between":2000,"halvings":0,"cell_chars":16384,"cell_head_chars":4096},"cells_cut":0,"cells_raw":0,"read":"whole","date_system":"1900"}

{"sheet":"Base","index":0,"n_rows":0,"n_cols":0,"rows_kept":0,"cut":false,"hidden":true,"merged":[]}

{"sheet":"FORS","index":1,"n_rows":15,"n_cols":1,"rows_kept":15,"cut":false,"hidden":false,"merged":[[13,0,13,12],[14,0,14,4],[14,8,14,11],[3,0,3,12],[6,0,6,12],[9,0,9,12]]}
[]
[]
[]
["STATISTIKK "]
[]
[]
["FOR "]
[]
[]
["MÅLEVIRKSOMHETEN"]
[]
[]
[]
[2022]
["NB: Alle timefortjenester er før eventuelt trekk av målegebyr"]

{"sheet":"ÅRSTOT","index":2,"n_rows":62,"n_cols":13,"rows_kept":62,"cut":false,"hidden":false,"merged":[[1,0,1,12],[22,0,22,12],[43,0,43,12]]}
[]
[{"$f":"\"MÅLESTATISTIKK ALLE BYGGFAG - 1. HALVÅR \"&FORS!$A$14","v":"MÅLESTATISTIKK ALLE BYGGFAG - 1. HALVÅR 2022"}]
[]
[null,"Målesum i kroner",null,"Timer",null,{"$f":"\"Fortjeneste 1. halvår  \"&FORS!$A$14-0","v":"Fortjeneste 1. halvår  2022"},null,null,{"$f":"\" 1. halvår  \"&FORS!$A$14-1","v":" 1. halvår  2021"},null,null,"Endringer i %"]
[null,"Innmålt m/","Innmålt m/","Innmålt m/","Innmålt m/","Innmålt m/","Innmålt m/","Gjennom-","Innmålt m/","Innmålt m/","Gjen.snitt","Innmålt m/","Gjen.snitt"]
[null,"overskudd","underskudd","overskudd","underskudd","overskudd","underskudd","snitt","overskudd","underskudd","fortjeneste","overskudd","fortjeneste"]
["Agder",{"$f":"SUMIFS(BETONG!B$7:B$18,BETONG!$A$7:$A$18,ÅRSTOT!$A7)+SUMIFS(TØMRERE!B$7:B$18,TØMRERE!$A$7:$A$18,ÅRSTOT!$A7)+SUMIFS(RØRLEGGERE!B$7:B$18,RØRLEGGERE!$A$7:$A$18,ÅRSTOT!$A7)+SUMIFS(MURERE!B$7:B$18,MURERE!$A$7:$A$18,ÅRSTOT!$A7)+SUMIFS('BLIKK OG VENTILASJON'!B$7:B$18,'BLIKK OG VENTILASJON'!$A$7:$A$18,ÅRSTOT!$A7)+SUMIFS(ISOLATØR!B$7:B$18,ISOLATØR!$A$7:$A$18,ÅRSTOT!$A7)+SUMIFS(MALERE!B$7:B$18,MALERE!$A$7:$A$18,ÅRSTOT!$A7)+SUMIFS(TAKTEKKERE!B$7:B$18,TAKTEKKERE!$A$7:$A$18,ÅRSTOT!$A7)","v":5919937},{"$f":"SUMIFS(BETONG!C$7:C$18,BETONG!$A$7:$A$18,ÅRSTOT!$A7)+SUMIFS(TØMRERE!C$7:C$18,TØMRERE!$A$7:$A$18,ÅRSTOT!$A7)+SUMIFS(RØRLEGGERE!C$7:C$18,RØRLEGGERE!$A$7:$A$18,ÅRSTOT!$A7)+SUMIFS(MURERE!C$7:C$18,MURERE!$A$7:$A$18,ÅRSTOT!$A7)+SUMIFS('BLIKK OG VENTILASJON'!C$7:C$18,'BLIKK OG VENTILASJON'!$A$7:$A$18,ÅRSTOT!$A7)+SUMIFS(ISOLATØR!C$7:C$18,ISOLATØR!$A$7:$A$18,ÅRSTOT!$A7)+SUMIFS(MALERE!C$7:C$18,MALERE!$A$7:$A$18,ÅRSTOT!$A7)+SUMIFS(TAKTEKKERE!C$7:C$18,TAKTEKKERE!$A$7:$A$18,ÅRSTOT!$A7)","v":0},{"$f":"SUMIFS(BETONG!D$7:D$18,BETONG!$A$7:$A$18,ÅRSTOT!$A7)+SUMIFS(TØMRERE!D$7:D$18,TØMRERE!$A$7:$A$18,ÅRSTOT!$A7)+SUMIFS(RØRLEGGERE!D$7:D$18,RØRLEGGERE!$A$7:$A$18,ÅRSTOT!$A7)+SUMIFS(MURERE!D$7:D$18,MURERE!$A$7:$A$18,ÅRSTOT!$A7)+SUMIFS('BLIKK OG VENTILASJON'!D$7:D$18,'BLIKK OG VENTILASJON'!$A$7:$A$18,ÅRSTOT!$A7)+SUMIFS(ISOLATØR!D$7:D$18,ISOLATØR!$A$7:$A$18,ÅRSTOT!$A7)+SUMIFS(MALERE!D$7:D$18,MALERE!$A$7:$A$18,ÅRSTOT!$A7)+SUMIFS(TAKTEKKERE!D$7:D$18,TAKTEKKERE!$A$7:$A$18,ÅRSTOT!$A7)","v":18547},{"$f":"SUMIFS(BETONG!E$7:E$18,BETONG!$A$7:$A$18,ÅRSTOT!$A7)+SUMIFS(TØMRERE!E$7:E$18,TØMRERE!$A$7:$A$18,ÅRSTOT!$A7)+SUMIFS(RØRLEGGERE!E$7:E$18,RØRLEGGERE!$A$7:$A$18,ÅRSTOT!$A7)+SUMIFS(MURERE!E$7:E$18,MURERE!$A$7:$A$18,ÅRSTOT!$A7)+SUMIFS('BLIKK OG VENTILASJON'!E$7:E$18,'BLIKK OG VENTILASJON'!$A$7:$A$18,ÅRSTOT!$A7)+SUMIFS(ISOLATØR!E$7:E$18,ISOLATØR!$A$7:$A$18,ÅRSTOT!$A7)+SUMIFS(MALERE!E$7:E$18,MALERE!$A$7:$A$18,ÅRSTOT!$A7)+SUMIFS(TAKTEKKERE!E$7:E$18,TAKTEKKERE!$A$7:$A$18,ÅRSTOT!$A7)","v":0},{"$f":"IF(D7=0,0,B7/D7)","v":319.18569040815225},{"$f":"IF(E7=0,0,C7/E7)","v":0},{"$f":"IF(D7+E7=0,0,(B7+C7)/(D7+E7))","v":319.18569040815225},{"$f":"SUMIFS(BETONG!I$7:I$18,BETONG!$A$7:$A$18,ÅRSTOT!$A7)+SUMIFS(TØMRERE!I$7:I$18,TØMRERE!$A$7:$A$18,ÅRSTOT!$A7)+SUMIFS(RØRLEGGERE!I$7:I$18,RØRLEGGERE!$A$7:$A$18,ÅRSTOT!$A7)+SUMIFS(MURERE!I$7:I$18,MURERE!$A$7:$A$18,ÅRSTOT!$A7)+SUMIFS('BLIKK OG VENTILASJON'!I$7:I$18,'BLIKK OG VENTILASJON'!$A$7:$A$18,ÅRSTOT!$A7)+SUMIFS(ISOLATØR!I$7:I$18,ISOLATØR!$A$7:$A$18,ÅRSTOT!$A7)+SUMIFS(MALERE!I$7:I$18,MALERE!$A$7:$A$18,ÅRSTOT!$A7)+SUMIFS(TAKTEKKERE!I$7:I$18,TAKTEKKERE!$A$7:$A$18,ÅRSTOT!$A7)","v":13659888},{"$f":"SUMIFS(BETONG!J$7:J$18,BETONG!$A$7:$A$18,ÅRSTOT!$A7)+SUMIFS(TØMRERE!J$7:J$18,TØMRERE!$A$7:$A$18,ÅRSTOT!$A7)+SUMIFS(RØRLEGGERE!J$7:J$18,RØRLEGGERE!$A$7:$A$18,ÅRSTOT!$A7)+SUMIFS(MURERE!J$7:J$18,MURERE!$A$7:$A$18,ÅRSTOT!$A7)+SUMIFS('BLIKK OG VENTILASJON'!J$7:J$18,'BLIKK OG VENTILASJON'!$A$7:$A$18,ÅRSTOT!$A7)+SUMIFS(ISOLATØR!J$7:J$18,ISOLATØR!$A$7:$A$18,ÅRSTOT!$A7)+SUMIFS(MALERE!J$7:J$18,MALERE!$A$7:$A$18,ÅRSTOT!$A7)+SUMIFS(TAKTEKKERE!J$7:J$18,TAKTEKKERE!$A$7:$A$18,ÅRSTOT!$A7)","v":0},292.78993101973157,{"$f":"IF(I7=0,0,(B7-I7)/I7)","v":-0.56661892103361311},{"$f":"IF(K7=0,0,(H7-K7)/K7)","v":9.0152551682666421E-2}]
["Bergen",{"$f":"SUMIFS(BETONG!B$7:B$18,BETONG!$A$7:$A$18,ÅRSTOT!$A8)+SUMIFS(TØMRERE!B$7:B$18,TØMRERE!$A$7:$A$18,ÅRSTOT!$A8)+SUMIFS(RØRLEGGERE!B$7:B$18,RØRLEGGERE!$A$7:$A$18,ÅRSTOT!$A8)+SUMIFS(MURERE!B$7:B$18,MURERE!$A$7:$A$18,ÅRSTOT!$A8)+SUMIFS('BLIKK OG VENTILASJON'!B$7:B$18,'BLIKK OG VENTILASJON'!$A$7:$A$18,ÅRSTOT!$A8)+SUMIFS(ISOLATØR!B$7:B$18,ISOLATØR!$A$7:$A$18,ÅRSTOT!$A8)+SUMIFS(MALERE!B$7:B$18,MALERE!$A$7:$A$18,ÅRSTOT!$A8)+SUMIFS(TAKTEKKERE!B$7:B$18,TAKTEKKERE!$A$7:$A$18,ÅRSTOT!$A8)","v":15942625.08},{"$f":"SUMIFS(BETONG!C$7:C$18,BETONG!$A$7:$A$18,ÅRSTOT!$A8)+SUMIFS(TØMRERE!C$7:C$18,TØMRERE!$A$7:$A$18,ÅRSTOT!$A8)+SUMIFS(RØRLEGGERE!C$7:C$18,RØRLEGGERE!$A$7:$A$18,ÅRSTOT!$A8)+SUMIFS(MURERE!C$7:C$18,MURERE!$A$7:$A$18,ÅRSTOT!$A8)+SUMIFS('BLIKK OG VENTILASJON'!C$7:C$18,'BLIKK OG VENTILASJON'!$A$7:$A$18,ÅRSTOT!$A8)+SUMIFS(ISOLATØR!C$7:C$18,ISOLATØR!$A$7:$A$18,ÅRSTOT!$A8)+SUMIFS(MALERE!C$7:C$18,MALERE!$A$7:$A$18,ÅRSTOT!$A8)+SUMIFS(TAKTEKKERE!C$7:C$18,TAKTEKKERE!$A$7:$A$18,ÅRSTOT!$A8)","v":0},{"$f":"SUMIFS(BETONG!D$7:D$18,BETONG!$A$7:$A$18,ÅRSTOT!$A8)+SUMIFS(TØMRERE!D$7:D$18,TØMRERE!$A$7:$A$18,ÅRSTOT!$A8)+SUMIFS(RØRLEGGERE!D$7:D$18,RØRLEGGERE!$A$7:$A$18,ÅRSTOT!$A8)+SUMIFS(MURERE!D$7:D$18,MURERE!$A$7:$A$18,ÅRSTOT!$A8)+SUMIFS('BLIKK OG VENTILASJON'!D$7:D$18,'BLIKK OG VENTILASJON'!$A$7:$A$18,ÅRSTOT!$A8)+SUMIFS(ISOLATØR!D$7:D$18,ISOLATØR!$A$7:$A$18,ÅRSTOT!$A8)+SUMIFS(MALERE!D$7:D$18,MALERE!$A$7:$A$18,ÅRSTOT!$A8)+SUMIFS(TAKTEKKERE!D$7:D$18,TAKTEKKERE!$A$7:$A$18,ÅRSTOT!$A8)","v":48701.030000000006},{"$f":"SUMIFS(BETONG!E$7:E$18,BETONG!$A$7:$A$18,ÅRSTOT!$A8)+SUMIFS(TØMRERE!E$7:E$18,TØMRERE!$A$7:$A$18,ÅRSTOT!$A8)+SUMIFS(RØRLEGGERE!E$7:E$18,RØRLEGGERE!$A$7:$A$18,ÅRSTOT!$A8)+SUMIFS(MURERE!E$7:E$18,MURERE!$A$7:$A$18,ÅRSTOT!$A8)+SUMIFS('BLIKK OG VENTILASJON'!E$7:E$18,'BLIKK OG VENTILASJON'!$A$7:$A$18,ÅRSTOT!$A8)+SUMIFS(ISOLATØR!E$7:E$18,ISOLATØR!$A$7:$A$18,ÅRSTOT!$A8)+SUMIFS(MALERE!E$7:E$18,MALERE!$A$7:$A$18,ÅRSTOT!$A8)+SUMIFS(TAKTEKKERE!E$7:E$18,TAKTEKKERE!$A$7:$A$18,ÅRSTOT!$A8)","v":0},{"$f":"IF(D8=0,0,B8/D8)","v":327.35704111391482},{"$f":"IF(E8=0,0,C8/E8)","v":0},{"$f":"IF(D8+E8=0,0,(B8+C8)/(D8+E8))","v":327.35704111391482},{"$f":"SUMIFS(BETONG!I$7:I$18,BETONG!$A$7:$A$18,ÅRSTOT!$A8)+SUMIFS(TØMRERE!I$7:I$18,TØMRERE!$A$7:$A$18,ÅRSTOT!$A8)+SUMIFS(RØRLEGGERE!I$7:I$18,RØRLEGGERE!$A$7:$A$18,ÅRSTOT!$A8)+SUMIFS(MURERE!I$7:I$18,MURERE!$A$7:$A$18,ÅRSTOT!$A8)+SUMIFS('BLIKK OG VENTILASJON'!I$7:I$18,'BLIKK OG VENTILASJON'!$A$7:$A$18,ÅRSTOT!$A8)+SUMIFS(ISOLATØR!I$7:I$18,ISOLATØR!$A$7:$A$18,ÅRSTOT!$A8)+SUMIFS(MALERE!I$7:I$18,MALERE!$A$7:$A$18,ÅRSTOT!$A8)+SUMIFS(TAKTEKKERE!I$7:I$18,TAKTEKKERE!$A$7:$A$18,ÅRSTOT!$A8)","v":32137289.920000002},{"$f":"SUMIFS(BETONG!J$7:J$18,BETONG!$A$7:$A$18,ÅRSTOT!$A8)+SUMIFS(TØMRERE!J$7:J$18,TØMRERE!$A$7:$A$18,ÅRSTOT!$A8)+SUMIFS(RØRLEGGERE!J$7:J$18,RØRLEGGERE!$A$7:$A$18,ÅRSTOT!$A8)+SUMIFS(MURERE!J$7:J$18,MURERE!$A$7:$A$18,ÅRSTOT!$A8)+SUMIFS('BLIKK OG VENTILASJON'!J$7:J$18,'BLIKK OG VENTILASJON'!$A$7:$A$18,ÅRSTOT!$A8)+SUMIFS(ISOLATØR!J$7:J$18,ISOLATØR!$A$7:$A$18,ÅRSTOT!$A8)+SUMIFS(MALERE!J$7:J$18,MALERE!$A$7:$A$18,ÅRSTOT!$A8)+SUMIFS(TAKTEKKERE!J$7:J$18,TAKTEKKERE!$A$7:$A$18,ÅRSTOT!$A8)","v":0},299.83390815839192,{"$f":"IF(I8=0,0,(B8-I8)/I8)","v":-0.50392129766740457},{"$f":"IF(K8=0,0,(H8-K8)/K8)","v":9.1794597630976998E-2}]
["Nordland",{"$f":"SUMIFS(BETONG!B$7:B$18,BETONG!$A$7:$A$18,ÅRSTOT!$A9)+SUMIFS(TØMRERE!B$7:B$18,TØMRERE!$A$7:$A$18,ÅRSTOT!$A9)+SUMIFS(RØRLEGGERE!B$7:B$18,RØRLEGGERE!$A$7:$A$18,ÅRSTOT!$A9)+SUMIFS(MURERE!B$7:B$18,MURERE!$A$7:$A$18,ÅRSTOT!$A9)+SUMIFS('BLIKK OG VENTILASJON'!B$7:B$18,'BLIKK OG VENTILASJON'!$A$7:$A$18,ÅRSTOT!$A9)+SUMIFS(ISOLATØR!B$7:B$18,ISOLATØR!$A$7:$A$18,ÅRSTOT!$A9)+SUMIFS(MALERE!B$7:B$18,MALERE!$A$7:$A$18,ÅRSTOT!$A9)+SUMIFS(TAKTEKKERE!B$7:B$18,TAKTEKKERE!$A$7:$A$18,ÅRSTOT!$A9)","v":0},{"$f":"SUMIFS(BETONG!C$7:C$18,BETONG!$A$7:$A$18,ÅRSTOT!$A9)+SUMIFS(TØMRERE!C$7:C$18,TØMRERE!$A$7:$A$18,ÅRSTOT!$A9)+SUMIFS(RØRLEGGERE!C$7:C$18,RØRLEGGERE!$A$7:$A$18,ÅRSTOT!$A9)+SUMIFS(MURERE!C$7:C$18,MURERE!$A$7:$A$18,ÅRSTOT!$A9)+SUMIFS('BLIKK OG VENTILASJON'!C$7:C$18,'BLIKK OG VENTILASJON'!$A$7:$A$18,ÅRSTOT!$A9)+SUMIFS(ISOLATØR!C$7:C$18,ISOLATØR!$A$7:$A$18,ÅRSTOT!$A9)+SUMIFS(MALERE!C$7:C$18,MALERE!$A$7:$A$18,ÅRSTOT!$A9)+SUMIFS(TAKTEKKERE!C$7:C$18,TAKTEKKERE!$A$7:$A$18,ÅRSTOT!$A9)","v":0},{"$f":"SUMIFS(BETONG!D$7:D$18,BETONG!$A$7:$A$18,ÅRSTOT!$A9)+SUMIFS(TØMRERE!D$7:D$18,TØMRERE!$A$7:$A$18,ÅRSTOT!$A9)+SUMIFS(RØRLEGGERE!D$7:D$18,RØRLEGGERE!$A$7:$A$18,ÅRSTOT!$A9)+SUMIFS(MURERE!D$7:D$18,MURERE!$A$7:$A$18,ÅRSTOT!$A9)+SUMIFS('BLIKK OG VENTILASJON'!D$7:D$18,'BLIKK OG VENTILASJON'!$A$7:$A$18,ÅRSTOT!$A9)+SUMIFS(ISOLATØR!D$7:D$18,ISOLATØR!$A$7:$A$18,ÅRSTOT!$A9)+SUMIFS(MALERE!D$7:D$18,MALERE!$A$7:$A$18,ÅRSTOT!$A9)+SUMIFS(TAKTEKKERE!D$7:D$18,TAKTEKKERE!$A$7:$A$18,ÅRSTOT!$A9)","v":0},{"$f":"SUMIFS(BETONG!E$7:E$18,BETONG!$A$7:$A$18,ÅRSTOT!$A9)+SUMIFS(TØMRERE!E$7:E$18,TØMRERE!$A$7:$A$18,ÅRSTOT!$A9)+SUMIFS(RØRLEGGERE!E$7:E$18,RØRLEGGERE!$A$7:$A$18,ÅRSTOT!$A9)+SUMIFS(MURERE!E$7:E$18,MURERE!$A$7:$A$18,ÅRSTOT!$A9)+SUMIFS('BLIKK OG VENTILASJON'!E$7:E$18,'BLIKK OG VENTILASJON'!$A$7:$A$18,ÅRSTOT!$A9)+SUMIFS(ISOLATØR!E$7:E$18,ISOLATØR!$A$7:$A$18,ÅRSTOT!$A9)+SUMIFS(MALERE!E$7:E$18,MALERE!$A$7:$A$18,ÅRSTOT!$A9)+SUMIFS(TAKTEKKERE!E$7:E$18,TAKTEKKERE!$A$7:$A$18,ÅRSTOT!$A9)","v":0},{"$f":"IF(D9=0,0,B9/D9)","v":0},{"$f":"IF(E9=0,0,C9/E9)","v":0},{"$f":"IF(D9+E9=0,0,(B9+C9)/(D9+E9))","v":0},{"$f":"SUMIFS(BETONG!I$7:I$18,BETONG!$A$7:$A$18,ÅRSTOT!$A9)+SUMIFS(TØMRERE!I$7:I$18,TØMRERE!$A$7:$A$18,ÅRSTOT!$A9)+SUMIFS(RØRLEGGERE!I$7:I$18,RØRLEGGERE!$A$7:$A$18,ÅRSTOT!$A9)+SUMIFS(MURERE!I$7:I$18,MURERE!$A$7:$A$18,ÅRSTOT!$A9)+SUMIFS('BLIKK OG VENTILASJON'!I$7:I$18,'BLIKK OG VENTILASJON'!$A$7:$A$18,ÅRSTOT!$A9)+SUMIFS(ISOLATØR!I$7:I$18,ISOLATØR!$A$7:$A$18,ÅRSTOT!$A9)+SUMIFS(MALERE!I$7:I$18,MALERE!$A$7:$A$18,ÅRSTOT!$A9)+SUMIFS(TAKTEKKERE!I$7:I$18,TAKTEKKERE!$A$7:$A$18,ÅRSTOT!$A9)","v":0},{"$f":"SUMIFS(BETONG!J$7:J$18,BETONG!$A$7:$A$18,ÅRSTOT!$A9)+SUMIFS(TØMRERE!J$7:J$18,TØMRERE!$A$7:$A$18,ÅRSTOT!$A9)+SUMIFS(RØRLEGGERE!J$7:J$18,RØRLEGGERE!$A$7:$A$18,ÅRSTOT!$A9)+SUMIFS(MURERE!J$7:J$18,MURERE!$A$7:$A$18,ÅRSTOT!$A9)+SUMIFS('BLIKK OG VENTILASJON'!J$7:J$18,'BLIKK OG VENTILASJON'!$A$7:$A$18,ÅRSTOT!$A9)+SUMIFS(ISOLATØR!J$7:J$18,ISOLATØR!$A$7:$A$18,ÅRSTOT!$A9)+SUMIFS(MALERE!J$7:J$18,MALERE!$A$7:$A$18,ÅRSTOT!$A9)+SUMIFS(TAKTEKKERE!J$7:J$18,TAKTEKKERE!$A$7:$A$18,ÅRSTOT!$A9)","v":0},0,{"$f":"IF(I9=0,0,(B9-I9)/I9)","v":0},{"$f":"IF(K9=0,0,(H9-K9)/K9)","v":0}]
["Drammen - Bærum",{"$f":"SUMIFS(BETONG!B$7:B$18,BETONG!$A$7:$A$18,ÅRSTOT!$A10)+SUMIFS(TØMRERE!B$7:B$18,TØMRERE!$A$7:$A$18,ÅRSTOT!$A10)+SUMIFS(RØRLEGGERE!B$7:B$18,RØRLEGGERE!$A$7:$A$18,ÅRSTOT!$A10)+SUMIFS(MURERE!B$7:B$18,MURERE!$A$7:$A$18,ÅRSTOT!$A10)+SUMIFS('BLIKK OG VENTILASJON'!B$7:B$18,'BLIKK OG VENTILASJON'!$A$7:$A$18,ÅRSTOT!$A10)+SUMIFS(ISOLATØR!B$7:B$18,ISOLATØR!$A$7:$A$18,ÅRSTOT!$A10)+SUMIFS(MALERE!B$7:B$18,MALERE!$A$7:$A$18,ÅRSTOT!$A10)+SUMIFS(TAKTEKKERE!B$7:B$18,TAKTEKKERE!$A$7:$A$18,ÅRSTOT!$A10)","v":0},{"$f":"SUMIFS(BETONG!C$7:C$18,BETONG!$A$7:$A$18,ÅRSTOT!$A10)+SUMIFS(TØMRERE!C$7:C$18,TØMRERE!$A$7:$A$18,ÅRSTOT!$A10)+SUMIFS(RØRLEGGERE!C$7:C$18,RØRLEGGERE!$A$7:$A$18,ÅRSTOT!$A10)+SUMIFS(MURERE!C$7:C$18,MURERE!$A$7:$A$18,ÅRSTOT!$A10)+SUMIFS('BLIKK OG VENTILASJON'!C$7:C$18,'BLIKK OG VENTILASJON'!$A$7:$A$18,ÅRSTOT!$A10)+SUMIFS(ISOLATØR!C$7:C$18,ISOLATØR!$A$7:$A$18,ÅRSTOT!$A10)+SUMIFS(MALERE!C$7:C$18,MALERE!$A$7:$A$18,ÅRSTOT!$A10)+SUMIFS(TAKTEKKERE!C$7:C$18,TAKTEKKERE!$A$7:$A$18,ÅRSTOT!$A10)","v":0},{"$f":"SUMIFS(BETONG!D$7:D$18,BETONG!$A$7:$A$18,ÅRSTOT!$A10)+SUMIFS(TØMRERE!D$7:D$18,TØMRERE!$A$7:$A$18,ÅRSTOT!$A10)+SUMIFS(RØRLEGGERE!D$7:D$18,RØRLEGGERE!$A$7:$A$18,ÅRSTOT!$A10)+SUMIFS(MURERE!D$7:D$18,MURERE!$A$7:$A$18,ÅRSTOT!$A10)+SUMIFS('BLIKK OG VENTILASJON'!D$7:D$18,'BLIKK OG VENTILASJON'!$A$7:$A$18,ÅRSTOT!$A10)+SUMIFS(ISOLATØR!D$7:D$18,ISOLATØR!$A$7:$A$18,ÅRSTOT!$A10)+SUMIFS(MALERE!D$7:D$18,MALERE!$A$7:$A$18,ÅRSTOT!$A10)+SUMIFS(TAKTEKKERE!D$7:D$18,TAKTEKKERE!$A$7:$A$18,ÅRSTOT!$A10)","v":0},{"$f":"SUMIFS(BETONG!E$7:E$18,BETONG!$A$7:$A$18,ÅRSTOT!$A10)+SUMIFS(TØMRERE!E$7:E$18,TØMRERE!$A$7:$A$18,ÅRSTOT!$A10)+SUMIFS(RØRLEGGERE!E$7:E$18,RØRLEGGERE!$A$7:$A$18,ÅRSTOT!$A10)+SUMIFS(MURERE!E$7:E$18,MURERE!$A$7:$A$18,ÅRSTOT!$A10)+SUMIFS('BLIKK OG VENTILASJON'!E$7:E$18,'BLIKK OG VENTILASJON'!$A$7:$A$18,ÅRSTOT!$A10)+SUMIFS(ISOLATØR!E$7:E$18,ISOLATØR!$A$7:$A$18,ÅRSTOT!$A10)+SUMIFS(MALERE!E$7:E$18,MALERE!$A$7:$A$18,ÅRSTOT!$A10)+SUMIFS(TAKTEKKERE!E$7:E$18,TAKTEKKERE!$A$7:$A$18,ÅRSTOT!$A10)","v":0},{"$f":"IF(D10=0,0,B10/D10)","v":0},0,{"$f":"IF(D10+E10=0,0,(B10+C10)/(D10+E10))","v":0},{"$f":"SUMIFS(BETONG!I$7:I$18,BETONG!$A$7:$A$18,ÅRSTOT!$A10)+SUMIFS(TØMRERE!I$7:I$18,TØMRERE!$A$7:$A$18,ÅRSTOT!$A10)+SUMIFS(RØRLEGGERE!I$7:I$18,RØRLEGGERE!$A$7:$A$18,ÅRSTOT!$A10)+SUMIFS(MURERE!I$7:I$18,MURERE!$A$7:$A$18,ÅRSTOT!$A10)+SUMIFS('BLIKK OG VENTILASJON'!I$7:I$18,'BLIKK OG VENTILASJON'!$A$7:$A$18,ÅRSTOT!$A10)+SUMIFS(ISOLATØR!I$7:I$18,ISOLATØR!$A$7:$A$18,ÅRSTOT!$A10)+SUMIFS(MALERE!I$7:I$18,MALERE!$A$7:$A$18,ÅRSTOT!$A10)+SUMIFS(TAKTEKKERE!I$7:I$18,TAKTEKKERE!$A$7:$A$18,ÅRSTOT!$A10)","v":0},{"$f":"SUMIFS(BETONG!J$7:J$18,BETONG!$A$7:$A$18,ÅRSTOT!$A10)+SUMIFS(TØMRERE!J$7:J$18,TØMRERE!$A$7:$A$18,ÅRSTOT!$A10)+SUMIFS(RØRLEGGERE!J$7:J$18,RØRLEGGERE!$A$7:$A$18,ÅRSTOT!$A10)+SUMIFS(MURERE!J$7:J$18,MURERE!$A$7:$A$18,ÅRSTOT!$A10)+SUMIFS('BLIKK OG VENTILASJON'!J$7:J$18,'BLIKK OG VENTILASJON'!$A$7:$A$18,ÅRSTOT!$A10)+SUMIFS(ISOLATØR!J$7:J$18,ISOLATØR!$A$7:$A$18,ÅRSTOT!$A10)+SUMIFS(MALERE!J$7:J$18,MALERE!$A$7:$A$18,ÅRSTOT!$A10)+SUMIFS(TAKTEKKERE!J$7:J$18,TAKTEKKERE!$A$7:$A$18,ÅRSTOT!$A10)","v":0},0,0,0]
["Haugesund",{"$f":"SUMIFS(BETONG!B$7:B$18,BETONG!$A$7:$A$18,ÅRSTOT!$A11)+SUMIFS(TØMRERE!B$7:B$18,TØMRERE!$A$7:$A$18,ÅRSTOT!$A11)+SUMIFS(RØRLEGGERE!B$7:B$18,RØRLEGGERE!$A$7:$A$18,ÅRSTOT!$A11)+SUMIFS(MURERE!B$7:B$18,MURERE!$A$7:$A$18,ÅRSTOT!$A11)+SUMIFS('BLIKK OG VENTILASJON'!B$7:B$18,'BLIKK OG VENTILASJON'!$A$7:$A$18,ÅRSTOT!$A11)+SUMIFS(ISOLATØR!B$7:B$18,ISOLATØR!$A$7:$A$18,ÅRSTOT!$A11)+SUMIFS(MALERE!B$7:B$18,MALERE!$A$7:$A$18,ÅRSTOT!$A11)+SUMIFS(TAKTEKKERE!B$7:B$18,TAKTEKKERE!$A$7:$A$18,ÅRSTOT!$A11)","v":0},{"$f":"SUMIFS(BETONG!C$7:C$18,BETONG!$A$7:$A$18,ÅRSTOT!$A11)+SUMIFS(TØMRERE!C$7:C$18,TØMRERE!$A$7:$A$18,ÅRSTOT!$A11)+SUMIFS(RØRLEGGERE!C$7:C$18,RØRLEGGERE!$A$7:$A$18,ÅRSTOT!$A11)+SUMIFS(MURERE!C$7:C$18,MURERE!$A$7:$A$18,ÅRSTOT!$A11)+SUMIFS('BLIKK OG VENTILASJON'!C$7:C$18,'BLIKK OG VENTILASJON'!$A$7:$A$18,ÅRSTOT!$A11)+SUMIFS(ISOLATØR!C$7:C$18,ISOLATØR!$A$7:$A$18,ÅRSTOT!$A11)+SUMIFS(MALERE!C$7:C$18,MALERE!$A$7:$A$18,ÅRSTOT!$A11)+SUMIFS(TAKTEKKERE!C$7:C$18,TAKTEKKERE!$A$7:$A$18,ÅRSTOT!$A11)","v":0},{"$f":"SUMIFS(BETONG!D$7:D$18,BETONG!$A$7:$A$18,ÅRSTOT!$A11)+SUMIFS(TØMRERE!D$7:D$18,TØMRERE!$A$7:$A$18,ÅRSTOT!$A11)+SUMIFS(RØRLEGGERE!D$7:D$18,RØRLEGGERE!$A$7:$A$18,ÅRSTOT!$A11)+SUMIFS(MURERE!D$7:D$18,MURERE!$A$7:$A$18,ÅRSTOT!$A11)+SUMIFS('BLIKK OG VENTILASJON'!D$7:D$18,'BLIKK OG VENTILASJON'!$A$7:$A$18,ÅRSTOT!$A11)+SUMIFS(ISOLATØR!D$7:D$18,ISOLATØR!$A$7:$A$18,ÅRSTOT!$A11)+SUMIFS(MALERE!D$7:D$18,MALERE!$A$7:$A$18,ÅRSTOT!$A11)+SUMIFS(TAKTEKKERE!D$7:D$18,TAKTEKKERE!$A$7:$A$18,ÅRSTOT!$A11)","v":0},{"$f":"SUMIFS(BETONG!E$7:E$18,BETONG!$A$7:$A$18,ÅRSTOT!$A11)+SUMIFS(TØMRERE!E$7:E$18,TØMRERE!$A$7:$A$18,ÅRSTOT!$A11)+SUMIFS(RØRLEGGERE!E$7:E$18,RØRLEGGERE!$A$7:$A$18,ÅRSTOT!$A11)+SUMIFS(MURERE!E$7:E$18,MURERE!$A$7:$A$18,ÅRSTOT!$A11)+SUMIFS('BLIKK OG VENTILASJON'!E$7:E$18,'BLIKK OG VENTILASJON'!$A$7:$A$18,ÅRSTOT!$A11)+SUMIFS(ISOLATØR!E$7:E$18,ISOLATØR!$A$7:$A$18,ÅRSTOT!$A11)+SUMIFS(MALERE!E$7:E$18,MALERE!$A$7:$A$18,ÅRSTOT!$A11)+SUMIFS(TAKTEKKERE!E$7:E$18,TAKTEKKERE!$A$7:$A$18,ÅRSTOT!$A11)","v":0},0,0,0,{"$f":"SUMIFS(BETONG!I$7:I$18,BETONG!$A$7:$A$18,ÅRSTOT!$A11)+SUMIFS(TØMRERE!I$7:I$18,TØMRERE!$A$7:$A$18,ÅRSTOT!$A11)+SUMIFS(RØRLEGGERE!I$7:I$18,RØRLEGGERE!$A$7:$A$18,ÅRSTOT!$A11)+SUMIFS(MURERE!I$7:I$18,MURERE!$A$7:$A$18,ÅRSTOT!$A11)+SUMIFS('BLIKK OG VENTILASJON'!I$7:I$18,'BLIKK OG VENTILASJON'!$A$7:$A$18,ÅRSTOT!$A11)+SUMIFS(ISOLATØR!I$7:I$18,ISOLATØR!$A$7:$A$18,ÅRSTOT!$A11)+SUMIFS(MALERE!I$7:I$18,MALERE!$A$7:$A$18,ÅRSTOT!$A11)+SUMIFS(TAKTEKKERE!I$7:I$18,TAKTEKKERE!$A$7:$A$18,ÅRSTOT!$A11)","v":7139951},{"$f":"SUMIFS(BETONG!J$7:J$18,BETONG!$A$7:$A$18,ÅRSTOT!$A11)+SUMIFS(TØMRERE!J$7:J$18,TØMRERE!$A$7:$A$18,ÅRSTOT!$A11)+SUMIFS(RØRLEGGERE!J$7:J$18,RØRLEGGERE!$A$7:$A$18,ÅRSTOT!$A11)+SUMIFS(MURERE!J$7:J$18,MURERE!$A$7:$A$18,ÅRSTOT!$A11)+SUMIFS('BLIKK OG VENTILASJON'!J$7:J$18,'BLIKK OG VENTILASJON'!$A$7:$A$18,ÅRSTOT!$A11)+SUMIFS(ISOLATØR!J$7:J$18,ISOLATØR!$A$7:$A$18,ÅRSTOT!$A11)+SUMIFS(MALERE!J$7:J$18,MALERE!$A$7:$A$18,ÅRSTOT!$A11)+SUMIFS(TAKTEKKERE!J$7:J$18,TAKTEKKERE!$A$7:$A$18,ÅRSTOT!$A11)","v":0},284.25960797140385,-1,-1]
["Hamar og Omegn",{"$f":"SUMIFS(BETONG!B$7:B$18,BETONG!$A$7:$A$18,ÅRSTOT!$A12)+SUMIFS(TØMRERE!B$7:B$18,TØMRERE!$A$7:$A$18,ÅRSTOT!$A12)+SUMIFS(RØRLEGGERE!B$7:B$18,RØRLEGGERE!$A$7:$A$18,ÅRSTOT!$A12)+SUMIFS(MURERE!B$7:B$18,MURERE!$A$7:$A$18,ÅRSTOT!$A12)+SUMIFS('BLIKK OG VENTILASJON'!B$7:B$18,'BLIKK OG VENTILASJON'!$A$7:$A$18,ÅRSTOT!$A12)+SUMIFS(ISOLATØR!B$7:B$18,ISOLATØR!$A$7:$A$18,ÅRSTOT!$A12)+SUMIFS(MALERE!B$7:B$18,MALERE!$A$7:$A$18,ÅRSTOT!$A12)+SUMIFS(TAKTEKKERE!B$7:B$18,TAKTEKKERE!$A$7:$A$18,ÅRSTOT!$A12)","v":26957645.469999995},{"$f":"SUMIFS(BETONG!C$7:C$18,BETONG!$A$7:$A$18,ÅRSTOT!$A12)+SUMIFS(TØMRERE!C$7:C$18,TØMRERE!$A$7:$A$18,ÅRSTOT!$A12)+SUMIFS(RØRLEGGERE!C$7:C$18,RØRLEGGERE!$A$7:$A$18,ÅRSTOT!$A12)+SUMIFS(MURERE!C$7:C$18,MURERE!$A$7:$A$18,ÅRSTOT!$A12)+SUMIFS('BLIKK OG VENTILASJON'!C$7:C$18,'BLIKK OG VENTILASJON'!$A$7:$A$18,ÅRSTOT!$A12)+SUMIFS(ISOLATØR!C$7:C$18,ISOLATØR!$A$7:$A$18,ÅRSTOT!$A12)+SUMIFS(MALERE!C$7:C$18,MALERE!$A$7:$A$18,ÅRSTOT!$A12)+SUMIFS(TAKTEKKERE!C$7:C$18,TAKTEKKERE!$A$7:$A$18,ÅRSTOT!$A12)","v":55635.68},{"$f":"SUMIFS(BETONG!D$7:D$18,BETONG!$A$7:$A$18,ÅRSTOT!$A12)+SUMIFS(TØMRERE!D$7:D$18,TØMRERE!$A$7:$A$18,ÅRSTOT!$A12)+SUMIFS(RØRLEGGERE!D$7:D$18,RØRLEGGERE!$A$7:$A$18,ÅRSTOT!$A12)+SUMIFS(MURERE!D$7:D$18,MURERE!$A$7:$A$18,ÅRSTOT!$A12)+SUMIFS('BLIKK OG VENTILASJON'!D$7:D$18,'BLIKK OG VENTILASJON'!$A$7:$A$18,ÅRSTOT!$A12)+SUMIFS(ISOLATØR!D$7:D$18,ISOLATØR!$A$7:$A$18,ÅRSTOT!$A12)+SUMIFS(MALERE!D$7:D$18,MALERE!$A$7:$A$18,ÅRSTOT!$A12)+SUMIFS(TAKTEKKERE!D$7:D$18,TAKTEKKERE!$A$7:$A$18,ÅRSTOT!$A12)","v":82243.45},{"$f":"SUMIFS(BETONG!E$7:E$18,BETONG!$A$7:$A$18,ÅRSTOT!$A12)+SUMIFS(TØMRERE!E$7:E$18,TØMRERE!$A$7:$A$18,ÅRSTOT!$A12)+SUMIFS(RØRLEGGERE!E$7:E$18,RØRLEGGERE!$A$7:$A$18,ÅRSTOT!$A12)+SUMIFS(MURERE!E$7:E$18,MURERE!$A$7:$A$18,ÅRSTOT!$A12)+SUMIFS('BLIKK OG VENTILASJON'!E$7:E$18,'BLIKK OG VENTILASJON'!$A$7:$A$18,ÅRSTOT!$A12)+SUMIFS(ISOLATØR!E$7:E$18,ISOLATØR!$A$7:$A$18,ÅRSTOT!$A12)+SUMIFS(MALERE!E$7:E$18,MALERE!$A$7:$A$18,ÅRSTOT!$A12)+SUMIFS(TAKTEKKERE!E$7:E$18,TAKTEKKERE!$A$7:$A$18,ÅRSTOT!$A12)","v":298.2},327.77863124662201,186.5716968477532,327.26848990782224,{"$f":"SUMIFS(BETONG!I$7:I$18,BETONG!$A$7:$A$18,ÅRSTOT!$A12)+SUMIFS(TØMRERE!I$7:I$18,TØMRERE!$A$7:$A$18,ÅRSTOT!$A12)+SUMIFS(RØRLEGGERE!I$7:I$18,RØRLEGGERE!$A$7:$A$18,ÅRSTOT!$A12)+SUMIFS(MURERE!I$7:I$18,MURERE!$A$7:$A$18,ÅRSTOT!$A12)+SUMIFS('BLIKK OG VENTILASJON'!I$7:I$18,'BLIKK OG VENTILASJON'!$A$7:$A$18,ÅRSTOT!$A12)+SUMIFS(ISOLATØR!I$7:I$18,ISOLATØR!$A$7:$A$18,ÅRSTOT!$A12)+SUMIFS(MALERE!I$7:I$18,MALERE!$A$7:$A$18,ÅRSTOT!$A12)+SUMIFS(TAKTEKKERE!I$7:I$18,TAKTEKKERE!$A$7:$A$18,ÅRSTOT!$A12)","v":11796373},{"$f":"SUMIFS(BETONG!J$7:J$18,BETONG!$A$7:$A$18,ÅRSTOT!$A12)+SUMIFS(TØMRERE!J$7:J$18,TØMRERE!$A$7:$A$18,ÅRSTOT!$A12)+SUMIFS(RØRLEGGERE!J$7:J$18,RØRLEGGERE!$A$7:$A$18,ÅRSTOT!$A12)+SUMIFS(MURERE!J$7:J$18,MURERE!$A$7:$A$18,ÅRSTOT!$A12)+SUMIFS('BLIKK OG VENTILASJON'!J$7:J$18,'BLIKK OG VENTILASJON'!$A$7:$A$18,ÅRSTOT!$A12)+SUMIFS(ISOLATØR!J$7:J$18,ISOLATØR!$A$7:$A$18,ÅRSTOT!$A12)+SUMIFS(MALERE!J$7:J$18,MALERE!$A$7:$A$18,ÅRSTOT!$A12)+SUMIFS(TAKTEKKERE!J$7:J$18,TAKTEKKERE!$A$7:$A$18,ÅRSTOT!$A12)","v":438619},331.95725467981021,1.2852486497332694,-1.4124604014184045E-2]
["Sandnes",{"$f":"SUMIFS(BETONG!B$7:B$18,BETONG!$A$7:$A$18,ÅRSTOT!$A13)+SUMIFS(TØMRERE!B$7:B$18,TØMRERE!$A$7:$A$18,ÅRSTOT!$A13)+SUMIFS(RØRLEGGERE!B$7:B$18,RØRLEGGERE!$A$7:$A$18,ÅRSTOT!$A13)+SUMIFS(MURERE!B$7:B$18,MURERE!$A$7:$A$18,ÅRSTOT!$A13)+SUMIFS('BLIKK OG VENTILASJON'!B$7:B$18,'BLIKK OG VENTILASJON'!$A$7:$A$18,ÅRSTOT!$A13)+SUMIFS(ISOLATØR!B$7:B$18,ISOLATØR!$A$7:$A$18,ÅRSTOT!$A13)+SUMIFS(MALERE!B$7:B$18,MALERE!$A$7:$A$18,ÅRSTOT!$A13)+SUMIFS(TAKTEKKERE!B$7:B$18,TAKTEKKERE!$A$7:$A$18,ÅRSTOT!$A13)","v":16119606.689999999},{"$f":"SUMIFS(BETONG!C$7:C$18,BETONG!$A$7:$A$18,ÅRSTOT!$A13)+SUMIFS(TØMRERE!C$7:C$18,TØMRERE!$A$7:$A$18,ÅRSTOT!$A13)+SUMIFS(RØRLEGGERE!C$7:C$18,RØRLEGGERE!$A$7:$A$18,ÅRSTOT!$A13)+SUMIFS(MURERE!C$7:C$18,MURERE!$A$7:$A$18,ÅRSTOT!$A13)+SUMIFS('BLIKK OG VENTILASJON'!C$7:C$18,'BLIKK OG VENTILASJON'!$A$7:$A$18,ÅRSTOT!$A13)+SUMIFS(ISOLATØR!C$7:C$18,ISOLATØR!$A$7:$A$18,ÅRSTOT!$A13)+SUMIFS(MALERE!C$7:C$18,MALERE!$A$7:$A$18,ÅRSTOT!$A13)+SUMIFS(TAKTEKKERE!C$7:C$18,TAKTEKKERE!$A$7:$A$18,ÅRSTOT!$A13)","v":0},{"$f":"SUMIFS(BETONG!D$7:D$18,BETONG!$A$7:$A$18,ÅRSTOT!$A13)+SUMIFS(TØMRERE!D$7:D$18,TØMRERE!$A$7:$A$18,ÅRSTOT!$A13)+SUMIFS(RØRLEGGERE!D$7:D$18,RØRLEGGERE!$A$7:$A$18,ÅRSTOT!$A13)+SUMIFS(MURERE!D$7:D$18,MURERE!$A$7:$A$18,ÅRSTOT!$A13)+SUMIFS('BLIKK OG VENTILASJON'!D$7:D$18,'BLIKK OG VENTILASJON'!$A$7:$A$18,ÅRSTOT!$A13)+SUMIFS(ISOLATØR!D$7:D$18,ISOLATØR!$A$7:$A$18,ÅRSTOT!$A13)+SUMIFS(MALERE!D$7:D$18,MALERE!$A$7:$A$18,ÅRSTOT!$A13)+SUMIFS(TAKTEKKERE!D$7:D$18,TAKTEKKERE!$A$7:$A$18,ÅRSTOT!$A13)","v":47026.92},{"$f":"SUMIFS(BETONG!E$7:E$18,BETONG!$A$7:$A$18,ÅRSTOT!$A13)+SUMIFS(TØMRERE!E$7:E$18,TØMRERE!$A$7:$A$18,ÅRSTOT!$A13)+SUMIFS(RØRLEGGERE!E$7:E$18,RØRLEGGERE!$A$7:$A$18,ÅRSTOT!$A13)+SUMIFS(MURERE!E$7:E$18,MURERE!$A$7:$A$18,ÅRSTOT!$A13)+SUMIFS('BLIKK OG VENTILASJON'!E$7:E$18,'BLIKK OG VENTILASJON'!$A$7:$A$18,ÅRSTOT!$A13)+SUMIFS(ISOLATØR!E$7:E$18,ISOLATØR!$A$7:$A$18,ÅRSTOT!$A13)+SUMIFS(MALERE!E$7:E$18,MALERE!$A$7:$A$18,ÅRSTOT!$A13)+SUMIFS(TAKTEKKERE!E$7:E$18,TAKTEKKERE!$A$7:$A$18,ÅRSTOT!$A13)","v":0},342.77402581330011,0,342.77402581330011,{"$f":"SUMIFS(BETONG!I$7:I$18,BETONG!$A$7:$A$18,ÅRSTOT!$A13)+SUMIFS(TØMRERE!I$7:I$18,TØMRERE!$A$7:$A$18,ÅRSTOT!$A13)+SUMIFS(RØRLEGGERE!I$7:I$18,RØRLEGGERE!$A$7:$A$18,ÅRSTOT!$A13)+SUMIFS(MURERE!I$7:I$18,MURERE!$A$7:$A$18,ÅRSTOT!$A13)+SUMIFS('BLIKK OG VENTILASJON'!I$7:I$18,'BLIKK OG VENTILASJON'!$A$7:$A$18,ÅRSTOT!$A13)+SUMIFS(ISOLATØR!I$7:I$18,ISOLATØR!$A$7:$A$18,ÅRSTOT!$A13)+SUMIFS(MALERE!I$7:I$18,MALERE!$A$7:$A$18,ÅRSTOT!$A13)+SUMIFS(TAKTEKKERE!I$7:I$18,TAKTEKKERE!$A$7:$A$18,ÅRSTOT!$A13)","v":37531606.549999997},{"$f":"SUMIFS(BETONG!J$7:J$18,BETONG!$A$7:$A$18,ÅRSTOT!$A13)+SUMIFS(TØMRERE!J$7:J$18,TØMRERE!$A$7:$A$18,ÅRSTOT!$A13)+SUMIFS(RØRLEGGERE!J$7:J$18,RØRLEGGERE!$A$7:$A$18,ÅRSTOT!$A13)+SUMIFS(MURERE!J$7:J$18,MURERE!$A$7:$A$18,ÅRSTOT!$A13)+SUMIFS('BLIKK OG VENTILASJON'!J$7:J$18,'BLIKK OG VENTILASJON'!$A$7:$A$18,ÅRSTOT!$A13)+SUMIFS(ISOLATØR!J$7:J$18,ISOLATØR!$A$7:$A$18,ÅRSTOT!$A13)+SUMIFS(MALERE!J$7:J$18,MALERE!$A$7:$A$18,ÅRSTOT!$A13)+SUMIFS(TAKTEKKERE!J$7:J$18,TAKTEKKERE!$A$7:$A$18,ÅRSTOT!$A13)","v":0},333.350256876233,-0.57050581704981662,2.8269871532050406E-2]
["Stavanger",{"$f":"SUMIFS(BETONG!B$7:B$18,BETONG!$A$7:$A$18,ÅRSTOT!$A14)+SUMIFS(TØMRERE!B$7:B$18,TØMRERE!$A$7:$A$18,ÅRSTOT!$A14)+SUMIFS(RØRLEGGERE!B$7:B$18,RØRLEGGERE!$A$7:$A$18,ÅRSTOT!$A14)+SUMIFS(MURERE!B$7:B$18,MURERE!$A$7:$A$18,ÅRSTOT!$A14)+SUMIFS('BLIKK OG VENTILASJON'!B$7:B$18,'BLIKK OG VENTILASJON'!$A$7:$A$18,ÅRSTOT!$A14)+SUMIFS(ISOLATØR!B$7:B$18,ISOLATØR!$A$7:$A$18,ÅRSTOT!$A14)+SUMIFS(MALERE!B$7:B$18,MALERE!$A$7:$A$18,ÅRSTOT!$A14)+SUMIFS(TAKTEKKERE!B$7:B$18,TAKTEKKERE!$A$7:$A$18,ÅRSTOT!$A14)","v":4264119.4300000006},{"$f":"SUMIFS(BETONG!C$7:C$18,BETONG!$A$7:$A$18,ÅRSTOT!$A14)+SUMIFS(TØMRERE!C$7:C$18,TØMRERE!$A$7:$A$18,ÅRSTOT!$A14)+SUMIFS(RØRLEGGERE!C$7:C$18,RØRLEGGERE!$A$7:$A$18,ÅRSTOT!$A14)+SUMIFS(MURERE!C$7:C$18,MURERE!$A$7:$A$18,ÅRSTOT!$A14)+SUMIFS('BLIKK OG VENTILASJON'!C$7:C$18,'BLIKK OG VENTILASJON'!$A$7:$A$18,ÅRSTOT!$A14)+SUMIFS(ISOLATØR!C$7:C$18,ISOLATØR!$A$7:$A$18,ÅRSTOT!$A14)+SUMIFS(MALERE!C$7:C$18,MALERE!$A$7:$A$18,ÅRSTOT!$A14)+SUMIFS(TAKTEKKERE!C$7:C$18,TAKTEKKERE!$A$7:$A$18,ÅRSTOT!$A14)","v":0},{"$f":"SUMIFS(BETONG!D$7:D$18,BETONG!$A$7:$A$18,ÅRSTOT!$A14)+SUMIFS(TØMRERE!D$7:D$18,TØMRERE!$A$7:$A$18,ÅRSTOT!$A14)+SUMIFS(RØRLEGGERE!D$7:D$18,RØRLEGGERE!$A$7:$A$18,ÅRSTOT!$A14)+SUMIFS(MURERE!D$7:D$18,MURERE!$A$7:$A$18,ÅRSTOT!$A14)+SUMIFS('BLIKK OG VENTILASJON'!D$7:D$18,'BLIKK OG VENTILASJON'!$A$7:$A$18,ÅRSTOT!$A14)+SUMIFS(ISOLATØR!D$7:D$18,ISOLATØR!$A$7:$A$18,ÅRSTOT!$A14)+SUMIFS(MALERE!D$7:D$18,MALERE!$A$7:$A$18,ÅRSTOT!$A14)+SUMIFS(TAKTEKKERE!D$7:D$18,TAKTEKKERE!$A$7:$A$18,ÅRSTOT!$A14)","v":14430},{"$f":"SUMIFS(BETONG!E$7:E$18,BETONG!$A$7:$A$18,ÅRSTOT!$A14)+SUMIFS(TØMRERE!E$7:E$18,TØMRERE!$A$7:$A$18,ÅRSTOT!$A14)+SUMIFS(RØRLEGGERE!E$7:E$18,RØRLEGGERE!$A$7:$A$18,ÅRSTOT!$A14)+SUMIFS(MURERE!E$7:E$18,MURERE!$A$7:$A$18,ÅRSTOT!$A14)+SUMIFS('BLIKK OG VENTILASJON'!E$7:E$18,'BLIKK OG VENTILASJON'!$A$7:$A$18,ÅRSTOT!$A14)+SUMIFS(ISOLATØR!E$7:E$18,ISOLATØR!$A$7:$A$18,ÅRSTOT!$A14)+SUMIFS(MALERE!E$7:E$18,MALERE!$A$7:$A$18,ÅRSTOT!$A14)+SUMIFS(TAKTEKKERE!E$7:E$18,TAKTEKKERE!$A$7:$A$18,ÅRSTOT!$A14)","v":0},295.50377200277205,0,295.50377200277205,{"$f":"SUMIFS(BETONG!I$7:I$18,BETONG!$A$7:$A$18,ÅRSTOT!$A14)+SUMIFS(TØMRERE!I$7:I$18,TØMRERE!$A$7:$A$18,ÅRSTOT!$A14)+SUMIFS(RØRLEGGERE!I$7:I$18,RØRLEGGERE!$A$7:$A$18,ÅRSTOT!$A14)+SUMIFS(MURERE!I$7:I$18,MURERE!$A$7:$A$18,ÅRSTOT!$A14)+SUMIFS('BLIKK OG VENTILASJON'!I$7:I$18,'BLIKK OG VENTILASJON'!$A$7:$A$18,ÅRSTOT!$A14)+SUMIFS(ISOLATØR!I$7:I$18,ISOLATØR!$A$7:$A$18,ÅRSTOT!$A14)+SUMIFS(MALERE!I$7:I$18,MALERE!$A$7:$A$18,ÅRSTOT!$A14)+SUMIFS(TAKTEKKERE!I$7:I$18,TAKTEKKERE!$A$7:$A$18,ÅRSTOT!$A14)","v":4461131.5},{"$f":"SUMIFS(BETONG!J$7:J$18,BETONG!$A$7:$A$18,ÅRSTOT!$A14)+SUMIFS(TØMRERE!J$7:J$18,TØMRERE!$A$7:$A$18,ÅRSTOT!$A14)+SUMIFS(RØRLEGGERE!J$7:J$18,RØRLEGGERE!$A$7:$A$18,ÅRSTOT!$A14)+SUMIFS(MURERE!J$7:J$18,MURERE!$A$7:$A$18,ÅRSTOT!$A14)+SUMIFS('BLIKK OG VENTILASJON'!J$7:J$18,'BLIKK OG VENTILASJON'!$A$7:$A$18,ÅRSTOT!$A14)+SUMIFS(ISOLATØR!J$7:J$18,ISOLATØR!$A$7:$A$18,ÅRSTOT!$A14)+SUMIFS(MALERE!J$7:J$18,MALERE!$A$7:$A$18,ÅRSTOT!$A14)+SUMIFS(TAKTEKKERE!J$7:J$18,TAKTEKKERE!$A$7:$A$18,ÅRSTOT!$A14)","v":0},293.07860578883003,-4.4161906009719587E-2,8.2747978393530684E-3]
["Telemark",{"$f":"SUMIFS(BETONG!B$7:B$18,BETONG!$A$7:$A$18,ÅRSTOT!$A15)+SUMIFS(TØMRERE!B$7:B$18,TØMRERE!$A$7:$A$18,ÅRSTOT!$A15)+SUMIFS(RØRLEGGERE!B$7:B$18,RØRLEGGERE!$A$7:$A$18,ÅRSTOT!$A15)+SUMIFS(MURERE!B$7:B$18,MURERE!$A$7:$A$18,ÅRSTOT!$A15)+SUMIFS('BLIKK OG VENTILASJON'!B$7:B$18,'BLIKK OG VENTILASJON'!$A$7:$A$18,ÅRSTOT!$A15)+SUMIFS(ISOLATØR!B$7:B$18,ISOLATØR!$A$7:$A$18,ÅRSTOT!$A15)+SUMIFS(MALERE!B$7:B$18,MALERE!$A$7:$A$18,ÅRSTOT!$A15)+SUMIFS(TAKTEKKERE!B$7:B$18,TAKTEKKERE!$A$7:$A$18,ÅRSTOT!$A15)","v":21394768.93},{"$f":"SUMIFS(BETONG!C$7:C$18,BETONG!$A$7:$A$18,ÅRSTOT!$A15)+SUMIFS(TØMRERE!C$7:C$18,TØMRERE!$A$7:$A$18,ÅRSTOT!$A15)+SUMIFS(RØRLEGGERE!C$7:C$18,RØRLEGGERE!$A$7:$A$18,ÅRSTOT!$A15)+SUMIFS(MURERE!C$7:C$18,MURERE!$A$7:$A$18,ÅRSTOT!$A15)+SUMIFS('BLIKK OG VENTILASJON'!C$7:C$18,'BLIKK OG VENTILASJON'!$A$7:$A$18,ÅRSTOT!$A15)+SUMIFS(ISOLATØR!C$7:C$18,ISOLATØR!$A$7:$A$18,ÅRSTOT!$A15)+SUMIFS(MALERE!C$7:C$18,MALERE!$A$7:$A$18,ÅRSTOT!$A15)+SUMIFS(TAKTEKKERE!C$7:C$18,TAKTEKKERE!$A$7:$A$18,ÅRSTOT!$A15)","v":0},{"$f":"SUMIFS(BETONG!D$7:D$18,BETONG!$A$7:$A$18,ÅRSTOT!$A15)+SUMIFS(TØMRERE!D$7:D$18,TØMRERE!$A$7:$A$18,ÅRSTOT!$A15)+SUMIFS(RØRLEGGERE!D$7:D$18,RØRLEGGERE!$A$7:$A$18,ÅRSTOT!$A15)+SUMIFS(MURERE!D$7:D$18,MURERE!$A$7:$A$18,ÅRSTOT!$A15)+SUMIFS('BLIKK OG VENTILASJON'!D$7:D$18,'BLIKK OG VENTILASJON'!$A$7:$A$18,ÅRSTOT!$A15)+SUMIFS(ISOLATØR!D$7:D$18,ISOLATØR!$A$7:$A$18,ÅRSTOT!$A15)+SUMIFS(MALERE!D$7:D$18,MALERE!$A$7:$A$18,ÅRSTOT!$A15)+SUMIFS(TAKTEKKERE!D$7:D$18,TAKTEKKERE!$A$7:$A$18,ÅRSTOT!$A15)","v":63194},{"$f":"SUMIFS(BETONG!E$7:E$18,BETONG!$A$7:$A$18,ÅRSTOT!$A15)+SUMIFS(TØMRERE!E$7:E$18,TØMRERE!$A$7:$A$18,ÅRSTOT!$A15)+SUMIFS(RØRLEGGERE!E$7:E$18,RØRLEGGERE!$A$7:$A$18,ÅRSTOT!$A15)+SUMIFS(MURERE!E$7:E$18,MURERE!$A$7:$A$18,ÅRSTOT!$A15)+SUMIFS('BLIKK OG VENTILASJON'!E$7:E$18,'BLIKK OG VENTILASJON'!$A$7:$A$18,ÅRSTOT!$A15)+SUMIFS(ISOLATØR!E$7:E$18,ISOLATØR!$A$7:$A$18,ÅRSTOT!$A15)+SUMIFS(MALERE!E$7:E$18,MALERE!$A$7:$A$18,ÅRSTOT!$A15)+SUMIFS(TAKTEKKERE!E$7:E$18,TAKTEKKERE!$A$7:$A$18,ÅRSTOT!$A15)","v":0},338.55696632591702,0,338.55696632591702,{"$f":"SUMIFS(BETONG!I$7:I$18,BETONG!$A$7:$A$18,ÅRSTOT!$A15)+SUMIFS(TØMRERE!I$7:I$18,TØMRERE!$A$7:$A$18,ÅRSTOT!$A15)+SUMIFS(RØRLEGGERE!I$7:I$18,RØRLEGGERE!$A$7:$A$18,ÅRSTOT!$A15)+SUMIFS(MURERE!I$7:I$18,MURERE!$A$7:$A$18,ÅRSTOT!$A15)+SUMIFS('BLIKK OG VENTILASJON'!I$7:I$18,'BLIKK OG VENTILASJON'!$A$7:$A$18,ÅRSTOT!$A15)+SUMIFS(ISOLATØR!I$7:I$18,ISOLATØR!$A$7:$A$18,ÅRSTOT!$A15)+SUMIFS(MALERE!I$7:I$18,MALERE!$A$7:$A$18,ÅRSTOT!$A15)+SUMIFS(TAKTEKKERE!I$7:I$18,TAKTEKKERE!$A$7:$A$18,ÅRSTOT!$A15)","v":14382440.640000001},{"$f":"SUMIFS(BETONG!J$7:J$18,BETONG!$A$7:$A$18,ÅRSTOT!$A15)+SUMIFS(TØMRERE!J$7:J$18,TØMRERE!$A$7:$A$18,ÅRSTOT!$A15)+SUMIFS(RØRLEGGERE!J$7:J$18,RØRLEGGERE!$A$7:$A$18,ÅRSTOT!$A15)+SUMIFS(MURERE!J$7:J$18,MURERE!$A$7:$A$18,ÅRSTOT!$A15)+SUMIFS('BLIKK OG VENTILASJON'!J$7:J$18,'BLIKK OG VENTILASJON'!$A$7:$A$18,ÅRSTOT!$A15)+SUMIFS(ISOLATØR!J$7:J$18,ISOLATØR!$A$7:$A$18,ÅRSTOT!$A15)+SUMIFS(MALERE!J$7:J$18,MALERE!$A$7:$A$18,ÅRSTOT!$A15)+SUMIFS(TAKTEKKERE!J$7:J$18,TAKTEKKERE!$A$7:$A$18,ÅRSTOT!$A15)","v":2568097},305.04981585003054,0.48756177518977745,0.1098415692614591]
["Trondheim",{"$f":"SUMIFS(BETONG!B$7:B$18,BETONG!$A$7:$A$18,ÅRSTOT!$A16)+SUMIFS(TØMRERE!B$7:B$18,TØMRERE!$A$7:$A$18,ÅRSTOT!$A16)+SUMIFS(RØRLEGGERE!B$7:B$18,RØRLEGGERE!$A$7:$A$18,ÅRSTOT!$A16)+SUMIFS(MURERE!B$7:B$18,MURERE!$A$7:$A$18,ÅRSTOT!$A16)+SUMIFS('BLIKK OG VENTILASJON'!B$7:B$18,'BLIKK OG VENTILASJON'!$A$7:$A$18,ÅRSTOT!$A16)+SUMIFS(ISOLATØR!B$7:B$18,ISOLATØR!$A$7:$A$18,ÅRSTOT!$A16)+SUMIFS(MALERE!B$7:B$18,MALERE!$A$7:$A$18,ÅRSTOT!$A16)+SUMIFS(TAKTEKKERE!B$7:B$18,TAKTEKKERE!$A$7:$A$18,ÅRSTOT!$A16)","v":128409100.63},{"$f":"SUMIFS(BETONG!C$7:C$18,BETONG!$A$7:$A$18,ÅRSTOT!$A16)+SUMIFS(TØMRERE!C$7:C$18,TØMRERE!$A$7:$A$18,ÅRSTOT!$A16)+SUMIFS(RØRLEGGERE!C$7:C$18,RØRLEGGERE!$A$7:$A$18,ÅRSTOT!$A16)+SUMIFS(MURERE!C$7:C$18,MURERE!$A$7:$A$18,ÅRSTOT!$A16)+SUMIFS('BLIKK OG VENTILASJON'!C$7:C$18,'BLIKK OG VENTILASJON'!$A$7:$A$18,ÅRSTOT!$A16)+SUMIFS(ISOLATØR!C$7:C$18,ISOLATØR!$A$7:$A$18,ÅRSTOT!$A16)+SUMIFS(MALERE!C$7:C$18,MALERE!$A$7:$A$18,ÅRSTOT!$A16)+SUMIFS(TAKTEKKERE!C$7:C$18,TAKTEKKERE!$A$7:$A$18,ÅRSTOT!$A16)","v":11540575.77},{"$f":"SUMIFS(BETONG!D$7:D$18,BETONG!$A$7:$A$18,ÅRSTOT!$A16)+SUMIFS(TØMRERE!D$7:D$18,TØMRERE!$A$7:$A$18,ÅRSTOT!$A16)+SUMIFS(RØRLEGGERE!D$7:D$18,RØRLEGGERE!$A$7:$A$18,ÅRSTOT!$A16)+SUMIFS(MURERE!D$7:D$18,MURERE!$A$7:$A$18,ÅRSTOT!$A16)+SUMIFS('BLIKK OG VENTILASJON'!D$7:D$18,'BLIKK OG VENTILASJON'!$A$7:$A$18,ÅRSTOT!$A16)+SUMIFS(ISOLATØR!D$7:D$18,ISOLATØR!$A$7:$A$18,ÅRSTOT!$A16)+SUMIFS(MALERE!D$7:D$18,MALERE!$A$7:$A$18,ÅRSTOT!$A16)+SUMIFS(TAKTEKKERE!D$7:D$18,TAKTEKKERE!$A$7:$A$18,ÅRSTOT!$A16)","v":392837.38},{"$f":"SUMIFS(BETONG!E$7:E$18,BETONG!$A$7:$A$18,ÅRSTOT!$A16)+SUMIFS(TØMRERE!E$7:E$18,TØMRERE!$A$7:$A$18,ÅRSTOT!$A16)+SUMIFS(RØRLEGGERE!E$7:E$18,RØRLEGGERE!$A$7:$A$18,ÅRSTOT!$A16)+SUMIFS(MURERE!E$7:E$18,MURERE!$A$7:$A$18,ÅRSTOT!$A16)+SUMIFS('BLIKK OG VENTILASJON'!E$7:E$18,'BLIKK OG VENTILASJON'!$A$7:$A$18,ÅRSTOT!$A16)+SUMIFS(ISOLATØR!E$7:E$18,ISOLATØR!$A$7:$A$18,ÅRSTOT!$A16)+SUMIFS(MALERE!E$7:E$18,MALERE!$A$7:$A$18,ÅRSTOT!$A16)+SUMIFS(TAKTEKKERE!E$7:E$18,TAKTEKKERE!$A$7:$A$18,ÅRSTOT!$A16)","v":54916.45},{"$f":"IF(D16=0,0,B16/D16)","v":326.87597252074124},210.14788410394337,{"$f":"IF(D16+E16=0,0,(B16+C16)/(D16+E16))","v":312.5594177497041},{"$f":"SUMIFS(BETONG!I$7:I$18,BETONG!$A$7:$A$18,ÅRSTOT!$A16)+SUMIFS(TØMRERE!I$7:I$18,TØMRERE!$A$7:$A$18,ÅRSTOT!$A16)+SUMIFS(RØRLEGGERE!I$7:I$18,RØRLEGGERE!$A$7:$A$18,ÅRSTOT!$A16)+SUMIFS(MURERE!I$7:I$18,MURERE!$A$7:$A$18,ÅRSTOT!$A16)+SUMIFS('BLIKK OG VENTILASJON'!I$7:I$18,'BLIKK OG VENTILASJON'!$A$7:$A$18,ÅRSTOT!$A16)+SUMIFS(ISOLATØR!I$7:I$18,ISOLATØR!$A$7:$A$18,ÅRSTOT!$A16)+SUMIFS(MALERE!I$7:I$18,MALERE!$A$7:$A$18,ÅRSTOT!$A16)+SUMIFS(TAKTEKKERE!I$7:I$18,TAKTEKKERE!$A$7:$A$18,ÅRSTOT!$A16)","v":158804706.35000002},{"$f":"SUMIFS(BETONG!J$7:J$18,BETONG!$A$7:$A$18,ÅRSTOT!$A16)+SUMIFS(TØMRERE!J$7:J$18,TØMRERE!$A$7:$A$18,ÅRSTOT!$A16)+SUMIFS(RØRLEGGERE!J$7:J$18,RØRLEGGERE!$A$7:$A$18,ÅRSTOT!$A16)+SUMIFS(MURERE!J$7:J$18,MURERE!$A$7:$A$18,ÅRSTOT!$A16)+SUMIFS('BLIKK OG VENTILASJON'!J$7:J$18,'BLIKK OG VENTILASJON'!$A$7:$A$18,ÅRSTOT!$A16)+SUMIFS(ISOLATØR!J$7:J$18,ISOLATØR!$A$7:$A$18,ÅRSTOT!$A16)+SUMIFS(MALERE!J$7:J$18,MALERE!$A$7:$A$18,ÅRSTOT!$A16)+SUMIFS(TAKTEKKERE!J$7:J$18,TAKTEKKERE!$A$7:$A$18,ÅRSTOT!$A16)","v":21229822.509999998},298.52669971994248,-0.19140242388666476,4.7006576105005533E-2]
["Vestfold",{"$f":"SUMIFS(BETONG!B$7:B$18,BETONG!$A$7:$A$18,ÅRSTOT!$A17)+SUMIFS(TØMRERE!B$7:B$18,TØMRERE!$A$7:$A$18,ÅRSTOT!$A17)+SUMIFS(RØRLEGGERE!B$7:B$18,RØRLEGGERE!$A$7:$A$18,ÅRSTOT!$A17)+SUMIFS(MURERE!B$7:B$18,MURERE!$A$7:$A$18,ÅRSTOT!$A17)+SUMIFS('BLIKK OG VENTILASJON'!B$7:B$18,'BLIKK OG VENTILASJON'!$A$7:$A$18,ÅRSTOT!$A17)+SUMIFS(ISOLATØR!B$7:B$18,ISOLATØR!$A$7:$A$18,ÅRSTOT!$A17)+SUMIFS(MALERE!B$7:B$18,MALERE!$A$7:$A$18,ÅRSTOT!$A17)+SUMIFS(TAKTEKKERE!B$7:B$18,TAKTEKKERE!$A$7:$A$18,ÅRSTOT!$A17)","v":790021},{"$f":"SUMIFS(BETONG!C$7:C$18,BETONG!$A$7:$A$18,ÅRSTOT!$A17)+SUMIFS(TØMRERE!C$7:C$18,TØMRERE!$A$7:$A$18,ÅRSTOT!$A17)+SUMIFS(RØRLEGGERE!C$7:C$18,RØRLEGGERE!$A$7:$A$18,ÅRSTOT!$A17)+SUMIFS(MURERE!C$7:C$18,MURERE!$A$7:$A$18,ÅRSTOT!$A17)+SUMIFS('BLIKK OG VENTILASJON'!C$7:C$18,'BLIKK OG VENTILASJON'!$A$7:$A$18,ÅRSTOT!$A17)+SUMIFS(ISOLATØR!C$7:C$18,ISOLATØR!$A$7:$A$18,ÅRSTOT!$A17)+SUMIFS(MALERE!C$7:C$18,MALERE!$A$7:$A$18,ÅRSTOT!$A17)+SUMIFS(TAKTEKKERE!C$7:C$18,TAKTEKKERE!$A$7:$A$18,ÅRSTOT!$A17)","v":0},{"$f":"SUMIFS(BETONG!D$7:D$18,BETONG!$A$7:$A$18,ÅRSTOT!$A17)+SUMIFS(TØMRERE!D$7:D$18,TØMRERE!$A$7:$A$18,ÅRSTOT!$A17)+SUMIFS(RØRLEGGERE!D$7:D$18,RØRLEGGERE!$A$7:$A$18,ÅRSTOT!$A17)+SUMIFS(MURERE!D$7:D$18,MURERE!$A$7:$A$18,ÅRSTOT!$A17)+SUMIFS('BLIKK OG VENTILASJON'!D$7:D$18,'BLIKK OG VENTILASJON'!$A$7:$A$18,ÅRSTOT!$A17)+SUMIFS(ISOLATØR!D$7:D$18,ISOLATØR!$A$7:$A$18,ÅRSTOT!$A17)+SUMIFS(MALERE!D$7:D$18,MALERE!$A$7:$A$18,ÅRSTOT!$A17)+SUMIFS(TAKTEKKERE!D$7:D$18,TAKTEKKERE!$A$7:$A$18,ÅRSTOT!$A17)","v":2810.5},{"$f":"SUMIFS(BETONG!E$7:E$18,BETONG!$A$7:$A$18,ÅRSTOT!$A17)+SUMIFS(TØMRERE!E$7:E$18,TØMRERE!$A$7:$A$18,ÅRSTOT!$A17)+SUMIFS(RØRLEGGERE!E$7:E$18,RØRLEGGERE!$A$7:$A$18,ÅRSTOT!$A17)+SUMIFS(MURERE!E$7:E$18,MURERE!$A$7:$A$18,ÅRSTOT!$A17)+SUMIFS('BLIKK OG VENTILASJON'!E$7:E$18,'BLIKK OG VENTILASJON'!$A$7:$A$18,ÅRSTOT!$A17)+SUMIFS(ISOLATØR!E$7:E$18,ISOLATØR!$A$7:$A$18,ÅRSTOT!$A17)+SUMIFS(MALERE!E$7:E$18,MALERE!$A$7:$A$18,ÅRSTOT!$A17)+SUMIFS(TAKTEKKERE!E$7:E$18,TAKTEKKERE!$A$7:$A$18,ÅRSTOT!$A17)","v":0},281.0962462195339,0,281.0962462195339,{"$f":"SUMIFS(BETONG!I$7:I$18,BETONG!$A$7:$A$18,ÅRSTOT!$A17)+SUMIFS(TØMRERE!I$7:I$18,TØMRERE!$A$7:$A$18,ÅRSTOT!$A17)+SUMIFS(RØRLEGGERE!I$7:I$18,RØRLEGGERE!$A$7:$A$18,ÅRSTOT!$A17)+SUMIFS(MURERE!I$7:I$18,MURERE!$A$7:$A$18,ÅRSTOT!$A17)+SUMIFS('BLIKK OG VENTILASJON'!I$7:I$18,'BLIKK OG VENTILASJON'!$A$7:$A$18,ÅRSTOT!$A17)+SUMIFS(ISOLATØR!I$7:I$18,ISOLATØR!$A$7:$A$18,ÅRSTOT!$A17)+SUMIFS(MALERE!I$7:I$18,MALERE!$A$7:$A$18,ÅRSTOT!$A17)+SUMIFS(TAKTEKKERE!I$7:I$18,TAKTEKKERE!$A$7:$A$18,ÅRSTOT!$A17)","v":4819741.7},{"$f":"SUMIFS(BETONG!J$7:J$18,BETONG!$A$7:$A$18,ÅRSTOT!$A17)+SUMIFS(TØMRERE!J$7:J$18,TØMRERE!$A$7:$A$18,ÅRSTOT!$A17)+SUMIFS(RØRLEGGERE!J$7:J$18,RØRLEGGERE!$A$7:$A$18,ÅRSTOT!$A17)+SUMIFS(MURERE!J$7:J$18,MURERE!$A$7:$A$18,ÅRSTOT!$A17)+SUMIFS('BLIKK OG VENTILASJON'!J$7:J$18,'BLIKK OG VENTILASJON'!$A$7:$A$18,ÅRSTOT!$A17)+SUMIFS(ISOLATØR!J$7:J$18,ISOLATØR!$A$7:$A$18,ÅRSTOT!$A17)+SUMIFS(MALERE!J$7:J$18,MALERE!$A$7:$A$18,ÅRSTOT!$A17)+SUMIFS(TAKTEKKERE!J$7:J$18,TAKTEKKERE!$A$7:$A$18,ÅRSTOT!$A17)","v":0},450.41437005798633,-0.83608644421753975,-0.37591634524594414]
["Østfold",{"$f":"SUMIFS(BETONG!B$7:B$18,BETONG!$A$7:$A$18,ÅRSTOT!$A18)+SUMIFS(TØMRERE!B$7:B$18,TØMRERE!$A$7:$A$18,ÅRSTOT!$A18)+SUMIFS(RØRLEGGERE!B$7:B$18,RØRLEGGERE!$A$7:$A$18,ÅRSTOT!$A18)+SUMIFS(MURERE!B$7:B$18,MURERE!$A$7:$A$18,ÅRSTOT!$A18)+SUMIFS('BLIKK OG VENTILASJON'!B$7:B$18,'BLIKK OG VENTILASJON'!$A$7:$A$18,ÅRSTOT!$A18)+SUMIFS(ISOLATØR!B$7:B$18,ISOLATØR!$A$7:$A$18,ÅRSTOT!$A18)+SUMIFS(MALERE!B$7:B$18,MALERE!$A$7:$A$18,ÅRSTOT!$A18)+SUMIFS(TAKTEKKERE!B$7:B$18,TAKTEKKERE!$A$7:$A$18,ÅRSTOT!$A18)","v":15024754},{"$f":"SUMIFS(BETONG!C$7:C$18,BETONG!$A$7:$A$18,ÅRSTOT!$A18)+SUMIFS(TØMRERE!C$7:C$18,TØMRERE!$A$7:$A$18,ÅRSTOT!$A18)+SUMIFS(RØRLEGGERE!C$7:C$18,RØRLEGGERE!$A$7:$A$18,ÅRSTOT!$A18)+SUMIFS(MURERE!C$7:C$18,MURERE!$A$7:$A$18,ÅRSTOT!$A18)+SUMIFS('BLIKK OG VENTILASJON'!C$7:C$18,'BLIKK OG VENTILASJON'!$A$7:$A$18,ÅRSTOT!$A18)+SUMIFS(ISOLATØR!C$7:C$18,ISOLATØR!$A$7:$A$18,ÅRSTOT!$A18)+SUMIFS(MALERE!C$7:C$18,MALERE!$A$7:$A$18,ÅRSTOT!$A18)+SUMIFS(TAKTEKKERE!C$7:C$18,TAKTEKKERE!$A$7:$A$18,ÅRSTOT!$A18)","v":0},{"$f":"SUMIFS(BETONG!D$7:D$18,BETONG!$A$7:$A$18,ÅRSTOT!$A18)+SUMIFS(TØMRERE!D$7:D$18,TØMRERE!$A$7:$A$18,ÅRSTOT!$A18)+SUMIFS(RØRLEGGERE!D$7:D$18,RØRLEGGERE!$A$7:$A$18,ÅRSTOT!$A18)+SUMIFS(MURERE!D$7:D$18,MURERE!$A$7:$A$18,ÅRSTOT!$A18)+SUMIFS('BLIKK OG VENTILASJON'!D$7:D$18,'BLIKK OG VENTILASJON'!$A$7:$A$18,ÅRSTOT!$A18)+SUMIFS(ISOLATØR!D$7:D$18,ISOLATØR!$A$7:$A$18,ÅRSTOT!$A18)+SUMIFS(MALERE!D$7:D$18,MALERE!$A$7:$A$18,ÅRSTOT!$A18)+SUMIFS(TAKTEKKERE!D$7:D$18,TAKTEKKERE!$A$7:$A$18,ÅRSTOT!$A18)","v":48347.5},{"$f":"SUMIFS(BETONG!E$7:E$18,BETONG!$A$7:$A$18,ÅRSTOT!$A18)+SUMIFS(TØMRERE!E$7:E$18,TØMRERE!$A$7:$A$18,ÅRSTOT!$A18)+SUMIFS(RØRLEGGERE!E$7:E$18,RØRLEGGERE!$A$7:$A$18,ÅRSTOT!$A18)+SUMIFS(MURERE!E$7:E$18,MURERE!$A$7:$A$18,ÅRSTOT!$A18)+SUMIFS('BLIKK OG VENTILASJON'!E$7:E$18,'BLIKK OG VENTILASJON'!$A$7:$A$18,ÅRSTOT!$A18)+SUMIFS(ISOLATØR!E$7:E$18,ISOLATØR!$A$7:$A$18,ÅRSTOT!$A18)+SUMIFS(MALERE!E$7:E$18,MALERE!$A$7:$A$18,ÅRSTOT!$A18)+SUMIFS(TAKTEKKERE!E$7:E$18,TAKTEKKERE!$A$7:$A$18,ÅRSTOT!$A18)","v":0},310.76589275557166,0,310.76589275557166,{"$f":"SUMIFS(BETONG!I$7:I$18,BETONG!$A$7:$A$18,ÅRSTOT!$A18)+SUMIFS(TØMRERE!I$7:I$18,TØMRERE!$A$7:$A$18,ÅRSTOT!$A18)+SUMIFS(RØRLEGGERE!I$7:I$18,RØRLEGGERE!$A$7:$A$18,ÅRSTOT!$A18)+SUMIFS(MURERE!I$7:I$18,MURERE!$A$7:$A$18,ÅRSTOT!$A18)+SUMIFS('BLIKK OG VENTILASJON'!I$7:I$18,'BLIKK OG VENTILASJON'!$A$7:$A$18,ÅRSTOT!$A18)+SUMIFS(ISOLATØR!I$7:I$18,ISOLATØR!$A$7:$A$18,ÅRSTOT!$A18)+SUMIFS(MALERE!I$7:I$18,MALERE!$A$7:$A$18,ÅRSTOT!$A18)+SUMIFS(TAKTEKKERE!I$7:I$18,TAKTEKKERE!$A$7:$A$18,ÅRSTOT!$A18)","v":13918078},{"$f":"SUMIFS(BETONG!J$7:J$18,BETONG!$A$7:$A$18,ÅRSTOT!$A18)+SUMIFS(TØMRERE!J$7:J$18,TØMRERE!$A$7:$A$18,ÅRSTOT!$A18)+SUMIFS(RØRLEGGERE!J$7:J$18,RØRLEGGERE!$A$7:$A$18,ÅRSTOT!$A18)+SUMIFS(MURERE!J$7:J$18,MURERE!$A$7:$A$18,ÅRSTOT!$A18)+SUMIFS('BLIKK OG VENTILASJON'!J$7:J$18,'BLIKK OG VENTILASJON'!$A$7:$A$18,ÅRSTOT!$A18)+SUMIFS(ISOLATØR!J$7:J$18,ISOLATØR!$A$7:$A$18,ÅRSTOT!$A18)+SUMIFS(MALERE!J$7:J$18,MALERE!$A$7:$A$18,ÅRSTOT!$A18)+SUMIFS(TAKTEKKERE!J$7:J$18,TAKTEKKERE!$A$7:$A$18,ÅRSTOT!$A18)","v":2949901},286.66207584587494,7.9513565019537893E-2,8.4084428812467804E-2]
["Oslo",{"$f":"SUMIFS(BETONG!B$7:B$18,BETONG!$A$7:$A$18,ÅRSTOT!$A19)+SUMIFS(TØMRERE!B$7:B$18,TØMRERE!$A$7:$A$18,ÅRSTOT!$A19)+SUMIFS(RØRLEGGERE!B$7:B$18,RØRLEGGERE!$A$7:$A$18,ÅRSTOT!$A19)+SUMIFS(MURERE!B$7:B$18,MURERE!$A$7:$A$18,ÅRSTOT!$A19)+SUMIFS('BLIKK OG VENTILASJON'!B$7:B$18,'BLIKK OG VENTILASJON'!$A$7:$A$18,ÅRSTOT!$A19)+SUMIFS(ISOLATØR!B$7:B$18,ISOLATØR!$A$7:$A$18,ÅRSTOT!$A19)+SUMIFS(MALERE!B$7:B$18,MALERE!$A$7:$A$18,ÅRSTOT!$A19)+SUMIFS(TAKTEKKERE!B$7:B$18,TAKTEKKERE!$A$7:$A$18,ÅRSTOT!$A19)","v":144211257.96000001},{"$f":"SUMIFS(BETONG!C$7:C$18,BETONG!$A$7:$A$18,ÅRSTOT!$A19)+SUMIFS(TØMRERE!C$7:C$18,TØMRERE!$A$7:$A$18,ÅRSTOT!$A19)+SUMIFS(RØRLEGGERE!C$7:C$18,RØRLEGGERE!$A$7:$A$18,ÅRSTOT!$A19)+SUMIFS(MURERE!C$7:C$18,MURERE!$A$7:$A$18,ÅRSTOT!$A19)+SUMIFS('BLIKK OG VENTILASJON'!C$7:C$18,'BLIKK OG VENTILASJON'!$A$7:$A$18,ÅRSTOT!$A19)+SUMIFS(ISOLATØR!C$7:C$18,ISOLATØR!$A$7:$A$18,ÅRSTOT!$A19)+SUMIFS(MALERE!C$7:C$18,MALERE!$A$7:$A$18,ÅRSTOT!$A19)+SUMIFS(TAKTEKKERE!C$7:C$18,TAKTEKKERE!$A$7:$A$18,ÅRSTOT!$A19)","v":1561955.6400000001},{"$f":"SUMIFS(BETONG!D$7:D$18,BETONG!$A$7:$A$18,ÅRSTOT!$A19)+SUMIFS(TØMRERE!D$7:D$18,TØMRERE!$A$7:$A$18,ÅRSTOT!$A19)+SUMIFS(RØRLEGGERE!D$7:D$18,RØRLEGGERE!$A$7:$A$18,ÅRSTOT!$A19)+SUMIFS(MURERE!D$7:D$18,MURERE!$A$7:$A$18,ÅRSTOT!$A19)+SUMIFS('BLIKK OG VENTILASJON'!D$7:D$18,'BLIKK OG VENTILASJON'!$A$7:$A$18,ÅRSTOT!$A19)+SUMIFS(ISOLATØR!D$7:D$18,ISOLATØR!$A$7:$A$18,ÅRSTOT!$A19)+SUMIFS(MALERE!D$7:D$18,MALERE!$A$7:$A$18,ÅRSTOT!$A19)+SUMIFS(TAKTEKKERE!D$7:D$18,TAKTEKKERE!$A$7:$A$18,ÅRSTOT!$A19)","v":416110.5},{"$f":"SUMIFS(BETONG!E$7:E$18,BETONG!$A$7:$A$18,ÅRSTOT!$A19)+SUMIFS(TØMRERE!E$7:E$18,TØMRERE!$A$7:$A$18,ÅRSTOT!$A19)+SUMIFS(RØRLEGGERE!E$7:E$18,RØRLEGGERE!$A$7:$A$18,ÅRSTOT!$A19)+SUMIFS(MURERE!E$7:E$18,MURERE!$A$7:$A$18,ÅRSTOT!$A19)+SUMIFS('BLIKK OG VENTILASJON'!E$7:E$18,'BLIKK OG VENTILASJON'!$A$7:$A$18,ÅRSTOT!$A19)+SUMIFS(ISOLATØR!E$7:E$18,ISOLATØR!$A$7:$A$18,ÅRSTOT!$A19)+SUMIFS(MALERE!E$7:E$18,MALERE!$A$7:$A$18,ÅRSTOT!$A19)+SUMIFS(TAKTEKKERE!E$7:E$18,TAKTEKKERE!$A$7:$A$18,ÅRSTOT!$A19)","v":9005},346.56962023308716,173.45426318711827,342.90260787950569,{"$f":"SUMIFS(BETONG!I$7:I$18,BETONG!$A$7:$A$18,ÅRSTOT!$A19)+SUMIFS(TØMRERE!I$7:I$18,TØMRERE!$A$7:$A$18,ÅRSTOT!$A19)+SUMIFS(RØRLEGGERE!I$7:I$18,RØRLEGGERE!$A$7:$A$18,ÅRSTOT!$A19)+SUMIFS(MURERE!I$7:I$18,MURERE!$A$7:$A$18,ÅRSTOT!$A19)+SUMIFS('BLIKK OG VENTILASJON'!I$7:I$18,'BLIKK OG VENTILASJON'!$A$7:$A$18,ÅRSTOT!$A19)+SUMIFS(ISOLATØR!I$7:I$18,ISOLATØR!$A$7:$A$18,ÅRSTOT!$A19)+SUMIFS(MALERE!I$7:I$18,MALERE!$A$7:$A$18,ÅRSTOT!$A19)+SUMIFS(TAKTEKKERE!I$7:I$18,TAKTEKKERE!$A$7:$A$18,ÅRSTOT!$A19)","v":146003922.09999999},{"$f":"SUMIFS(BETONG!J$7:J$18,BETONG!$A$7:$A$18,ÅRSTOT!$A19)+SUMIFS(TØMRERE!J$7:J$18,TØMRERE!$A$7:$A$18,ÅRSTOT!$A19)+SUMIFS(RØRLEGGERE!J$7:J$18,RØRLEGGERE!$A$7:$A$18,ÅRSTOT!$A19)+SUMIFS(MURERE!J$7:J$18,MURERE!$A$7:$A$18,ÅRSTOT!$A19)+SUMIFS('BLIKK OG VENTILASJON'!J$7:J$18,'BLIKK OG VENTILASJON'!$A$7:$A$18,ÅRSTOT!$A19)+SUMIFS(ISOLATØR!J$7:J$18,ISOLATØR!$A$7:$A$18,ÅRSTOT!$A19)+SUMIFS(MALERE!J$7:J$18,MALERE!$A$7:$A$18,ÅRSTOT!$A19)+SUMIFS(TAKTEKKERE!J$7:J$18,TAKTEKKERE!$A$7:$A$18,ÅRSTOT!$A19)","v":4522933.07},332.0000970426118,-1.2278191669208493E-2,3.2838878464226992E-2]
["Landet i alt",{"$f":"SUM(B7:B19)","v":379033836.19},{"$f":"SUM(C7:C19)","v":13158167.09},{"$f":"SUM(D7:D19)","v":1134248.28},{"$f":"SUM(E7:E19)","v":64219.649999999994},{"$f":"IF(D20=0,0,B20/D20)","v":334.17184127446944},{"$f":"IF(E20=0,0,C20/E20)","v":204.89316104961645},{"$f":"IF(D20+E20=0,0,(B20+C20)/(D20+E20))","v":327.24447059672258},{"$f":"SUM(I7:I19)","v":444655128.75999999},{"$f":"SUM(J7:J19)","v":31709372.579999998},309.79849765710844,{"$f":"IF(I20=0,0,(B20-I20)/I20)","v":-0.14757795047365507},{"$f":"IF(K20=0,0,(H20-K20)/K20)","v":5.6313936547632039E-2}]
[]
[]
[{"$f":"\"MÅLESTATISTIKK FOR ALLE BYGGFAG - 2. HALVÅR \"&FORS!$A$14","v":"MÅLESTATISTIKK FOR ALLE BYGGFAG - 2. HALVÅR 2022"}]
[]
[null,"Målesum i kroner",null,"Timer",null,{"$f":"\"Fortjeneste 2. halvår  \"&FORS!$A$14-0","v":"Fortjeneste 2. halvår  2022"},null,null,{"$f":"\" 2. halvår  \"&FORS!$A$14-1","v":" 2. halvår  2021"},null,null,"Endringer i %"]
[null,"Innmålt m/","Innmålt m/","Innmålt m/","Innmålt m/","Innmålt m/","Innmålt m/","Gjennom-","Innmålt m/","Innmålt m/","Gjen.snitt","Innmålt m/","Gjen.snitt"]
[null,"overskudd","underskudd","overskudd","underskudd","overskudd","underskudd","snitt","overskudd","underskudd","fortjeneste","overskudd","fortjeneste"]
["Agder",{"$f":"SUMIFS(BETONG!B$27:B$38,BETONG!$A$27:$A$38,ÅRSTOT!$A28)+SUMIFS(TØMRERE!B$27:B$38,TØMRERE!$A$27:$A$38,ÅRSTOT!$A28)+SUMIFS(RØRLEGGERE!B$27:B$38,RØRLEGGERE!$A$27:$A$38,ÅRSTOT!$A28)+SUMIFS(MURERE!B$27:B$38,MURERE!$A$27:$A$38,ÅRSTOT!$A28)+SUMIFS('BLIKK OG VENTILASJON'!B$27:B$38,'BLIKK OG VENTILASJON'!$A$27:$A$38,ÅRSTOT!$A28)+SUMIFS(ISOLATØR!B$27:B$38,ISOLATØR!$A$27:$A$38,ÅRSTOT!$A28)+SUMIFS(MALERE!B$27:B$38,MALERE!$A$27:$A$38,ÅRSTOT!$A28)+SUMIFS(TAKTEKKERE!B$27:B$38,TAKTEKKERE!$A$27:$A$38,ÅRSTOT!$A28)","v":3533298},{"$f":"SUMIFS(BETONG!C$27:C$38,BETONG!$A$27:$A$38,ÅRSTOT!$A28)+SUMIFS(TØMRERE!C$27:C$38,TØMRERE!$A$27:$A$38,ÅRSTOT!$A28)+SUMIFS(RØRLEGGERE!C$27:C$38,RØRLEGGERE!$A$27:$A$38,ÅRSTOT!$A28)+SUMIFS(MURERE!C$27:C$38,MURERE!$A$27:$A$38,ÅRSTOT!$A28)+SUMIFS('BLIKK OG VENTILASJON'!C$27:C$38,'BLIKK OG VENTILASJON'!$A$27:$A$38,ÅRSTOT!$A28)+SUMIFS(ISOLATØR!C$27:C$38,ISOLATØR!$A$27:$A$38,ÅRSTOT!$A28)+SUMIFS(MALERE!C$27:C$38,MALERE!$A$27:$A$38,ÅRSTOT!$A28)+SUMIFS(TAKTEKKERE!C$27:C$38,TAKTEKKERE!$A$27:$A$38,ÅRSTOT!$A28)","v":0},{"$f":"SUMIFS(BETONG!D$27:D$38,BETONG!$A$27:$A$38,ÅRSTOT!$A28)+SUMIFS(TØMRERE!D$27:D$38,TØMRERE!$A$27:$A$38,ÅRSTOT!$A28)+SUMIFS(RØRLEGGERE!D$27:D$38,RØRLEGGERE!$A$27:$A$38,ÅRSTOT!$A28)+SUMIFS(MURERE!D$27:D$38,MURERE!$A$27:$A$38,ÅRSTOT!$A28)+SUMIFS('BLIKK OG VENTILASJON'!D$27:D$38,'BLIKK OG VENTILASJON'!$A$27:$A$38,ÅRSTOT!$A28)+SUMIFS(ISOLATØR!D$27:D$38,ISOLATØR!$A$27:$A$38,ÅRSTOT!$A28)+SUMIFS(MALERE!D$27:D$38,MALERE!$A$27:$A$38,ÅRSTOT!$A28)+SUMIFS(TAKTEKKERE!D$27:D$38,TAKTEKKERE!$A$27:$A$38,ÅRSTOT!$A28)","v":10196.5},{"$f":"SUMIFS(BETONG!E$27:E$38,BETONG!$A$27:$A$38,ÅRSTOT!$A28)+SUMIFS(TØMRERE!E$27:E$38,TØMRERE!$A$27:$A$38,ÅRSTOT!$A28)+SUMIFS(RØRLEGGERE!E$27:E$38,RØRLEGGERE!$A$27:$A$38,ÅRSTOT!$A28)+SUMIFS(MURERE!E$27:E$38,MURERE!$A$27:$A$38,ÅRSTOT!$A28)+SUMIFS('BLIKK OG VENTILASJON'!E$27:E$38,'BLIKK OG VENTILASJON'!$A$27:$A$38,ÅRSTOT!$A28)+SUMIFS(ISOLATØR!E$27:E$38,ISOLATØR!$A$27:$A$38,ÅRSTOT!$A28)+SUMIFS(MALERE!E$27:E$38,MALERE!$A$27:$A$38,ÅRSTOT!$A28)+SUMIFS(TAKTEKKERE!E$27:E$38,TAKTEKKERE!$A$27:$A$38,ÅRSTOT!$A28)","v":0},{"$f":"IF(D28=0,0,B28/D28)","v":346.5206688569607},{"$f":"IF(E28=0,0,C28/E28)","v":0},{"$f":"IF(D28+E28=0,0,(B28+C28)/(D28+E28))","v":346.5206688569607},{"$f":"SUMIFS(BETONG!I$27:I$38,BETONG!$A$27:$A$38,ÅRSTOT!$A28)+SUMIFS(TØMRERE!I$27:I$38,TØMRERE!$A$27:$A$38,ÅRSTOT!$A28)+SUMIFS(RØRLEGGERE!I$27:I$38,RØRLEGGERE!$A$27:$A$38,ÅRSTOT!$A28)+SUMIFS(MURERE!I$27:I$38,MURERE!$A$27:$A$38,ÅRSTOT!$A28)+SUMIFS('BLIKK OG VENTILASJON'!I$27:I$38,'BLIKK OG VENTILASJON'!$A$27:$A$38,ÅRSTOT!$A28)+SUMIFS(ISOLATØR!I$27:I$38,ISOLATØR!$A$27:$A$38,ÅRSTOT!$A28)+SUMIFS(MALERE!I$27:I$38,MALERE!$A$27:$A$38,ÅRSTOT!$A28)+SUMIFS(TAKTEKKERE!I$27:I$38,TAKTEKKERE!$A$27:$A$38,ÅRSTOT!$A28)","v":10963288},{"$f":"SUMIFS(BETONG!J$27:J$38,BETONG!$A$27:$A$38,ÅRSTOT!$A28)+SUMIFS(TØMRERE!J$27:J$38,TØMRERE!$A$27:$A$38,ÅRSTOT!$A28)+SUMIFS(RØRLEGGERE!J$27:J$38,RØRLEGGERE!$A$27:$A$38,ÅRSTOT!$A28)+SUMIFS(MURERE!J$27:J$38,MURERE!$A$27:$A$38,ÅRSTOT!$A28)+SUMIFS('BLIKK OG VENTILASJON'!J$27:J$38,'BLIKK OG VENTILASJON'!$A$27:$A$38,ÅRSTOT!$A28)+SUMIFS(ISOLATØR!J$27:J$38,ISOLATØR!$A$27:$A$38,ÅRSTOT!$A28)+SUMIFS(MALERE!J$27:J$38,MALERE!$A$27:$A$38,ÅRSTOT!$A28)+SUMIFS(TAKTEKKERE!J$27:J$38,TAKTEKKERE!$A$27:$A$38,ÅRSTOT!$A28)","v":0},307.84645474222236,{"$f":"IF(I28=0,0,(B28-I28)/I28)","v":-0.67771548097614509},{"$f":"IF(K28=0,0,(H28-K28)/K28)","v":0.12562825889004467}]
["Bergen",{"$f":"SUMIFS(BETONG!B$27:B$38,BETONG!$A$27:$A$38,ÅRSTOT!$A29)+SUMIFS(TØMRERE!B$27:B$38,TØMRERE!$A$27:$A$38,ÅRSTOT!$A29)+SUMIFS(RØRLEGGERE!B$27:B$38,RØRLEGGERE!$A$27:$A$38,ÅRSTOT!$A29)+SUMIFS(MURERE!B$27:B$38,MURERE!$A$27:$A$38,ÅRSTOT!$A29)+SUMIFS('BLIKK OG VENTILASJON'!B$27:B$38,'BLIKK OG VENTILASJON'!$A$27:$A$38,ÅRSTOT!$A29)+SUMIFS(ISOLATØR!B$27:B$38,ISOLATØR!$A$27:$A$38,ÅRSTOT!$A29)+SUMIFS(MALERE!B$27:B$38,MALERE!$A$27:$A$38,ÅRSTOT!$A29)+SUMIFS(TAKTEKKERE!B$27:B$38,TAKTEKKERE!$A$27:$A$38,ÅRSTOT!$A29)","v":24232798.079999998},{"$f":"SUMIFS(BETONG!C$27:C$38,BETONG!$A$27:$A$38,ÅRSTOT!$A29)+SUMIFS(TØMRERE!C$27:C$38,TØMRERE!$A$27:$A$38,ÅRSTOT!$A29)+SUMIFS(RØRLEGGERE!C$27:C$38,RØRLEGGERE!$A$27:$A$38,ÅRSTOT!$A29)+SUMIFS(MURERE!C$27:C$38,MURERE!$A$27:$A$38,ÅRSTOT!$A29)+SUMIFS('BLIKK OG VENTILASJON'!C$27:C$38,'BLIKK OG VENTILASJON'!$A$27:$A$38,ÅRSTOT!$A29)+SUMIFS(ISOLATØR!C$27:C$38,ISOLATØR!$A$27:$A$38,ÅRSTOT!$A29)+SUMIFS(MALERE!C$27:C$38,MALERE!$A$27:$A$38,ÅRSTOT!$A29)+SUMIFS(TAKTEKKERE!C$27:C$38,TAKTEKKERE!$A$27:$A$38,ÅRSTOT!$A29)","v":0},{"$f":"SUMIFS(BETONG!D$27:D$38,BETONG!$A$27:$A$38,ÅRSTOT!$A29)+SUMIFS(TØMRERE!D$27:D$38,TØMRERE!$A$27:$A$38,ÅRSTOT!$A29)+SUMIFS(RØRLEGGERE!D$27:D$38,RØRLEGGERE!$A$27:$A$38,ÅRSTOT!$A29)+SUMIFS(MURERE!D$27:D$38,MURERE!$A$27:$A$38,ÅRSTOT!$A29)+SUMIFS('BLIKK OG VENTILASJON'!D$27:D$38,'BLIKK OG VENTILASJON'!$A$27:$A$38,ÅRSTOT!$A29)+SUMIFS(ISOLATØR!D$27:D$38,ISOLATØR!$A$27:$A$38,ÅRSTOT!$A29)+SUMIFS(MALERE!D$27:D$38,MALERE!$A$27:$A$38,ÅRSTOT!$A29)+SUMIFS(TAKTEKKERE!D$27:D$38,TAKTEKKERE!$A$27:$A$38,ÅRSTOT!$A29)","v":73741.62000000001},{"$f":"SUMIFS(BETONG!E$27:E$38,BETONG!$A$27:$A$38,ÅRSTOT!$A29)+SUMIFS(TØMRERE!E$27:E$38,TØMRERE!$A$27:$A$38,ÅRSTOT!$A29)+SUMIFS(RØRLEGGERE!E$27:E$38,RØRLEGGERE!$A$27:$A$38,ÅRSTOT!$A29)+SUMIFS(MURERE!E$27:E$38,MURERE!$A$27:$A$38,ÅRSTOT!$A29)+SUMIFS('BLIKK OG VENTILASJON'!E$27:E$38,'BLIKK OG VENTILASJON'!$A$27:$A$38,ÅRSTOT!$A29)+SUMIFS(ISOLATØR!E$27:E$38,ISOLATØR!$A$27:$A$38,ÅRSTOT!$A29)+SUMIFS(MALERE!E$27:E$38,MALERE!$A$27:$A$38,ÅRSTOT!$A29)+SUMIFS(TAKTEKKERE!E$27:E$38,TAKTEKKERE!$A$27:$A$38,ÅRSTOT!$A29)","v":0},328.6176528261787,0,328.6176528261787,{"$f":"SUMIFS(BETONG!I$27:I$38,BETONG!$A$27:$A$38,ÅRSTOT!$A29)+SUMIFS(TØMRERE!I$27:I$38,TØMRERE!$A$27:$A$38,ÅRSTOT!$A29)+SUMIFS(RØRLEGGERE!I$27:I$38,RØRLEGGERE!$A$27:$A$38,ÅRSTOT!$A29)+SUMIFS(MURERE!I$27:I$38,MURERE!$A$27:$A$38,ÅRSTOT!$A29)+SUMIFS('BLIKK OG VENTILASJON'!I$27:I$38,'BLIKK OG VENTILASJON'!$A$27:$A$38,ÅRSTOT!$A29)+SUMIFS(ISOLATØR!I$27:I$38,ISOLATØR!$A$27:$A$38,ÅRSTOT!$A29)+SUMIFS(MALERE!I$27:I$38,MALERE!$A$27:$A$38,ÅRSTOT!$A29)+SUMIFS(TAKTEKKERE!I$27:I$38,TAKTEKKERE!$A$27:$A$38,ÅRSTOT!$A29)","v":17703504.129999999},{"$f":"SUMIFS(BETONG!J$27:J$38,BETONG!$A$27:$A$38,ÅRSTOT!$A29)+SUMIFS(TØMRERE!J$27:J$38,TØMRERE!$A$27:$A$38,ÅRSTOT!$A29)+SUMIFS(RØRLEGGERE!J$27:J$38,RØRLEGGERE!$A$27:$A$38,ÅRSTOT!$A29)+SUMIFS(MURERE!J$27:J$38,MURERE!$A$27:$A$38,ÅRSTOT!$A29)+SUMIFS('BLIKK OG VENTILASJON'!J$27:J$38,'BLIKK OG VENTILASJON'!$A$27:$A$38,ÅRSTOT!$A29)+SUMIFS(ISOLATØR!J$27:J$38,ISOLATØR!$A$27:$A$38,ÅRSTOT!$A29)+SUMIFS(MALERE!J$27:J$38,MALERE!$A$27:$A$38,ÅRSTOT!$A29)+SUMIFS(TAKTEKKERE!J$27:J$38,TAKTEKKERE!$A$27:$A$38,ÅRSTOT!$A29)","v":0},287.1070517030924,{"$f":"IF(I29=0,0,(B29-I29)/I29)","v":0.36881364853275517},0.14458231129068153]
["Nordland",{"$f":"SUMIFS(BETONG!B$27:B$38,BETONG!$A$27:$A$38,ÅRSTOT!$A30)+SUMIFS(TØMRERE!B$27:B$38,TØMRERE!$A$27:$A$38,ÅRSTOT!$A30)+SUMIFS(RØRLEGGERE!B$27:B$38,RØRLEGGERE!$A$27:$A$38,ÅRSTOT!$A30)+SUMIFS(MURERE!B$27:B$38,MURERE!$A$27:$A$38,ÅRSTOT!$A30)+SUMIFS('BLIKK OG VENTILASJON'!B$27:B$38,'BLIKK OG VENTILASJON'!$A$27:$A$38,ÅRSTOT!$A30)+SUMIFS(ISOLATØR!B$27:B$38,ISOLATØR!$A$27:$A$38,ÅRSTOT!$A30)+SUMIFS(MALERE!B$27:B$38,MALERE!$A$27:$A$38,ÅRSTOT!$A30)+SUMIFS(TAKTEKKERE!B$27:B$38,TAKTEKKERE!$A$27:$A$38,ÅRSTOT!$A30)","v":0},{"$f":"SUMIFS(BETONG!C$27:C$38,BETONG!$A$27:$A$38,ÅRSTOT!$A30)+SUMIFS(TØMRERE!C$27:C$38,TØMRERE!$A$27:$A$38,ÅRSTOT!$A30)+SUMIFS(RØRLEGGERE!C$27:C$38,RØRLEGGERE!$A$27:$A$38,ÅRSTOT!$A30)+SUMIFS(MURERE!C$27:C$38,MURERE!$A$27:$A$38,ÅRSTOT!$A30)+SUMIFS('BLIKK OG VENTILASJON'!C$27:C$38,'BLIKK OG VENTILASJON'!$A$27:$A$38,ÅRSTOT!$A30)+SUMIFS(ISOLATØR!C$27:C$38,ISOLATØR!$A$27:$A$38,ÅRSTOT!$A30)+SUMIFS(MALERE!C$27:C$38,MALERE!$A$27:$A$38,ÅRSTOT!$A30)+SUMIFS(TAKTEKKERE!C$27:C$38,TAKTEKKERE!$A$27:$A$38,ÅRSTOT!$A30)","v":0},{"$f":"SUMIFS(BETONG!D$27:D$38,BETONG!$A$27:$A$38,ÅRSTOT!$A30)+SUMIFS(TØMRERE!D$27:D$38,TØMRERE!$A$27:$A$38,ÅRSTOT!$A30)+SUMIFS(RØRLEGGERE!D$27:D$38,RØRLEGGERE!$A$27:$A$38,ÅRSTOT!$A30)+SUMIFS(MURERE!D$27:D$38,MURERE!$A$27:$A$38,ÅRSTOT!$A30)+SUMIFS('BLIKK OG VENTILASJON'!D$27:D$38,'BLIKK OG VENTILASJON'!$A$27:$A$38,ÅRSTOT!$A30)+SUMIFS(ISOLATØR!D$27:D$38,ISOLATØR!$A$27:$A$38,ÅRSTOT!$A30)+SUMIFS(MALERE!D$27:D$38,MALERE!$A$27:$A$38,ÅRSTOT!$A30)+SUMIFS(TAKTEKKERE!D$27:D$38,TAKTEKKERE!$A$27:$A$38,ÅRSTOT!$A30)","v":0},{"$f":"SUMIFS(BETONG!E$27:E$38,BETONG!$A$27:$A$38,ÅRSTOT!$A30)+SUMIFS(TØMRERE!E$27:E$38,TØMRERE!$A$27:$A$38,ÅRSTOT!$A30)+SUMIFS(RØRLEGGERE!E$27:E$38,RØRLEGGERE!$A$27:$A$38,ÅRSTOT!$A30)+SUMIFS(MURERE!E$27:E$38,MURERE!$A$27:$A$38,ÅRSTOT!$A30)+SUMIFS('BLIKK OG VENTILASJON'!E$27:E$38,'BLIKK OG VENTILASJON'!$A$27:$A$38,ÅRSTOT!$A30)+SUMIFS(ISOLATØR!E$27:E$38,ISOLATØR!$A$27:$A$38,ÅRSTOT!$A30)+SUMIFS(MALERE!E$27:E$38,MALERE!$A$27:$A$38,ÅRSTOT!$A30)+SUMIFS(TAKTEKKERE!E$27:E$38,TAKTEKKERE!$A$27:$A$38,ÅRSTOT!$A30)","v":0},0,0,0,{"$f":"SUMIFS(BETONG!I$27:I$38,BETONG!$A$27:$A$38,ÅRSTOT!$A30)+SUMIFS(TØMRERE!I$27:I$38,TØMRERE!$A$27:$A$38,ÅRSTOT!$A30)+SUMIFS(RØRLEGGERE!I$27:I$38,RØRLEGGERE!$A$27:$A$38,ÅRSTOT!$A30)+SUMIFS(MURERE!I$27:I$38,MURERE!$A$27:$A$38,ÅRSTOT!$A30)+SUMIFS('BLIKK OG VENTILASJON'!I$27:I$38,'BLIKK OG VENTILASJON'!$A$27:$A$38,ÅRSTOT!$A30)+SUMIFS(ISOLATØR!I$27:I$38,ISOLATØR!$A$27:$A$38,ÅRSTOT!$A30)+SUMIFS(MALERE!I$27:I$38,MALERE!$A$27:$A$38,ÅRSTOT!$A30)+SUMIFS(TAKTEKKERE!I$27:I$38,TAKTEKKERE!$A$27:$A$38,ÅRSTOT!$A30)","v":0},{"$f":"SUMIFS(BETONG!J$27:J$38,BETONG!$A$27:$A$38,ÅRSTOT!$A30)+SUMIFS(TØMRERE!J$27:J$38,TØMRERE!$A$27:$A$38,ÅRSTOT!$A30)+SUMIFS(RØRLEGGERE!J$27:J$38,RØRLEGGERE!$A$27:$A$38,ÅRSTOT!$A30)+SUMIFS(MURERE!J$27:J$38,MURERE!$A$27:$A$38,ÅRSTOT!$A30)+SUMIFS('BLIKK OG VENTILASJON'!J$27:J$38,'BLIKK OG VENTILASJON'!$A$27:$A$38,ÅRSTOT!$A30)+SUMIFS(ISOLATØR!J$27:J$38,ISOLATØR!$A$27:$A$38,ÅRSTOT!$A30)+SUMIFS(MALERE!J$27:J$38,MALERE!$A$27:$A$38,ÅRSTOT!$A30)+SUMIFS(TAKTEKKERE!J$27:J$38,TAKTEKKERE!$A$27:$A$38,ÅRSTOT!$A30)","v":424816.48},201.76512942293991,0,-1]
["Drammen - Bærum",{"$f":"SUMIFS(BETONG!B$27:B$38,BETONG!$A$27:$A$38,ÅRSTOT!$A31)+SUMIFS(TØMRERE!B$27:B$38,TØMRERE!$A$27:$A$38,ÅRSTOT!$A31)+SUMIFS(RØRLEGGERE!B$27:B$38,RØRLEGGERE!$A$27:$A$38,ÅRSTOT!$A31)+SUMIFS(MURERE!B$27:B$38,MURERE!$A$27:$A$38,ÅRSTOT!$A31)+SUMIFS('BLIKK OG VENTILASJON'!B$27:B$38,'BLIKK OG VENTILASJON'!$A$27:$A$38,ÅRSTOT!$A31)+SUMIFS(ISOLATØR!B$27:B$38,ISOLATØR!$A$27:$A$38,ÅRSTOT!$A31)+SUMIFS(MALERE!B$27:B$38,MALERE!$A$27:$A$38,ÅRSTOT!$A31)+SUMIFS(TAKTEKKERE!B$27:B$38,TAKTEKKERE!$A$27:$A$38,ÅRSTOT!$A31)","v":0},{"$f":"SUMIFS(BETONG!C$27:C$38,BETONG!$A$27:$A$38,ÅRSTOT!$A31)+SUMIFS(TØMRERE!C$27:C$38,TØMRERE!$A$27:$A$38,ÅRSTOT!$A31)+SUMIFS(RØRLEGGERE!C$27:C$38,RØRLEGGERE!$A$27:$A$38,ÅRSTOT!$A31)+SUMIFS(MURERE!C$27:C$38,MURERE!$A$27:$A$38,ÅRSTOT!$A31)+SUMIFS('BLIKK OG VENTILASJON'!C$27:C$38,'BLIKK OG VENTILASJON'!$A$27:$A$38,ÅRSTOT!$A31)+SUMIFS(ISOLATØR!C$27:C$38,ISOLATØR!$A$27:$A$38,ÅRSTOT!$A31)+SUMIFS(MALERE!C$27:C$38,MALERE!$A$27:$A$38,ÅRSTOT!$A31)+SUMIFS(TAKTEKKERE!C$27:C$38,TAKTEKKERE!$A$27:$A$38,ÅRSTOT!$A31)","v":0},{"$f":"SUMIFS(BETONG!D$27:D$38,BETONG!$A$27:$A$38,ÅRSTOT!$A31)+SUMIFS(TØMRERE!D$27:D$38,TØMRERE!$A$27:$A$38,ÅRSTOT!$A31)+SUMIFS(RØRLEGGERE!D$27:D$38,RØRLEGGERE!$A$27:$A$38,ÅRSTOT!$A31)+SUMIFS(MURERE!D$27:D$38,MURERE!$A$27:$A$38,ÅRSTOT!$A31)+SUMIFS('BLIKK OG VENTILASJON'!D$27:D$38,'BLIKK OG VENTILASJON'!$A$27:$A$38,ÅRSTOT!$A31)+SUMIFS(ISOLATØR!D$27:D$38,ISOLATØR!$A$27:$A$38,ÅRSTOT!$A31)+SUMIFS(MALERE!D$27:D$38,MALERE!$A$27:$A$38,ÅRSTOT!$A31)+SUMIFS(TAKTEKKERE!D$27:D$38,TAKTEKKERE!$A$27:$A$38,ÅRSTOT!$A31)","v":0},{"$f":"SUMIFS(BETONG!E$27:E$38,BETONG!$A$27:$A$38,ÅRSTOT!$A31)+SUMIFS(TØMRERE!E$27:E$38,TØMRERE!$A$27:$A$38,ÅRSTOT!$A31)+SUMIFS(RØRLEGGERE!E$27:E$38,RØRLEGGERE!$A$27:$A$38,ÅRSTOT!$A31)+SUMIFS(MURERE!E$27:E$38,MURERE!$A$27:$A$38,ÅRSTOT!$A31)+SUMIFS('BLIKK OG VENTILASJON'!E$27:E$38,'BLIKK OG VENTILASJON'!$A$27:$A$38,ÅRSTOT!$A31)+SUMIFS(ISOLATØR!E$27:E$38,ISOLATØR!$A$27:$A$38,ÅRSTOT!$A31)+SUMIFS(MALERE!E$27:E$38,MALERE!$A$27:$A$38,ÅRSTOT!$A31)+SUMIFS(TAKTEKKERE!E$27:E$38,TAKTEKKERE!$A$27:$A$38,ÅRSTOT!$A31)","v":0},0,0,0,{"$f":"SUMIFS(BETONG!I$27:I$38,BETONG!$A$27:$A$38,ÅRSTOT!$A31)+SUMIFS(TØMRERE!I$27:I$38,TØMRERE!$A$27:$A$38,ÅRSTOT!$A31)+SUMIFS(RØRLEGGERE!I$27:I$38,RØRLEGGERE!$A$27:$A$38,ÅRSTOT!$A31)+SUMIFS(MURERE!I$27:I$38,MURERE!$A$27:$A$38,ÅRSTOT!$A31)+SUMIFS('BLIKK OG VENTILASJON'!I$27:I$38,'BLIKK OG VENTILASJON'!$A$27:$A$38,ÅRSTOT!$A31)+SUMIFS(ISOLATØR!I$27:I$38,ISOLATØR!$A$27:$A$38,ÅRSTOT!$A31)+SUMIFS(MALERE!I$27:I$38,MALERE!$A$27:$A$38,ÅRSTOT!$A31)+SUMIFS(TAKTEKKERE!I$27:I$38,TAKTEKKERE!$A$27:$A$38,ÅRSTOT!$A31)","v":0},{"$f":"SUMIFS(BETONG!J$27:J$38,BETONG!$A$27:$A$38,ÅRSTOT!$A31)+SUMIFS(TØMRERE!J$27:J$38,TØMRERE!$A$27:$A$38,ÅRSTOT!$A31)+SUMIFS(RØRLEGGERE!J$27:J$38,RØRLEGGERE!$A$27:$A$38,ÅRSTOT!$A31)+SUMIFS(MURERE!J$27:J$38,MURERE!$A$27:$A$38,ÅRSTOT!$A31)+SUMIFS('BLIKK OG VENTILASJON'!J$27:J$38,'BLIKK OG VENTILASJON'!$A$27:$A$38,ÅRSTOT!$A31)+SUMIFS(ISOLATØR!J$27:J$38,ISOLATØR!$A$27:$A$38,ÅRSTOT!$A31)+SUMIFS(MALERE!J$27:J$38,MALERE!$A$27:$A$38,ÅRSTOT!$A31)+SUMIFS(TAKTEKKERE!J$27:J$38,TAKTEKKERE!$A$27:$A$38,ÅRSTOT!$A31)","v":0},0,0,0]
["Haugesund",{"$f":"SUMIFS(BETONG!B$27:B$38,BETONG!$A$27:$A$38,ÅRSTOT!$A32)+SUMIFS(TØMRERE!B$27:B$38,TØMRERE!$A$27:$A$38,ÅRSTOT!$A32)+SUMIFS(RØRLEGGERE!B$27:B$38,RØRLEGGERE!$A$27:$A$38,ÅRSTOT!$A32)+SUMIFS(MURERE!B$27:B$38,MURERE!$A$27:$A$38,ÅRSTOT!$A32)+SUMIFS('BLIKK OG VENTILASJON'!B$27:B$38,'BLIKK OG VENTILASJON'!$A$27:$A$38,ÅRSTOT!$A32)+SUMIFS(ISOLATØR!B$27:B$38,ISOLATØR!$A$27:$A$38,ÅRSTOT!$A32)+SUMIFS(MALERE!B$27:B$38,MALERE!$A$27:$A$38,ÅRSTOT!$A32)+SUMIFS(TAKTEKKERE!B$27:B$38,TAKTEKKERE!$A$27:$A$38,ÅRSTOT!$A32)","v":0},{"$f":"SUMIFS(BETONG!C$27:C$38,BETONG!$A$27:$A$38,ÅRSTOT!$A32)+SUMIFS(TØMRERE!C$27:C$38,TØMRERE!$A$27:$A$38,ÅRSTOT!$A32)+SUMIFS(RØRLEGGERE!C$27:C$38,RØRLEGGERE!$A$27:$A$38,ÅRSTOT!$A32)+SUMIFS(MURERE!C$27:C$38,MURERE!$A$27:$A$38,ÅRSTOT!$A32)+SUMIFS('BLIKK OG VENTILASJON'!C$27:C$38,'BLIKK OG VENTILASJON'!$A$27:$A$38,ÅRSTOT!$A32)+SUMIFS(ISOLATØR!C$27:C$38,ISOLATØR!$A$27:$A$38,ÅRSTOT!$A32)+SUMIFS(MALERE!C$27:C$38,MALERE!$A$27:$A$38,ÅRSTOT!$A32)+SUMIFS(TAKTEKKERE!C$27:C$38,TAKTEKKERE!$A$27:$A$38,ÅRSTOT!$A32)","v":0},{"$f":"SUMIFS(BETONG!D$27:D$38,BETONG!$A$27:$A$38,ÅRSTOT!$A32)+SUMIFS(TØMRERE!D$27:D$38,TØMRERE!$A$27:$A$38,ÅRSTOT!$A32)+SUMIFS(RØRLEGGERE!D$27:D$38,RØRLEGGERE!$A$27:$A$38,ÅRSTOT!$A32)+SUMIFS(MURERE!D$27:D$38,MURERE!$A$27:$A$38,ÅRSTOT!$A32)+SUMIFS('BLIKK OG VENTILASJON'!D$27:D$38,'BLIKK OG VENTILASJON'!$A$27:$A$38,ÅRSTOT!$A32)+SUMIFS(ISOLATØR!D$27:D$38,ISOLATØR!$A$27:$A$38,ÅRSTOT!$A32)+SUMIFS(MALERE!D$27:D$38,MALERE!$A$27:$A$38,ÅRSTOT!$A32)+SUMIFS(TAKTEKKERE!D$27:D$38,TAKTEKKERE!$A$27:$A$38,ÅRSTOT!$A32)","v":0},{"$f":"SUMIFS(BETONG!E$27:E$38,BETONG!$A$27:$A$38,ÅRSTOT!$A32)+SUMIFS(TØMRERE!E$27:E$38,TØMRERE!$A$27:$A$38,ÅRSTOT!$A32)+SUMIFS(RØRLEGGERE!E$27:E$38,RØRLEGGERE!$A$27:$A$38,ÅRSTOT!$A32)+SUMIFS(MURERE!E$27:E$38,MURERE!$A$27:$A$38,ÅRSTOT!$A32)+SUMIFS('BLIKK OG VENTILASJON'!E$27:E$38,'BLIKK OG VENTILASJON'!$A$27:$A$38,ÅRSTOT!$A32)+SUMIFS(ISOLATØR!E$27:E$38,ISOLATØR!$A$27:$A$38,ÅRSTOT!$A32)+SUMIFS(MALERE!E$27:E$38,MALERE!$A$27:$A$38,ÅRSTOT!$A32)+SUMIFS(TAKTEKKERE!E$27:E$38,TAKTEKKERE!$A$27:$A$38,ÅRSTOT!$A32)","v":0},0,0,0,{"$f":"SUMIFS(BETONG!I$27:I$38,BETONG!$A$27:$A$38,ÅRSTOT!$A32)+SUMIFS(TØMRERE!I$27:I$38,TØMRERE!$A$27:$A$38,ÅRSTOT!$A32)+SUMIFS(RØRLEGGERE!I$27:I$38,RØRLEGGERE!$A$27:$A$38,ÅRSTOT!$A32)+SUMIFS(MURERE!I$27:I$38,MURERE!$A$27:$A$38,ÅRSTOT!$A32)+SUMIFS('BLIKK OG VENTILASJON'!I$27:I$38,'BLIKK OG VENTILASJON'!$A$27:$A$38,ÅRSTOT!$A32)+SUMIFS(ISOLATØR!I$27:I$38,ISOLATØR!$A$27:$A$38,ÅRSTOT!$A32)+SUMIFS(MALERE!I$27:I$38,MALERE!$A$27:$A$38,ÅRSTOT!$A32)+SUMIFS(TAKTEKKERE!I$27:I$38,TAKTEKKERE!$A$27:$A$38,ÅRSTOT!$A32)","v":4682448},{"$f":"SUMIFS(BETONG!J$27:J$38,BETONG!$A$27:$A$38,ÅRSTOT!$A32)+SUMIFS(TØMRERE!J$27:J$38,TØMRERE!$A$27:$A$38,ÅRSTOT!$A32)+SUMIFS(RØRLEGGERE!J$27:J$38,RØRLEGGERE!$A$27:$A$38,ÅRSTOT!$A32)+SUMIFS(MURERE!J$27:J$38,MURERE!$A$27:$A$38,ÅRSTOT!$A32)+SUMIFS('BLIKK OG VENTILASJON'!J$27:J$38,'BLIKK OG VENTILASJON'!$A$27:$A$38,ÅRSTOT!$A32)+SUMIFS(ISOLATØR!J$27:J$38,ISOLATØR!$A$27:$A$38,ÅRSTOT!$A32)+SUMIFS(MALERE!J$27:J$38,MALERE!$A$27:$A$38,ÅRSTOT!$A32)+SUMIFS(TAKTEKKERE!J$27:J$38,TAKTEKKERE!$A$27:$A$38,ÅRSTOT!$A32)","v":0},280.68047776694692,-1,-1]
["Hamar og Omegn",{"$f":"SUMIFS(BETONG!B$27:B$38,BETONG!$A$27:$A$38,ÅRSTOT!$A33)+SUMIFS(TØMRERE!B$27:B$38,TØMRERE!$A$27:$A$38,ÅRSTOT!$A33)+SUMIFS(RØRLEGGERE!B$27:B$38,RØRLEGGERE!$A$27:$A$38,ÅRSTOT!$A33)+SUMIFS(MURERE!B$27:B$38,MURERE!$A$27:$A$38,ÅRSTOT!$A33)+SUMIFS('BLIKK OG VENTILASJON'!B$27:B$38,'BLIKK OG VENTILASJON'!$A$27:$A$38,ÅRSTOT!$A33)+SUMIFS(ISOLATØR!B$27:B$38,ISOLATØR!$A$27:$A$38,ÅRSTOT!$A33)+SUMIFS(MALERE!B$27:B$38,MALERE!$A$27:$A$38,ÅRSTOT!$A33)+SUMIFS(TAKTEKKERE!B$27:B$38,TAKTEKKERE!$A$27:$A$38,ÅRSTOT!$A33)","v":17314358.700000003},{"$f":"SUMIFS(BETONG!C$27:C$38,BETONG!$A$27:$A$38,ÅRSTOT!$A33)+SUMIFS(TØMRERE!C$27:C$38,TØMRERE!$A$27:$A$38,ÅRSTOT!$A33)+SUMIFS(RØRLEGGERE!C$27:C$38,RØRLEGGERE!$A$27:$A$38,ÅRSTOT!$A33)+SUMIFS(MURERE!C$27:C$38,MURERE!$A$27:$A$38,ÅRSTOT!$A33)+SUMIFS('BLIKK OG VENTILASJON'!C$27:C$38,'BLIKK OG VENTILASJON'!$A$27:$A$38,ÅRSTOT!$A33)+SUMIFS(ISOLATØR!C$27:C$38,ISOLATØR!$A$27:$A$38,ÅRSTOT!$A33)+SUMIFS(MALERE!C$27:C$38,MALERE!$A$27:$A$38,ÅRSTOT!$A33)+SUMIFS(TAKTEKKERE!C$27:C$38,TAKTEKKERE!$A$27:$A$38,ÅRSTOT!$A33)","v":2685511.97},{"$f":"SUMIFS(BETONG!D$27:D$38,BETONG!$A$27:$A$38,ÅRSTOT!$A33)+SUMIFS(TØMRERE!D$27:D$38,TØMRERE!$A$27:$A$38,ÅRSTOT!$A33)+SUMIFS(RØRLEGGERE!D$27:D$38,RØRLEGGERE!$A$27:$A$38,ÅRSTOT!$A33)+SUMIFS(MURERE!D$27:D$38,MURERE!$A$27:$A$38,ÅRSTOT!$A33)+SUMIFS('BLIKK OG VENTILASJON'!D$27:D$38,'BLIKK OG VENTILASJON'!$A$27:$A$38,ÅRSTOT!$A33)+SUMIFS(ISOLATØR!D$27:D$38,ISOLATØR!$A$27:$A$38,ÅRSTOT!$A33)+SUMIFS(MALERE!D$27:D$38,MALERE!$A$27:$A$38,ÅRSTOT!$A33)+SUMIFS(TAKTEKKERE!D$27:D$38,TAKTEKKERE!$A$27:$A$38,ÅRSTOT!$A33)","v":55568.639999999992},{"$f":"SUMIFS(BETONG!E$27:E$38,BETONG!$A$27:$A$38,ÅRSTOT!$A33)+SUMIFS(TØMRERE!E$27:E$38,TØMRERE!$A$27:$A$38,ÅRSTOT!$A33)+SUMIFS(RØRLEGGERE!E$27:E$38,RØRLEGGERE!$A$27:$A$38,ÅRSTOT!$A33)+SUMIFS(MURERE!E$27:E$38,MURERE!$A$27:$A$38,ÅRSTOT!$A33)+SUMIFS('BLIKK OG VENTILASJON'!E$27:E$38,'BLIKK OG VENTILASJON'!$A$27:$A$38,ÅRSTOT!$A33)+SUMIFS(ISOLATØR!E$27:E$38,ISOLATØR!$A$27:$A$38,ÅRSTOT!$A33)+SUMIFS(MALERE!E$27:E$38,MALERE!$A$27:$A$38,ÅRSTOT!$A33)+SUMIFS(TAKTEKKERE!E$27:E$38,TAKTEKKERE!$A$27:$A$38,ÅRSTOT!$A33)","v":12797},311.58507208382292,209.85480737672893,292.54272570256063,{"$f":"SUMIFS(BETONG!I$27:I$38,BETONG!$A$27:$A$38,ÅRSTOT!$A33)+SUMIFS(TØMRERE!I$27:I$38,TØMRERE!$A$27:$A$38,ÅRSTOT!$A33)+SUMIFS(RØRLEGGERE!I$27:I$38,RØRLEGGERE!$A$27:$A$38,ÅRSTOT!$A33)+SUMIFS(MURERE!I$27:I$38,MURERE!$A$27:$A$38,ÅRSTOT!$A33)+SUMIFS('BLIKK OG VENTILASJON'!I$27:I$38,'BLIKK OG VENTILASJON'!$A$27:$A$38,ÅRSTOT!$A33)+SUMIFS(ISOLATØR!I$27:I$38,ISOLATØR!$A$27:$A$38,ÅRSTOT!$A33)+SUMIFS(MALERE!I$27:I$38,MALERE!$A$27:$A$38,ÅRSTOT!$A33)+SUMIFS(TAKTEKKERE!I$27:I$38,TAKTEKKERE!$A$27:$A$38,ÅRSTOT!$A33)","v":13660961},{"$f":"SUMIFS(BETONG!J$27:J$38,BETONG!$A$27:$A$38,ÅRSTOT!$A33)+SUMIFS(TØMRERE!J$27:J$38,TØMRERE!$A$27:$A$38,ÅRSTOT!$A33)+SUMIFS(RØRLEGGERE!J$27:J$38,RØRLEGGERE!$A$27:$A$38,ÅRSTOT!$A33)+SUMIFS(MURERE!J$27:J$38,MURERE!$A$27:$A$38,ÅRSTOT!$A33)+SUMIFS('BLIKK OG VENTILASJON'!J$27:J$38,'BLIKK OG VENTILASJON'!$A$27:$A$38,ÅRSTOT!$A33)+SUMIFS(ISOLATØR!J$27:J$38,ISOLATØR!$A$27:$A$38,ÅRSTOT!$A33)+SUMIFS(MALERE!J$27:J$38,MALERE!$A$27:$A$38,ÅRSTOT!$A33)+SUMIFS(TAKTEKKERE!J$27:J$38,TAKTEKKERE!$A$27:$A$38,ÅRSTOT!$A33)","v":1530936},303.29793557461346,0.26743343312377532,-3.5460873980815384E-2]
["Sandnes",{"$f":"SUMIFS(BETONG!B$27:B$38,BETONG!$A$27:$A$38,ÅRSTOT!$A34)+SUMIFS(TØMRERE!B$27:B$38,TØMRERE!$A$27:$A$38,ÅRSTOT!$A34)+SUMIFS(RØRLEGGERE!B$27:B$38,RØRLEGGERE!$A$27:$A$38,ÅRSTOT!$A34)+SUMIFS(MURERE!B$27:B$38,MURERE!$A$27:$A$38,ÅRSTOT!$A34)+SUMIFS('BLIKK OG VENTILASJON'!B$27:B$38,'BLIKK OG VENTILASJON'!$A$27:$A$38,ÅRSTOT!$A34)+SUMIFS(ISOLATØR!B$27:B$38,ISOLATØR!$A$27:$A$38,ÅRSTOT!$A34)+SUMIFS(MALERE!B$27:B$38,MALERE!$A$27:$A$38,ÅRSTOT!$A34)+SUMIFS(TAKTEKKERE!B$27:B$38,TAKTEKKERE!$A$27:$A$38,ÅRSTOT!$A34)","v":11925224.390000001},{"$f":"SUMIFS(BETONG!C$27:C$38,BETONG!$A$27:$A$38,ÅRSTOT!$A34)+SUMIFS(TØMRERE!C$27:C$38,TØMRERE!$A$27:$A$38,ÅRSTOT!$A34)+SUMIFS(RØRLEGGERE!C$27:C$38,RØRLEGGERE!$A$27:$A$38,ÅRSTOT!$A34)+SUMIFS(MURERE!C$27:C$38,MURERE!$A$27:$A$38,ÅRSTOT!$A34)+SUMIFS('BLIKK OG VENTILASJON'!C$27:C$38,'BLIKK OG VENTILASJON'!$A$27:$A$38,ÅRSTOT!$A34)+SUMIFS(ISOLATØR!C$27:C$38,ISOLATØR!$A$27:$A$38,ÅRSTOT!$A34)+SUMIFS(MALERE!C$27:C$38,MALERE!$A$27:$A$38,ÅRSTOT!$A34)+SUMIFS(TAKTEKKERE!C$27:C$38,TAKTEKKERE!$A$27:$A$38,ÅRSTOT!$A34)","v":0},{"$f":"SUMIFS(BETONG!D$27:D$38,BETONG!$A$27:$A$38,ÅRSTOT!$A34)+SUMIFS(TØMRERE!D$27:D$38,TØMRERE!$A$27:$A$38,ÅRSTOT!$A34)+SUMIFS(RØRLEGGERE!D$27:D$38,RØRLEGGERE!$A$27:$A$38,ÅRSTOT!$A34)+SUMIFS(MURERE!D$27:D$38,MURERE!$A$27:$A$38,ÅRSTOT!$A34)+SUMIFS('BLIKK OG VENTILASJON'!D$27:D$38,'BLIKK OG VENTILASJON'!$A$27:$A$38,ÅRSTOT!$A34)+SUMIFS(ISOLATØR!D$27:D$38,ISOLATØR!$A$27:$A$38,ÅRSTOT!$A34)+SUMIFS(MALERE!D$27:D$38,MALERE!$A$27:$A$38,ÅRSTOT!$A34)+SUMIFS(TAKTEKKERE!D$27:D$38,TAKTEKKERE!$A$27:$A$38,ÅRSTOT!$A34)","v":34282.480000000003},{"$f":"SUMIFS(BETONG!E$27:E$38,BETONG!$A$27:$A$38,ÅRSTOT!$A34)+SUMIFS(TØMRERE!E$27:E$38,TØMRERE!$A$27:$A$38,ÅRSTOT!$A34)+SUMIFS(RØRLEGGERE!E$27:E$38,RØRLEGGERE!$A$27:$A$38,ÅRSTOT!$A34)+SUMIFS(MURERE!E$27:E$38,MURERE!$A$27:$A$38,ÅRSTOT!$A34)+SUMIFS('BLIKK OG VENTILASJON'!E$27:E$38,'BLIKK OG VENTILASJON'!$A$27:$A$38,ÅRSTOT!$A34)+SUMIFS(ISOLATØR!E$27:E$38,ISOLATØR!$A$27:$A$38,ÅRSTOT!$A34)+SUMIFS(MALERE!E$27:E$38,MALERE!$A$27:$A$38,ÅRSTOT!$A34)+SUMIFS(TAKTEKKERE!E$27:E$38,TAKTEKKERE!$A$27:$A$38,ÅRSTOT!$A34)","v":0},347.85185873367385,0,347.85185873367385,{"$f":"SUMIFS(BETONG!I$27:I$38,BETONG!$A$27:$A$38,ÅRSTOT!$A34)+SUMIFS(TØMRERE!I$27:I$38,TØMRERE!$A$27:$A$38,ÅRSTOT!$A34)+SUMIFS(RØRLEGGERE!I$27:I$38,RØRLEGGERE!$A$27:$A$38,ÅRSTOT!$A34)+SUMIFS(MURERE!I$27:I$38,MURERE!$A$27:$A$38,ÅRSTOT!$A34)+SUMIFS('BLIKK OG VENTILASJON'!I$27:I$38,'BLIKK OG VENTILASJON'!$A$27:$A$38,ÅRSTOT!$A34)+SUMIFS(ISOLATØR!I$27:I$38,ISOLATØR!$A$27:$A$38,ÅRSTOT!$A34)+SUMIFS(MALERE!I$27:I$38,MALERE!$A$27:$A$38,ÅRSTOT!$A34)+SUMIFS(TAKTEKKERE!I$27:I$38,TAKTEKKERE!$A$27:$A$38,ÅRSTOT!$A34)","v":22178853.210000001},{"$f":"SUMIFS(BETONG!J$27:J$38,BETONG!$A$27:$A$38,ÅRSTOT!$A34)+SUMIFS(TØMRERE!J$27:J$38,TØMRERE!$A$27:$A$38,ÅRSTOT!$A34)+SUMIFS(RØRLEGGERE!J$27:J$38,RØRLEGGERE!$A$27:$A$38,ÅRSTOT!$A34)+SUMIFS(MURERE!J$27:J$38,MURERE!$A$27:$A$38,ÅRSTOT!$A34)+SUMIFS('BLIKK OG VENTILASJON'!J$27:J$38,'BLIKK OG VENTILASJON'!$A$27:$A$38,ÅRSTOT!$A34)+SUMIFS(ISOLATØR!J$27:J$38,ISOLATØR!$A$27:$A$38,ÅRSTOT!$A34)+SUMIFS(MALERE!J$27:J$38,MALERE!$A$27:$A$38,ÅRSTOT!$A34)+SUMIFS(TAKTEKKERE!J$27:J$38,TAKTEKKERE!$A$27:$A$38,ÅRSTOT!$A34)","v":0},328.21235198049305,-0.46231555450201745,5.9837805112063699E-2]
["Stavanger",{"$f":"SUMIFS(BETONG!B$27:B$38,BETONG!$A$27:$A$38,ÅRSTOT!$A35)+SUMIFS(TØMRERE!B$27:B$38,TØMRERE!$A$27:$A$38,ÅRSTOT!$A35)+SUMIFS(RØRLEGGERE!B$27:B$38,RØRLEGGERE!$A$27:$A$38,ÅRSTOT!$A35)+SUMIFS(MURERE!B$27:B$38,MURERE!$A$27:$A$38,ÅRSTOT!$A35)+SUMIFS('BLIKK OG VENTILASJON'!B$27:B$38,'BLIKK OG VENTILASJON'!$A$27:$A$38,ÅRSTOT!$A35)+SUMIFS(ISOLATØR!B$27:B$38,ISOLATØR!$A$27:$A$38,ÅRSTOT!$A35)+SUMIFS(MALERE!B$27:B$38,MALERE!$A$27:$A$38,ÅRSTOT!$A35)+SUMIFS(TAKTEKKERE!B$27:B$38,TAKTEKKERE!$A$27:$A$38,ÅRSTOT!$A35)","v":6718988.3800000008},{"$f":"SUMIFS(BETONG!C$27:C$38,BETONG!$A$27:$A$38,ÅRSTOT!$A35)+SUMIFS(TØMRERE!C$27:C$38,TØMRERE!$A$27:$A$38,ÅRSTOT!$A35)+SUMIFS(RØRLEGGERE!C$27:C$38,RØRLEGGERE!$A$27:$A$38,ÅRSTOT!$A35)+SUMIFS(MURERE!C$27:C$38,MURERE!$A$27:$A$38,ÅRSTOT!$A35)+SUMIFS('BLIKK OG VENTILASJON'!C$27:C$38,'BLIKK OG VENTILASJON'!$A$27:$A$38,ÅRSTOT!$A35)+SUMIFS(ISOLATØR!C$27:C$38,ISOLATØR!$A$27:$A$38,ÅRSTOT!$A35)+SUMIFS(MALERE!C$27:C$38,MALERE!$A$27:$A$38,ÅRSTOT!$A35)+SUMIFS(TAKTEKKERE!C$27:C$38,TAKTEKKERE!$A$27:$A$38,ÅRSTOT!$A35)","v":0},{"$f":"SUMIFS(BETONG!D$27:D$38,BETONG!$A$27:$A$38,ÅRSTOT!$A35)+SUMIFS(TØMRERE!D$27:D$38,TØMRERE!$A$27:$A$38,ÅRSTOT!$A35)+SUMIFS(RØRLEGGERE!D$27:D$38,RØRLEGGERE!$A$27:$A$38,ÅRSTOT!$A35)+SUMIFS(MURERE!D$27:D$38,MURERE!$A$27:$A$38,ÅRSTOT!$A35)+SUMIFS('BLIKK OG VENTILASJON'!D$27:D$38,'BLIKK OG VENTILASJON'!$A$27:$A$38,ÅRSTOT!$A35)+SUMIFS(ISOLATØR!D$27:D$38,ISOLATØR!$A$27:$A$38,ÅRSTOT!$A35)+SUMIFS(MALERE!D$27:D$38,MALERE!$A$27:$A$38,ÅRSTOT!$A35)+SUMIFS(TAKTEKKERE!D$27:D$38,TAKTEKKERE!$A$27:$A$38,ÅRSTOT!$A35)","v":20286},{"$f":"SUMIFS(BETONG!E$27:E$38,BETONG!$A$27:$A$38,ÅRSTOT!$A35)+SUMIFS(TØMRERE!E$27:E$38,TØMRERE!$A$27:$A$38,ÅRSTOT!$A35)+SUMIFS(RØRLEGGERE!E$27:E$38,RØRLEGGERE!$A$27:$A$38,ÅRSTOT!$A35)+SUMIFS(MURERE!E$27:E$38,MURERE!$A$27:$A$38,ÅRSTOT!$A35)+SUMIFS('BLIKK OG VENTILASJON'!E$27:E$38,'BLIKK OG VENTILASJON'!$A$27:$A$38,ÅRSTOT!$A35)+SUMIFS(ISOLATØR!E$27:E$38,ISOLATØR!$A$27:$A$38,ÅRSTOT!$A35)+SUMIFS(MALERE!E$27:E$38,MALERE!$A$27:$A$38,ÅRSTOT!$A35)+SUMIFS(TAKTEKKERE!E$27:E$38,TAKTEKKERE!$A$27:$A$38,ÅRSTOT!$A35)","v":0},331.21307206940753,0,331.21307206940753,{"$f":"SUMIFS(BETONG!I$27:I$38,BETONG!$A$27:$A$38,ÅRSTOT!$A35)+SUMIFS(TØMRERE!I$27:I$38,TØMRERE!$A$27:$A$38,ÅRSTOT!$A35)+SUMIFS(RØRLEGGERE!I$27:I$38,RØRLEGGERE!$A$27:$A$38,ÅRSTOT!$A35)+SUMIFS(MURERE!I$27:I$38,MURERE!$A$27:$A$38,ÅRSTOT!$A35)+SUMIFS('BLIKK OG VENTILASJON'!I$27:I$38,'BLIKK OG VENTILASJON'!$A$27:$A$38,ÅRSTOT!$A35)+SUMIFS(ISOLATØR!I$27:I$38,ISOLATØR!$A$27:$A$38,ÅRSTOT!$A35)+SUMIFS(MALERE!I$27:I$38,MALERE!$A$27:$A$38,ÅRSTOT!$A35)+SUMIFS(TAKTEKKERE!I$27:I$38,TAKTEKKERE!$A$27:$A$38,ÅRSTOT!$A35)","v":4049422.4},{"$f":"SUMIFS(BETONG!J$27:J$38,BETONG!$A$27:$A$38,ÅRSTOT!$A35)+SUMIFS(TØMRERE!J$27:J$38,TØMRERE!$A$27:$A$38,ÅRSTOT!$A35)+SUMIFS(RØRLEGGERE!J$27:J$38,RØRLEGGERE!$A$27:$A$38,ÅRSTOT!$A35)+SUMIFS(MURERE!J$27:J$38,MURERE!$A$27:$A$38,ÅRSTOT!$A35)+SUMIFS('BLIKK OG VENTILASJON'!J$27:J$38,'BLIKK OG VENTILASJON'!$A$27:$A$38,ÅRSTOT!$A35)+SUMIFS(ISOLATØR!J$27:J$38,ISOLATØR!$A$27:$A$38,ÅRSTOT!$A35)+SUMIFS(MALERE!J$27:J$38,MALERE!$A$27:$A$38,ÅRSTOT!$A35)+SUMIFS(TAKTEKKERE!J$27:J$38,TAKTEKKERE!$A$27:$A$38,ÅRSTOT!$A35)","v":0},311.42445868033309,0.65924611371735409,6.3542258282888439E-2]
["Telemark",{"$f":"SUMIFS(BETONG!B$27:B$38,BETONG!$A$27:$A$38,ÅRSTOT!$A36)+SUMIFS(TØMRERE!B$27:B$38,TØMRERE!$A$27:$A$38,ÅRSTOT!$A36)+SUMIFS(RØRLEGGERE!B$27:B$38,RØRLEGGERE!$A$27:$A$38,ÅRSTOT!$A36)+SUMIFS(MURERE!B$27:B$38,MURERE!$A$27:$A$38,ÅRSTOT!$A36)+SUMIFS('BLIKK OG VENTILASJON'!B$27:B$38,'BLIKK OG VENTILASJON'!$A$27:$A$38,ÅRSTOT!$A36)+SUMIFS(ISOLATØR!B$27:B$38,ISOLATØR!$A$27:$A$38,ÅRSTOT!$A36)+SUMIFS(MALERE!B$27:B$38,MALERE!$A$27:$A$38,ÅRSTOT!$A36)+SUMIFS(TAKTEKKERE!B$27:B$38,TAKTEKKERE!$A$27:$A$38,ÅRSTOT!$A36)","v":25661922},{"$f":"SUMIFS(BETONG!C$27:C$38,BETONG!$A$27:$A$38,ÅRSTOT!$A36)+SUMIFS(TØMRERE!C$27:C$38,TØMRERE!$A$27:$A$38,ÅRSTOT!$A36)+SUMIFS(RØRLEGGERE!C$27:C$38,RØRLEGGERE!$A$27:$A$38,ÅRSTOT!$A36)+SUMIFS(MURERE!C$27:C$38,MURERE!$A$27:$A$38,ÅRSTOT!$A36)+SUMIFS('BLIKK OG VENTILASJON'!C$27:C$38,'BLIKK OG VENTILASJON'!$A$27:$A$38,ÅRSTOT!$A36)+SUMIFS(ISOLATØR!C$27:C$38,ISOLATØR!$A$27:$A$38,ÅRSTOT!$A36)+SUMIFS(MALERE!C$27:C$38,MALERE!$A$27:$A$38,ÅRSTOT!$A36)+SUMIFS(TAKTEKKERE!C$27:C$38,TAKTEKKERE!$A$27:$A$38,ÅRSTOT!$A36)","v":800000},{"$f":"SUMIFS(BETONG!D$27:D$38,BETONG!$A$27:$A$38,ÅRSTOT!$A36)+SUMIFS(TØMRERE!D$27:D$38,TØMRERE!$A$27:$A$38,ÅRSTOT!$A36)+SUMIFS(RØRLEGGERE!D$27:D$38,RØRLEGGERE!$A$27:$A$38,ÅRSTOT!$A36)+SUMIFS(MURERE!D$27:D$38,MURERE!$A$27:$A$38,ÅRSTOT!$A36)+SUMIFS('BLIKK OG VENTILASJON'!D$27:D$38,'BLIKK OG VENTILASJON'!$A$27:$A$38,ÅRSTOT!$A36)+SUMIFS(ISOLATØR!D$27:D$38,ISOLATØR!$A$27:$A$38,ÅRSTOT!$A36)+SUMIFS(MALERE!D$27:D$38,MALERE!$A$27:$A$38,ÅRSTOT!$A36)+SUMIFS(TAKTEKKERE!D$27:D$38,TAKTEKKERE!$A$27:$A$38,ÅRSTOT!$A36)","v":74322.5},{"$f":"SUMIFS(BETONG!E$27:E$38,BETONG!$A$27:$A$38,ÅRSTOT!$A36)+SUMIFS(TØMRERE!E$27:E$38,TØMRERE!$A$27:$A$38,ÅRSTOT!$A36)+SUMIFS(RØRLEGGERE!E$27:E$38,RØRLEGGERE!$A$27:$A$38,ÅRSTOT!$A36)+SUMIFS(MURERE!E$27:E$38,MURERE!$A$27:$A$38,ÅRSTOT!$A36)+SUMIFS('BLIKK OG VENTILASJON'!E$27:E$38,'BLIKK OG VENTILASJON'!$A$27:$A$38,ÅRSTOT!$A36)+SUMIFS(ISOLATØR!E$27:E$38,ISOLATØR!$A$27:$A$38,ÅRSTOT!$A36)+SUMIFS(MALERE!E$27:E$38,MALERE!$A$27:$A$38,ÅRSTOT!$A36)+SUMIFS(TAKTEKKERE!E$27:E$38,TAKTEKKERE!$A$27:$A$38,ÅRSTOT!$A36)","v":3400},{"$f":"IF(D36=0,0,B36/D36)","v":345.27797100474282},235.29411764705881,340.46668596609732,{"$f":"SUMIFS(BETONG!I$27:I$38,BETONG!$A$27:$A$38,ÅRSTOT!$A36)+SUMIFS(TØMRERE!I$27:I$38,TØMRERE!$A$27:$A$38,ÅRSTOT!$A36)+SUMIFS(RØRLEGGERE!I$27:I$38,RØRLEGGERE!$A$27:$A$38,ÅRSTOT!$A36)+SUMIFS(MURERE!I$27:I$38,MURERE!$A$27:$A$38,ÅRSTOT!$A36)+SUMIFS('BLIKK OG VENTILASJON'!I$27:I$38,'BLIKK OG VENTILASJON'!$A$27:$A$38,ÅRSTOT!$A36)+SUMIFS(ISOLATØR!I$27:I$38,ISOLATØR!$A$27:$A$38,ÅRSTOT!$A36)+SUMIFS(MALERE!I$27:I$38,MALERE!$A$27:$A$38,ÅRSTOT!$A36)+SUMIFS(TAKTEKKERE!I$27:I$38,TAKTEKKERE!$A$27:$A$38,ÅRSTOT!$A36)","v":19220692},{"$f":"SUMIFS(BETONG!J$27:J$38,BETONG!$A$27:$A$38,ÅRSTOT!$A36)+SUMIFS(TØMRERE!J$27:J$38,TØMRERE!$A$27:$A$38,ÅRSTOT!$A36)+SUMIFS(RØRLEGGERE!J$27:J$38,RØRLEGGERE!$A$27:$A$38,ÅRSTOT!$A36)+SUMIFS(MURERE!J$27:J$38,MURERE!$A$27:$A$38,ÅRSTOT!$A36)+SUMIFS('BLIKK OG VENTILASJON'!J$27:J$38,'BLIKK OG VENTILASJON'!$A$27:$A$38,ÅRSTOT!$A36)+SUMIFS(ISOLATØR!J$27:J$38,ISOLATØR!$A$27:$A$38,ÅRSTOT!$A36)+SUMIFS(MALERE!J$27:J$38,MALERE!$A$27:$A$38,ÅRSTOT!$A36)+SUMIFS(TAKTEKKERE!J$27:J$38,TAKTEKKERE!$A$27:$A$38,ÅRSTOT!$A36)","v":57403},321.70518676904135,0.33511956801555326,5.8318920454724366E-2]
["Trondheim",{"$f":"SUMIFS(BETONG!B$27:B$38,BETONG!$A$27:$A$38,ÅRSTOT!$A37)+SUMIFS(TØMRERE!B$27:B$38,TØMRERE!$A$27:$A$38,ÅRSTOT!$A37)+SUMIFS(RØRLEGGERE!B$27:B$38,RØRLEGGERE!$A$27:$A$38,ÅRSTOT!$A37)+SUMIFS(MURERE!B$27:B$38,MURERE!$A$27:$A$38,ÅRSTOT!$A37)+SUMIFS('BLIKK OG VENTILASJON'!B$27:B$38,'BLIKK OG VENTILASJON'!$A$27:$A$38,ÅRSTOT!$A37)+SUMIFS(ISOLATØR!B$27:B$38,ISOLATØR!$A$27:$A$38,ÅRSTOT!$A37)+SUMIFS(MALERE!B$27:B$38,MALERE!$A$27:$A$38,ÅRSTOT!$A37)+SUMIFS(TAKTEKKERE!B$27:B$38,TAKTEKKERE!$A$27:$A$38,ÅRSTOT!$A37)","v":187311121.57999998},{"$f":"SUMIFS(BETONG!C$27:C$38,BETONG!$A$27:$A$38,ÅRSTOT!$A37)+SUMIFS(TØMRERE!C$27:C$38,TØMRERE!$A$27:$A$38,ÅRSTOT!$A37)+SUMIFS(RØRLEGGERE!C$27:C$38,RØRLEGGERE!$A$27:$A$38,ÅRSTOT!$A37)+SUMIFS(MURERE!C$27:C$38,MURERE!$A$27:$A$38,ÅRSTOT!$A37)+SUMIFS('BLIKK OG VENTILASJON'!C$27:C$38,'BLIKK OG VENTILASJON'!$A$27:$A$38,ÅRSTOT!$A37)+SUMIFS(ISOLATØR!C$27:C$38,ISOLATØR!$A$27:$A$38,ÅRSTOT!$A37)+SUMIFS(MALERE!C$27:C$38,MALERE!$A$27:$A$38,ÅRSTOT!$A37)+SUMIFS(TAKTEKKERE!C$27:C$38,TAKTEKKERE!$A$27:$A$38,ÅRSTOT!$A37)","v":23396093.800000001},{"$f":"SUMIFS(BETONG!D$27:D$38,BETONG!$A$27:$A$38,ÅRSTOT!$A37)+SUMIFS(TØMRERE!D$27:D$38,TØMRERE!$A$27:$A$38,ÅRSTOT!$A37)+SUMIFS(RØRLEGGERE!D$27:D$38,RØRLEGGERE!$A$27:$A$38,ÅRSTOT!$A37)+SUMIFS(MURERE!D$27:D$38,MURERE!$A$27:$A$38,ÅRSTOT!$A37)+SUMIFS('BLIKK OG VENTILASJON'!D$27:D$38,'BLIKK OG VENTILASJON'!$A$27:$A$38,ÅRSTOT!$A37)+SUMIFS(ISOLATØR!D$27:D$38,ISOLATØR!$A$27:$A$38,ÅRSTOT!$A37)+SUMIFS(MALERE!D$27:D$38,MALERE!$A$27:$A$38,ÅRSTOT!$A37)+SUMIFS(TAKTEKKERE!D$27:D$38,TAKTEKKERE!$A$27:$A$38,ÅRSTOT!$A37)","v":562885.52999999991},{"$f":"SUMIFS(BETONG!E$27:E$38,BETONG!$A$27:$A$38,ÅRSTOT!$A37)+SUMIFS(TØMRERE!E$27:E$38,TØMRERE!$A$27:$A$38,ÅRSTOT!$A37)+SUMIFS(RØRLEGGERE!E$27:E$38,RØRLEGGERE!$A$27:$A$38,ÅRSTOT!$A37)+SUMIFS(MURERE!E$27:E$38,MURERE!$A$27:$A$38,ÅRSTOT!$A37)+SUMIFS('BLIKK OG VENTILASJON'!E$27:E$38,'BLIKK OG VENTILASJON'!$A$27:$A$38,ÅRSTOT!$A37)+SUMIFS(ISOLATØR!E$27:E$38,ISOLATØR!$A$27:$A$38,ÅRSTOT!$A37)+SUMIFS(MALERE!E$27:E$38,MALERE!$A$27:$A$38,ÅRSTOT!$A37)+SUMIFS(TAKTEKKERE!E$27:E$38,TAKTEKKERE!$A$27:$A$38,ÅRSTOT!$A37)","v":110323.75000000001},{"$f":"IF(B37=0,0,B37/D37)","v":332.76947371519748},{"$f":"IF(E37=0,0,C37/E37)","v":212.06760828923962},312.98917237148009,{"$f":"SUMIFS(BETONG!I$27:I$38,BETONG!$A$27:$A$38,ÅRSTOT!$A37)+SUMIFS(TØMRERE!I$27:I$38,TØMRERE!$A$27:$A$38,ÅRSTOT!$A37)+SUMIFS(RØRLEGGERE!I$27:I$38,RØRLEGGERE!$A$27:$A$38,ÅRSTOT!$A37)+SUMIFS(MURERE!I$27:I$38,MURERE!$A$27:$A$38,ÅRSTOT!$A37)+SUMIFS('BLIKK OG VENTILASJON'!I$27:I$38,'BLIKK OG VENTILASJON'!$A$27:$A$38,ÅRSTOT!$A37)+SUMIFS(ISOLATØR!I$27:I$38,ISOLATØR!$A$27:$A$38,ÅRSTOT!$A37)+SUMIFS(MALERE!I$27:I$38,MALERE!$A$27:$A$38,ÅRSTOT!$A37)+SUMIFS(TAKTEKKERE!I$27:I$38,TAKTEKKERE!$A$27:$A$38,ÅRSTOT!$A37)","v":148050234.16},{"$f":"SUMIFS(BETONG!J$27:J$38,BETONG!$A$27:$A$38,ÅRSTOT!$A37)+SUMIFS(TØMRERE!J$27:J$38,TØMRERE!$A$27:$A$38,ÅRSTOT!$A37)+SUMIFS(RØRLEGGERE!J$27:J$38,RØRLEGGERE!$A$27:$A$38,ÅRSTOT!$A37)+SUMIFS(MURERE!J$27:J$38,MURERE!$A$27:$A$38,ÅRSTOT!$A37)+SUMIFS('BLIKK OG VENTILASJON'!J$27:J$38,'BLIKK OG VENTILASJON'!$A$27:$A$38,ÅRSTOT!$A37)+SUMIFS(ISOLATØR!J$27:J$38,ISOLATØR!$A$27:$A$38,ÅRSTOT!$A37)+SUMIFS(MALERE!J$27:J$38,MALERE!$A$27:$A$38,ÅRSTOT!$A37)+SUMIFS(TAKTEKKERE!J$27:J$38,TAKTEKKERE!$A$27:$A$38,ÅRSTOT!$A37)","v":8638814.3399999999},296.20686286542889,0.26518625683205732,5.6657395928316673E-2]
["Vestfold",{"$f":"SUMIFS(BETONG!B$27:B$38,BETONG!$A$27:$A$38,ÅRSTOT!$A38)+SUMIFS(TØMRERE!B$27:B$38,TØMRERE!$A$27:$A$38,ÅRSTOT!$A38)+SUMIFS(RØRLEGGERE!B$27:B$38,RØRLEGGERE!$A$27:$A$38,ÅRSTOT!$A38)+SUMIFS(MURERE!B$27:B$38,MURERE!$A$27:$A$38,ÅRSTOT!$A38)+SUMIFS('BLIKK OG VENTILASJON'!B$27:B$38,'BLIKK OG VENTILASJON'!$A$27:$A$38,ÅRSTOT!$A38)+SUMIFS(ISOLATØR!B$27:B$38,ISOLATØR!$A$27:$A$38,ÅRSTOT!$A38)+SUMIFS(MALERE!B$27:B$38,MALERE!$A$27:$A$38,ÅRSTOT!$A38)+SUMIFS(TAKTEKKERE!B$27:B$38,TAKTEKKERE!$A$27:$A$38,ÅRSTOT!$A38)","v":2167631},{"$f":"SUMIFS(BETONG!C$27:C$38,BETONG!$A$27:$A$38,ÅRSTOT!$A38)+SUMIFS(TØMRERE!C$27:C$38,TØMRERE!$A$27:$A$38,ÅRSTOT!$A38)+SUMIFS(RØRLEGGERE!C$27:C$38,RØRLEGGERE!$A$27:$A$38,ÅRSTOT!$A38)+SUMIFS(MURERE!C$27:C$38,MURERE!$A$27:$A$38,ÅRSTOT!$A38)+SUMIFS('BLIKK OG VENTILASJON'!C$27:C$38,'BLIKK OG VENTILASJON'!$A$27:$A$38,ÅRSTOT!$A38)+SUMIFS(ISOLATØR!C$27:C$38,ISOLATØR!$A$27:$A$38,ÅRSTOT!$A38)+SUMIFS(MALERE!C$27:C$38,MALERE!$A$27:$A$38,ÅRSTOT!$A38)+SUMIFS(TAKTEKKERE!C$27:C$38,TAKTEKKERE!$A$27:$A$38,ÅRSTOT!$A38)","v":0},{"$f":"SUMIFS(BETONG!D$27:D$38,BETONG!$A$27:$A$38,ÅRSTOT!$A38)+SUMIFS(TØMRERE!D$27:D$38,TØMRERE!$A$27:$A$38,ÅRSTOT!$A38)+SUMIFS(RØRLEGGERE!D$27:D$38,RØRLEGGERE!$A$27:$A$38,ÅRSTOT!$A38)+SUMIFS(MURERE!D$27:D$38,MURERE!$A$27:$A$38,ÅRSTOT!$A38)+SUMIFS('BLIKK OG VENTILASJON'!D$27:D$38,'BLIKK OG VENTILASJON'!$A$27:$A$38,ÅRSTOT!$A38)+SUMIFS(ISOLATØR!D$27:D$38,ISOLATØR!$A$27:$A$38,ÅRSTOT!$A38)+SUMIFS(MALERE!D$27:D$38,MALERE!$A$27:$A$38,ÅRSTOT!$A38)+SUMIFS(TAKTEKKERE!D$27:D$38,TAKTEKKERE!$A$27:$A$38,ÅRSTOT!$A38)","v":5318.5},{"$f":"SUMIFS(BETONG!E$27:E$38,BETONG!$A$27:$A$38,ÅRSTOT!$A38)+SUMIFS(TØMRERE!E$27:E$38,TØMRERE!$A$27:$A$38,ÅRSTOT!$A38)+SUMIFS(RØRLEGGERE!E$27:E$38,RØRLEGGERE!$A$27:$A$38,ÅRSTOT!$A38)+SUMIFS(MURERE!E$27:E$38,MURERE!$A$27:$A$38,ÅRSTOT!$A38)+SUMIFS('BLIKK OG VENTILASJON'!E$27:E$38,'BLIKK OG VENTILASJON'!$A$27:$A$38,ÅRSTOT!$A38)+SUMIFS(ISOLATØR!E$27:E$38,ISOLATØR!$A$27:$A$38,ÅRSTOT!$A38)+SUMIFS(MALERE!E$27:E$38,MALERE!$A$27:$A$38,ÅRSTOT!$A38)+SUMIFS(TAKTEKKERE!E$27:E$38,TAKTEKKERE!$A$27:$A$38,ÅRSTOT!$A38)","v":0},{"$f":"IF(D38=0,0,B38/D38)","v":407.56435085080381},0,407.56435085080381,{"$f":"SUMIFS(BETONG!I$27:I$38,BETONG!$A$27:$A$38,ÅRSTOT!$A38)+SUMIFS(TØMRERE!I$27:I$38,TØMRERE!$A$27:$A$38,ÅRSTOT!$A38)+SUMIFS(RØRLEGGERE!I$27:I$38,RØRLEGGERE!$A$27:$A$38,ÅRSTOT!$A38)+SUMIFS(MURERE!I$27:I$38,MURERE!$A$27:$A$38,ÅRSTOT!$A38)+SUMIFS('BLIKK OG VENTILASJON'!I$27:I$38,'BLIKK OG VENTILASJON'!$A$27:$A$38,ÅRSTOT!$A38)+SUMIFS(ISOLATØR!I$27:I$38,ISOLATØR!$A$27:$A$38,ÅRSTOT!$A38)+SUMIFS(MALERE!I$27:I$38,MALERE!$A$27:$A$38,ÅRSTOT!$A38)+SUMIFS(TAKTEKKERE!I$27:I$38,TAKTEKKERE!$A$27:$A$38,ÅRSTOT!$A38)","v":1472901},{"$f":"SUMIFS(BETONG!J$27:J$38,BETONG!$A$27:$A$38,ÅRSTOT!$A38)+SUMIFS(TØMRERE!J$27:J$38,TØMRERE!$A$27:$A$38,ÅRSTOT!$A38)+SUMIFS(RØRLEGGERE!J$27:J$38,RØRLEGGERE!$A$27:$A$38,ÅRSTOT!$A38)+SUMIFS(MURERE!J$27:J$38,MURERE!$A$27:$A$38,ÅRSTOT!$A38)+SUMIFS('BLIKK OG VENTILASJON'!J$27:J$38,'BLIKK OG VENTILASJON'!$A$27:$A$38,ÅRSTOT!$A38)+SUMIFS(ISOLATØR!J$27:J$38,ISOLATØR!$A$27:$A$38,ÅRSTOT!$A38)+SUMIFS(MALERE!J$27:J$38,MALERE!$A$27:$A$38,ÅRSTOT!$A38)+SUMIFS(TAKTEKKERE!J$27:J$38,TAKTEKKERE!$A$27:$A$38,ÅRSTOT!$A38)","v":0},393.78057553956836,0.47167460677941014,3.5003695376158557E-2]
["Østfold",{"$f":"SUMIFS(BETONG!B$27:B$38,BETONG!$A$27:$A$38,ÅRSTOT!$A39)+SUMIFS(TØMRERE!B$27:B$38,TØMRERE!$A$27:$A$38,ÅRSTOT!$A39)+SUMIFS(RØRLEGGERE!B$27:B$38,RØRLEGGERE!$A$27:$A$38,ÅRSTOT!$A39)+SUMIFS(MURERE!B$27:B$38,MURERE!$A$27:$A$38,ÅRSTOT!$A39)+SUMIFS('BLIKK OG VENTILASJON'!B$27:B$38,'BLIKK OG VENTILASJON'!$A$27:$A$38,ÅRSTOT!$A39)+SUMIFS(ISOLATØR!B$27:B$38,ISOLATØR!$A$27:$A$38,ÅRSTOT!$A39)+SUMIFS(MALERE!B$27:B$38,MALERE!$A$27:$A$38,ÅRSTOT!$A39)+SUMIFS(TAKTEKKERE!B$27:B$38,TAKTEKKERE!$A$27:$A$38,ÅRSTOT!$A39)","v":1602127},{"$f":"SUMIFS(BETONG!C$27:C$38,BETONG!$A$27:$A$38,ÅRSTOT!$A39)+SUMIFS(TØMRERE!C$27:C$38,TØMRERE!$A$27:$A$38,ÅRSTOT!$A39)+SUMIFS(RØRLEGGERE!C$27:C$38,RØRLEGGERE!$A$27:$A$38,ÅRSTOT!$A39)+SUMIFS(MURERE!C$27:C$38,MURERE!$A$27:$A$38,ÅRSTOT!$A39)+SUMIFS('BLIKK OG VENTILASJON'!C$27:C$38,'BLIKK OG VENTILASJON'!$A$27:$A$38,ÅRSTOT!$A39)+SUMIFS(ISOLATØR!C$27:C$38,ISOLATØR!$A$27:$A$38,ÅRSTOT!$A39)+SUMIFS(MALERE!C$27:C$38,MALERE!$A$27:$A$38,ÅRSTOT!$A39)+SUMIFS(TAKTEKKERE!C$27:C$38,TAKTEKKERE!$A$27:$A$38,ÅRSTOT!$A39)","v":3087579},{"$f":"SUMIFS(BETONG!D$27:D$38,BETONG!$A$27:$A$38,ÅRSTOT!$A39)+SUMIFS(TØMRERE!D$27:D$38,TØMRERE!$A$27:$A$38,ÅRSTOT!$A39)+SUMIFS(RØRLEGGERE!D$27:D$38,RØRLEGGERE!$A$27:$A$38,ÅRSTOT!$A39)+SUMIFS(MURERE!D$27:D$38,MURERE!$A$27:$A$38,ÅRSTOT!$A39)+SUMIFS('BLIKK OG VENTILASJON'!D$27:D$38,'BLIKK OG VENTILASJON'!$A$27:$A$38,ÅRSTOT!$A39)+SUMIFS(ISOLATØR!D$27:D$38,ISOLATØR!$A$27:$A$38,ÅRSTOT!$A39)+SUMIFS(MALERE!D$27:D$38,MALERE!$A$27:$A$38,ÅRSTOT!$A39)+SUMIFS(TAKTEKKERE!D$27:D$38,TAKTEKKERE!$A$27:$A$38,ÅRSTOT!$A39)","v":4904},{"$f":"SUMIFS(BETONG!E$27:E$38,BETONG!$A$27:$A$38,ÅRSTOT!$A39)+SUMIFS(TØMRERE!E$27:E$38,TØMRERE!$A$27:$A$38,ÅRSTOT!$A39)+SUMIFS(RØRLEGGERE!E$27:E$38,RØRLEGGERE!$A$27:$A$38,ÅRSTOT!$A39)+SUMIFS(MURERE!E$27:E$38,MURERE!$A$27:$A$38,ÅRSTOT!$A39)+SUMIFS('BLIKK OG VENTILASJON'!E$27:E$38,'BLIKK OG VENTILASJON'!$A$27:$A$38,ÅRSTOT!$A39)+SUMIFS(ISOLATØR!E$27:E$38,ISOLATØR!$A$27:$A$38,ÅRSTOT!$A39)+SUMIFS(MALERE!E$27:E$38,MALERE!$A$27:$A$38,ÅRSTOT!$A39)+SUMIFS(TAKTEKKERE!E$27:E$38,TAKTEKKERE!$A$27:$A$38,ÅRSTOT!$A39)","v":16480},326.69800163132135,187.35309466019419,219.30910961466518,{"$f":"SUMIFS(BETONG!I$27:I$38,BETONG!$A$27:$A$38,ÅRSTOT!$A39)+SUMIFS(TØMRERE!I$27:I$38,TØMRERE!$A$27:$A$38,ÅRSTOT!$A39)+SUMIFS(RØRLEGGERE!I$27:I$38,RØRLEGGERE!$A$27:$A$38,ÅRSTOT!$A39)+SUMIFS(MURERE!I$27:I$38,MURERE!$A$27:$A$38,ÅRSTOT!$A39)+SUMIFS('BLIKK OG VENTILASJON'!I$27:I$38,'BLIKK OG VENTILASJON'!$A$27:$A$38,ÅRSTOT!$A39)+SUMIFS(ISOLATØR!I$27:I$38,ISOLATØR!$A$27:$A$38,ÅRSTOT!$A39)+SUMIFS(MALERE!I$27:I$38,MALERE!$A$27:$A$38,ÅRSTOT!$A39)+SUMIFS(TAKTEKKERE!I$27:I$38,TAKTEKKERE!$A$27:$A$38,ÅRSTOT!$A39)","v":6265419.5},{"$f":"SUMIFS(BETONG!J$27:J$38,BETONG!$A$27:$A$38,ÅRSTOT!$A39)+SUMIFS(TØMRERE!J$27:J$38,TØMRERE!$A$27:$A$38,ÅRSTOT!$A39)+SUMIFS(RØRLEGGERE!J$27:J$38,RØRLEGGERE!$A$27:$A$38,ÅRSTOT!$A39)+SUMIFS(MURERE!J$27:J$38,MURERE!$A$27:$A$38,ÅRSTOT!$A39)+SUMIFS('BLIKK OG VENTILASJON'!J$27:J$38,'BLIKK OG VENTILASJON'!$A$27:$A$38,ÅRSTOT!$A39)+SUMIFS(ISOLATØR!J$27:J$38,ISOLATØR!$A$27:$A$38,ÅRSTOT!$A39)+SUMIFS(MALERE!J$27:J$38,MALERE!$A$27:$A$38,ÅRSTOT!$A39)+SUMIFS(TAKTEKKERE!J$27:J$38,TAKTEKKERE!$A$27:$A$38,ÅRSTOT!$A39)","v":895337},308.13908561780778,-0.74429054590837851,-0.28827883299855228]
["Oslo",{"$f":"SUMIFS(BETONG!B$27:B$38,BETONG!$A$27:$A$38,ÅRSTOT!$A40)+SUMIFS(TØMRERE!B$27:B$38,TØMRERE!$A$27:$A$38,ÅRSTOT!$A40)+SUMIFS(RØRLEGGERE!B$27:B$38,RØRLEGGERE!$A$27:$A$38,ÅRSTOT!$A40)+SUMIFS(MURERE!B$27:B$38,MURERE!$A$27:$A$38,ÅRSTOT!$A40)+SUMIFS('BLIKK OG VENTILASJON'!B$27:B$38,'BLIKK OG VENTILASJON'!$A$27:$A$38,ÅRSTOT!$A40)+SUMIFS(ISOLATØR!B$27:B$38,ISOLATØR!$A$27:$A$38,ÅRSTOT!$A40)+SUMIFS(MALERE!B$27:B$38,MALERE!$A$27:$A$38,ÅRSTOT!$A40)+SUMIFS(TAKTEKKERE!B$27:B$38,TAKTEKKERE!$A$27:$A$38,ÅRSTOT!$A40)","v":149052830.51000002},{"$f":"SUMIFS(BETONG!C$27:C$38,BETONG!$A$27:$A$38,ÅRSTOT!$A40)+SUMIFS(TØMRERE!C$27:C$38,TØMRERE!$A$27:$A$38,ÅRSTOT!$A40)+SUMIFS(RØRLEGGERE!C$27:C$38,RØRLEGGERE!$A$27:$A$38,ÅRSTOT!$A40)+SUMIFS(MURERE!C$27:C$38,MURERE!$A$27:$A$38,ÅRSTOT!$A40)+SUMIFS('BLIKK OG VENTILASJON'!C$27:C$38,'BLIKK OG VENTILASJON'!$A$27:$A$38,ÅRSTOT!$A40)+SUMIFS(ISOLATØR!C$27:C$38,ISOLATØR!$A$27:$A$38,ÅRSTOT!$A40)+SUMIFS(MALERE!C$27:C$38,MALERE!$A$27:$A$38,ÅRSTOT!$A40)+SUMIFS(TAKTEKKERE!C$27:C$38,TAKTEKKERE!$A$27:$A$38,ÅRSTOT!$A40)","v":11450599.58},{"$f":"SUMIFS(BETONG!D$27:D$38,BETONG!$A$27:$A$38,ÅRSTOT!$A40)+SUMIFS(TØMRERE!D$27:D$38,TØMRERE!$A$27:$A$38,ÅRSTOT!$A40)+SUMIFS(RØRLEGGERE!D$27:D$38,RØRLEGGERE!$A$27:$A$38,ÅRSTOT!$A40)+SUMIFS(MURERE!D$27:D$38,MURERE!$A$27:$A$38,ÅRSTOT!$A40)+SUMIFS('BLIKK OG VENTILASJON'!D$27:D$38,'BLIKK OG VENTILASJON'!$A$27:$A$38,ÅRSTOT!$A40)+SUMIFS(ISOLATØR!D$27:D$38,ISOLATØR!$A$27:$A$38,ÅRSTOT!$A40)+SUMIFS(MALERE!D$27:D$38,MALERE!$A$27:$A$38,ÅRSTOT!$A40)+SUMIFS(TAKTEKKERE!D$27:D$38,TAKTEKKERE!$A$27:$A$38,ÅRSTOT!$A40)","v":409429.7},{"$f":"SUMIFS(BETONG!E$27:E$38,BETONG!$A$27:$A$38,ÅRSTOT!$A40)+SUMIFS(TØMRERE!E$27:E$38,TØMRERE!$A$27:$A$38,ÅRSTOT!$A40)+SUMIFS(RØRLEGGERE!E$27:E$38,RØRLEGGERE!$A$27:$A$38,ÅRSTOT!$A40)+SUMIFS(MURERE!E$27:E$38,MURERE!$A$27:$A$38,ÅRSTOT!$A40)+SUMIFS('BLIKK OG VENTILASJON'!E$27:E$38,'BLIKK OG VENTILASJON'!$A$27:$A$38,ÅRSTOT!$A40)+SUMIFS(ISOLATØR!E$27:E$38,ISOLATØR!$A$27:$A$38,ÅRSTOT!$A40)+SUMIFS(MALERE!E$27:E$38,MALERE!$A$27:$A$38,ÅRSTOT!$A40)+SUMIFS(TAKTEKKERE!E$27:E$38,TAKTEKKERE!$A$27:$A$38,ÅRSTOT!$A40)","v":42187.659999999996},364.04987354361447,271.4205902863539,355.39694508200489,{"$f":"SUMIFS(BETONG!I$27:I$38,BETONG!$A$27:$A$38,ÅRSTOT!$A40)+SUMIFS(TØMRERE!I$27:I$38,TØMRERE!$A$27:$A$38,ÅRSTOT!$A40)+SUMIFS(RØRLEGGERE!I$27:I$38,RØRLEGGERE!$A$27:$A$38,ÅRSTOT!$A40)+SUMIFS(MURERE!I$27:I$38,MURERE!$A$27:$A$38,ÅRSTOT!$A40)+SUMIFS('BLIKK OG VENTILASJON'!I$27:I$38,'BLIKK OG VENTILASJON'!$A$27:$A$38,ÅRSTOT!$A40)+SUMIFS(ISOLATØR!I$27:I$38,ISOLATØR!$A$27:$A$38,ÅRSTOT!$A40)+SUMIFS(MALERE!I$27:I$38,MALERE!$A$27:$A$38,ÅRSTOT!$A40)+SUMIFS(TAKTEKKERE!I$27:I$38,TAKTEKKERE!$A$27:$A$38,ÅRSTOT!$A40)","v":85436379.069999993},{"$f":"SUMIFS(BETONG!J$27:J$38,BETONG!$A$27:$A$38,ÅRSTOT!$A40)+SUMIFS(TØMRERE!J$27:J$38,TØMRERE!$A$27:$A$38,ÅRSTOT!$A40)+SUMIFS(RØRLEGGERE!J$27:J$38,RØRLEGGERE!$A$27:$A$38,ÅRSTOT!$A40)+SUMIFS(MURERE!J$27:J$38,MURERE!$A$27:$A$38,ÅRSTOT!$A40)+SUMIFS('BLIKK OG VENTILASJON'!J$27:J$38,'BLIKK OG VENTILASJON'!$A$27:$A$38,ÅRSTOT!$A40)+SUMIFS(ISOLATØR!J$27:J$38,ISOLATØR!$A$27:$A$38,ÅRSTOT!$A40)+SUMIFS(MALERE!J$27:J$38,MALERE!$A$27:$A$38,ÅRSTOT!$A40)+SUMIFS(TAKTEKKERE!J$27:J$38,TAKTEKKERE!$A$27:$A$38,ÅRSTOT!$A40)","v":494715.99},333.98796323882533,0.74460612835520101,6.4101058120680246E-2]
["Landet i alt",{"$f":"SUM(B28:B40)","v":429520299.63999999},{"$f":"SUM(C28:C40)","v":41419784.350000001},{"$f":"SUM(D28:D40)","v":1250935.47},{"$f":"SUM(E28:E40)","v":185188.41},{"$f":"IF(D41=0,0,B41/D41)","v":343.35927786906547},223.66294062355198,327.92441553858157,{"$f":"SUM(I28:I40)","v":333684102.47000003},{"$f":"SUM(J28:J40)","v":12042022.810000001},310.77020898535471,0.28720636212693451,5.5199005751658974E-2]
[]
[]
[{"$f":"\"MÅLESTATISTIKK FOR ALLE BYGGFAG - GJENNOMSNITT HELE ÅRET  \"&FORS!$A$14","v":"MÅLESTATISTIKK FOR ALLE BYGGFAG - GJENNOMSNITT HELE ÅRET  2022"}]
[]
[null,"Målesum i kroner",null,"Timer",null,{"$f":"\"Fortjeneste hele  \"&FORS!$A$14-0","v":"Fortjeneste hele  2022"},null,null,{"$f":"\" Hele året  \"&FORS!$A$14-1","v":" Hele året  2021"},null,null,"Endringer i %"]
[null,"Innmålt m/","Innmålt m/","Innmålt m/","Innmålt m/","Innmålt m/","Innmålt m/","Gjennom-","Innmålt m/","Innmålt m/","Gjen.snitt","Innmålt m/","Gjen.snitt"]
[null,"overskudd","underskudd","overskudd","underskudd","overskudd","underskudd","snitt","overskudd","underskudd","fortjeneste","overskudd","fortjeneste"]
["Agder",{"$f":"SUMIFS(B$7:B$19,$A$7:$A$19,$A49)+SUMIFS(B$28:B$40,$A$28:$A$40,$A49)","v":9453235},{"$f":"SUMIFS(C$7:C$19,$A$7:$A$19,$A49)+SUMIFS(C$28:C$40,$A$28:$A$40,$A49)","v":0},28743.5,0,{"$f":"IF(D49=0,0,B49/D49)","v":328.88252996329607},{"$f":"IF(E49=0,0,C49/E49)","v":0},{"$f":"IF(D49+E49=0,0,(B49+C49)/(D49+E49))","v":328.88252996329607},{"$f":"SUMIFS(I$7:I$19,$A$7:$A$19,$A49)+SUMIFS(I$28:I$40,$A$28:$A$40,$A49)","v":24623176},0,300.41211105097096,{"$f":"IF(I49=0,0,(B49-I49)/I49)","v":-0.61608384718526965},{"$f":"IF(K49=0,0,(H49-K49)/K49)","v":9.4771208832837378E-2}]
["Bergen",{"$f":"SUMIFS(B$7:B$19,$A$7:$A$19,$A50)+SUMIFS(B$28:B$40,$A$28:$A$40,$A50)","v":40175423.159999996},0,122442.65000000002,0,328.11625001582365,0,328.11625001582365,49840794.049999997,0,292.31509104645914,-0.19392489775150365,0.12247454909426639]
["Nordland",0,0,0,0,{"$f":"IF(D51=0,0,B51/D51)","v":0},{"$f":"IF(E51=0,0,C51/E51)","v":0},{"$f":"IF(D51+E51=0,0,(B51+C51)/(D51+E51))","v":0},0,424816.48,201.76512942293991,0,-1]
["Drammen - Bærum",0,0,0,0,0,0,0,0,0,0,0,0]
["Haugesund",0,0,0,0,0,0,0,11822399,0,283.13043803666716,-1,-1]
["Hamar og Omegn",44272004.170000002,2741147.6500000004,137812.09,13095.2,321.24905855502232,209.3246113079602,311.53665154281146,25457334,1969555,314.44547580985756,0.73906679191151758,-9.2506475393051638E-3]
["Sandnes",28044831.079999998,0,81309.399999999994,0,344.91499236250667,0,344.91499236250667,59710459.759999998,0,329.7293488238497,-0.53031962586248227,4.6054873770940967E-2]
["Stavanger",10983107.810000002,0,34716,0,316.37019846756544,0,316.37019846756544,8510553.9000000004,0,300.76577654266407,0.29052796551820226,5.1882305574377285E-2]
["Telemark",47056690.93,800000,137516.5,3400,342.18941676089776,235.29411764705881,339.61027225342667,33603132.640000001,2625500,310.81048519030367,0.4003661930609812,9.2660281539374112E-2]
["Trondheim",315720222.20999998,34936669.57,955722.90999999992,165240.20000000001,330.34702726755813,211.42960108980742,312.81751259414773,306854940.50999999,29868636.849999998,297.3064974865232,2.8890790173577409E-2,5.2171799939648607E-2]
["Vestfold",2957652,0,8129,0,{"$f":"IF(D59=0,0,B59/D59)","v":363.83958666502645},{"$f":"IF(E59=0,0,C59/E59)","v":0},363.83958666502645,6292642.7000000002,0,433.11939216404249,-0.52998253023328346,-0.15995544589418098]
["Østfold",16626881,3087579,53251.5,16480,312.23310141498359,187.35309466019419,282.71957436739496,20183497.5,3845238,299.07382605480467,-0.17621408281691517,-5.4682992166666E-2]
["Oslo",293264088.47000003,13012555.220000001,825540.2,51192.659999999996,355.23901618600769,254.18790936044351,{"$f":"IF(D61+E61=0,0,(B61+C61)/(D61+E61))","v":349.33861574436719},231440301.16999999,5017649.0600000005,333.13101072987172,0.26712628262002036,4.8652345451074941E-2]
["Landet i alt",{"$f":"SUM(B49:B61)","v":808554135.83000004},{"$f":"SUM(C49:C61)","v":54577951.439999998},{"$f":"SUM(D49:D61)","v":2385183.75},{"$f":"SUM(E49:E61)","v":249408.06000000003},{"$f":"IF(D62=0,0,B62/D62)","v":338.99029197645677},218.82994254475975,{"$f":"IF(D62+E62=0,0,(B62+C62)/(D62+E62))","v":327.61511061935624},{"$f":"SUM(I49:I61)","v":778339231.2299999},{"$f":"SUM(J49:J61)","v":43751395.390000001},310.32649458857065,3.881971174991642E-2,5.571105378452057E-2]

{"sheet":"BETONG","index":3,"n_rows":59,"n_cols":13,"rows_kept":59,"cut":false,"hidden":false,"merged":[[41,0,41,12],[21,0,21,12],[1,0,1,12]]}
[]
[{"$f":"\"MÅLESTATISTIKK FOR BETONGFAGENE - 1. HALVÅR \"&FORS!$A$14","v":"MÅLESTATISTIKK FOR BETONGFAGENE - 1. HALVÅR 2022"}]
[]
[null,"Målesum i kroner",null,"Timer",null,{"$f":"\"Fortjeneste 1. halvår  \"&FORS!$A$14-0","v":"Fortjeneste 1. halvår  2022"},null,null,{"$f":"\" 1. halvår  \"&FORS!$A$14-1","v":" 1. halvår  2021"},null,null,"Endringer i %"]
[null,"Innmålt m/","Innmålt m/","Innmålt m/","Innmålt m/","Innmålt m/","Innmålt m/","Gjennom-","Innmålt m/","Innmålt m/","Gjen.snitt","Innmålt m/","Gjen.snitt"]
[null,"overskudd","underskudd","overskudd","underskudd","overskudd","underskudd","snitt","overskudd","underskudd","fortjeneste","overskudd","fortjeneste"]
["Agder",1205324,null,3580,null,{"$f":"IF(D7=0,0,B7/D7)","v":336.6826815642458},{"$f":"IF(E7=0,0,C7/E7)","v":0},{"$f":"IF(D7+E7=0,0,(B7+C7)/(D7+E7))","v":336.6826815642458},6471377,null,309.41000000000003,{"$f":"IF(I7=0,0,(B7-I7)/I7)","v":-0.81374535898619416},{"$f":"IF(K7=0,0,(H7-K7)/K7)","v":8.8144150364389551E-2}]
["Bergen",14134436.310000001,null,41694,null,{"$f":"IF(D8=0,0,B8/D8)","v":339.00408476039718},{"$f":"IF(E8=0,0,C8/E8)","v":0},{"$f":"IF(D8+E8=0,0,(B8+C8)/(D8+E8))","v":339.00408476039718},30743693,null,297.62,{"$f":"IF(I8=0,0,(B8-I8)/I8)","v":-0.5402492371362152},{"$f":"IF(K8=0,0,(H8-K8)/K8)","v":0.13905007983467901}]
["Drammen - Bærum",null,null,null,null,{"$f":"IF(D9=0,0,B9/D9)","v":0},{"$f":"IF(E9=0,0,C9/E9)","v":0},{"$f":"IF(D9+E9=0,0,(B9+C9)/(D9+E9))","v":0},null,null,0,{"$f":"IF(I9=0,0,(B9-I9)/I9)","v":0},{"$f":"IF(K9=0,0,(H9-K9)/K9)","v":0}]
["Haugesund",null,null,null,null,0,0,0,7139951,null,285.35000000000002,-1,-1]
["Hamar og Omegn",12510118.279999999,null,33384.080000000002,null,374.73305479737644,0,374.73305479737644,5936813,null,315.18,1.1072111046785538,0.1889493457623467]
["Sandnes",16119606.689999999,null,47026.92,null,342.77402581330011,0,342.77402581330011,35209187.549999997,null,329.97,-0.54217612470867704,3.88036058226508E-2]
["Stavanger",321004.19,null,1128,null,284.57818262411348,0,284.57818262411348,null,null,0,0,0]
["Telemark",5083066,null,14337,null,354.54181488456442,0,354.54181488456442,4634581,null,306.33999999999997,9.6769265657456416E-2,0.15734744037528381]
["Trondheim",36645770.990000002,0,113997.52,0,321.4611246806071,0,321.4611246806071,41121339.950000003,null,349.17,{"$f":"IF(I15=0,0,(B15-I15)/I15)","v":-0.10883811095265636},{"$f":"IF(K15=0,0,(H15-K15)/K15)","v":-7.9356403240235171E-2}]
["Vestfold",null,null,null,null,0,0,0,null,null,0,0,0]
["Østfold",8326456,null,25742.5,null,323.45172380304945,0,323.45172380304945,3654340,null,310.52,{"$f":"IF(I17=0,0,(B17-I17)/I17)","v":1.2785115780140874},{"$f":"IF(K17=0,0,(H17-K17)/K17)","v":4.1645381305711278E-2}]
["Oslo",28754074,null,76420,null,376.26372677309604,0,376.26372677309604,31092369,1846219,349.87,-7.5204787386898689E-2,7.5438667999817174E-2]
["Landet i alt",{"$f":"SUM(B7:B18)","v":123099856.46000001},{"$f":"SUM(C7:C18)","v":0},{"$f":"SUM(D7:D18)","v":357310.02},{"$f":"SUM(E7:E18)","v":0},{"$f":"IF(D19=0,0,B19/D19)","v":344.51834420988251},{"$f":"IF(E19=0,0,C19/E19)","v":0},{"$f":"IF(D19+E19=0,0,(B19+C19)/(D19+E19))","v":344.51834420988251},{"$f":"SUM(I7:I18)","v":166003651.5},{"$f":"SUM(J7:J18)","v":1846219},323.18561179798894,{"$f":"IF(I19=0,0,(B19-I19)/I19)","v":-0.25845091148491989},{"$f":"IF(K19=0,0,(H19-K19)/K19)","v":6.6007679900143126E-2}]
[]
[]
[{"$f":"\"MÅLESTATISTIKK FOR BETONGFAGENE - 2. HALVÅR \"&FORS!$A$14","v":"MÅLESTATISTIKK FOR BETONGFAGENE - 2. HALVÅR 2022"}]
[]
[null,"Målesum i kroner",null,"Timer",null,{"$f":"\"Fortjeneste 2. halvår  \"&FORS!$A$14-0","v":"Fortjeneste 2. halvår  2022"},null,null,{"$f":"\" 2. halvår  \"&FORS!$A$14-1","v":" 2. halvår  2021"},null,null,"Endringer i %"]
[null,"Innmålt m/","Innmålt m/","Innmålt m/","Innmålt m/","Innmålt m/","Innmålt m/","Gjennom-","Innmålt m/","Innmålt m/","Gjen.snitt","Innmålt m/","Gjen.snitt"]
[null,"overskudd","underskudd","overskudd","underskudd","overskudd","underskudd","snitt","overskudd","underskudd","fortjeneste","overskudd","fortjeneste"]
["Agder",453586,null,1250.5,null,{"$f":"IF(D27=0,0,B27/D27)","v":362.7237105157937},{"$f":"IF(E27=0,0,C27/E27)","v":0},{"$f":"IF(D27+E27=0,0,(B27+C27)/(D27+E27))","v":362.7237105157937},2469868,null,325.11,{"$f":"IF(I27=0,0,(B27-I27)/I27)","v":-0.81635212893968423},{"$f":"IF(K27=0,0,(H27-K27)/K27)","v":0.1156953354735126}]
["Bergen",24003713.18,null,72936.990000000005,null,329.10205342995368,0,{"$f":"IF(D28+E28=0,0,(B28+C28)/(D28+E28))","v":329.10205342995368},16738539.32,null,317.22000000000003,{"$f":"IF(I28=0,0,(B28-I28)/I28)","v":0.43403870081538271},{"$f":"IF(K28=0,0,(H28-K28)/K28)","v":3.7456823119455446E-2}]
["Drammen - Bærum",null,null,null,null,0,0,0,null,null,0,0,0]
["Haugesund",null,null,null,null,0,0,0,4682448,null,298.33999999999997,-1,-1]
["Hamar og Omegn",8456888.7100000009,2289833.9700000002,28040.44,10773,301.59614863390163,212.5530465051518,276.88147919895789,3774159,1047893,283.98,1.240734613989501,-2.499655187351971E-2]
["Sandnes",11925224.390000001,null,34282.480000000003,null,347.85185873367385,0,347.85185873367385,22178853.210000001,null,334.91,-0.46231555450201745,3.864279577699628E-2]
["Stavanger",450684.48,null,1566.5,null,287.7015512288541,{"$f":"IF(E33=0,0,D33/E33)","v":0},287.7015512288541,null,null,0,0,0]
["Telemark",10311429,null,28328,null,364.00130612821238,0,364.00130612821238,1742899,null,295.95999999999998,4.9162516014984234,0.22990034507437629]
["Trondheim",60329404.18,4046901.37,179308.83,20468.87,336.4552887886224,197.71005287541522,322.23969717340827,40566999.289999999,null,349.48,0.48715471284245437,-7.7945241005470248E-2]
["Vestfold",null,null,null,null,0,0,0,null,null,0,0,0]
["Østfold",279173,1787580,855,10831,326.51812865497078,165.04293232388514,176.8571795310628,2947087,53500,352.43,-0.90527154440978497,-0.49817785225133276]
["Oslo",37988863,2972328,98919,11881,384.04010351904083,250.17490110260078,369.68583935018052,15855206,null,356.31,1.3959867188102129,3.7539893211474593E-2]
["Landet i alt",{"$f":"SUM(B27:B38)","v":154198965.94},{"$f":"SUM(C27:C38)","v":11096643.34},{"$f":"SUM(D27:D38)","v":445487.74},{"$f":"SUM(E27:E38)","v":53953.869999999995},{"$f":"IF(D39=0,0,B39/D39)","v":346.13515052064059},{"$f":"IF(E39=0,0,C39/E39)","v":205.66908990958387},{"$f":"IF(D39+E39=0,0,(B39+C39)/(D39+E39))","v":330.96082899460458},{"$f":"SUM(I27:I38)","v":110956058.81999999},{"$f":"SUM(J27:J38)","v":1101393},330.63693813195977,{"$f":"IF(I39=0,0,(B39-I39)/I39)","v":0.38973002087386155},{"$f":"IF(K39=0,0,(H39-K39)/K39)","v":9.7959672768185716E-4}]
[]
[]
[{"$f":"\"MÅLESTATISTIKK FOR BETONGFAGENE - GJENNOMSNITT HELE ÅRET  \"&FORS!$A$14","v":"MÅLESTATISTIKK FOR BETONGFAGENE - GJENNOMSNITT HELE ÅRET  2022"}]
[]
[null,"Målesum i kroner",null,"Timer",null,{"$f":"\"Fortjeneste hele  \"&FORS!$A$14-0","v":"Fortjeneste hele  2022"},null,null,{"$f":"\" Hele året  \"&FORS!$A$14-1","v":" Hele året  2021"},null,null,"Endringer i %"]
[null,"Innmålt m/","Innmålt m/","Innmålt m/","Innmålt m/","Innmålt m/","Innmålt m/","Gjennom-","Innmålt m/","Innmålt m/","Gjen.snitt","Innmålt m/","Gjen.snitt"]
[null,"overskudd","underskudd","overskudd","underskudd","overskudd","underskudd","snitt","overskudd","underskudd","fortjeneste","overskudd","fortjeneste"]
["Agder",{"$f":"SUMIFS(B$7:B$19,$A$7:$A$19,$A47)+SUMIFS(B$27:B$39,$A$27:$A$39,$A47)","v":1658910},{"$f":"SUMIFS(C$7:C$19,$A$7:$A$19,$A47)+SUMIFS(C$27:C$39,$A$27:$A$39,$A47)","v":0},4830.5,0,{"$f":"IF(D47=0,0,B47/D47)","v":343.42407618258977},{"$f":"IF(E47=0,0,C27/E47)","v":0},{"$f":"IF(D47+E47=0,0,(B47+C47)/(D47+E47))","v":343.42407618258977},{"$f":"SUMIFS(I$7:I$19,$A$7:$A$19,$A47)+SUMIFS(I$27:I$39,$A$27:$A$39,$A47)","v":8941245},{"$f":"SUMIFS(J$7:J$19,$A$7:$A$19,$A47)+SUMIFS(J$27:J$39,$A$27:$A$39,$A47)","v":0},313.60000000000002,{"$f":"IF(I47=0,0,(B47-I47)/I47)","v":-0.81446543518268433},{"$f":"IF(K47=0,0,(H47-K47)/K47)","v":9.5102283745503016E-2}]
["Bergen",{"$f":"SUMIFS($B$7:$B$19,$A$7:$A$19,A48)+SUMIFS($B$27:$B$39,$A$27:$A$39,A48)","v":38138149.490000002},0,114630.99,0,{"$f":"IF(D48=0,0,B48/D48)","v":332.70365622769202},{"$f":"IF(E48=0,0,C48/E48)","v":0},{"$f":"IF(D48+E48=0,0,(B48+C48)/(D48+E48))","v":332.70365622769202},{"$f":"SUMIFS(I$7:I$19,$A$7:$A$19,$A48)+SUMIFS(I$27:I$39,$A$27:$A$39,$A48)","v":47482232.32},0,304.24,{"$f":"IF(I48=0,0,(B48-I48)/I48)","v":-0.19679114425427247},{"$f":"IF(K48=0,0,(H48-K48)/K48)","v":9.3556587653470982E-2}]
["Drammen - Bærum",0,0,0,0,0,0,0,0,0,0,0,0]
["Haugesund",0,0,0,0,0,0,0,11822399,0,290.36,-1,-1]
["Hamar og Omegn",20967006.990000002,2289833.9700000002,61424.520000000004,10773,341.34588255634719,212.5530465051518,322.12797558697304,9710972,1047893,300.39,1.1591048753924944,7.2365843027308002E-2]
["Sandnes",28044831.079999998,0,81309.399999999994,0,{"$f":"IF(D52=0,0,B52/D52)","v":344.91499236250667},0,{"$f":"IF(D52+E52=0,0,(B52+C52)/(D52+E52))","v":344.91499236250667},57388040.759999998,0,331.88,-0.51131227502111365,3.9276221412880168E-2]
["Stavanger",771688.66999999993,0,2694.5,0,286.39401373167561,0,286.39401373167561,0,0,0,0,0]
["Telemark",15394495,0,42665,0,360.82257119418728,0,360.82257119418728,6377480,0,303.43,1.41388369700885,0.18914600136501752]
["Trondheim",96975175.170000002,4046901.37,293306.34999999998,20468.87,330.62760206180332,197.71005287541522,321.95683438609336,81688339.24000001,0,349.32,0.18713608419785999,-7.833266235516613E-2]
["Vestfold",0,0,0,0,{"$f":"IF(D56=0,0,B56/D56)","v":0},0,0,0,0,0,0,0]
["Østfold",8605629,1787580,26597.5,{"$f":"SUMIFS(E$7:E$19,$A$7:$A$19,$A57)+SUMIFS(E$27:E$39,$A$27:$A$39,$A57)","v":10831},{"$f":"IF(D57=0,0,B57/D57)","v":323.55029608045868},165.04293232388514,277.68168641543207,6601427,53500,328.11,0.30360132740996759,-0.15369331499974992]
["Oslo",66742937,2972328,175339,11881,380.6508363798128,250.17490110260078,372.37082042516823,46947575,1846219,351.94,0.42164823209718499,5.805199870764402E-2]
["Landet i alt",{"$f":"SUM(B47:B58)","v":277298822.39999998},{"$f":"SUM(C47:C58)","v":11096643.34},{"$f":"SUM(D47:D58)","v":802797.76},{"$f":"SUM(E47:E58)","v":53953.869999999995},{"$f":"IF(D59=0,0,B59/D59)","v":345.41554077081628},{"$f":"IF(E59=0,0,C59/E59)","v":205.66908990958387},{"$f":"IF(D59+E59=0,0,(B59+C59)/(D59+E59))","v":336.61501845056301},{"$f":"SUM(I47:I58)","v":276959710.31999999},{"$f":"SUM(J47:J58)","v":2947612},330.15,{"$f":"IF(I59=0,0,(B59-I59)/I59)","v":1.2244094262236637E-3},{"$f":"IF(K59=0,0,(H59-K59)/K59)","v":1.9582064063495493E-2}]

{"sheet":"TØMRERE","index":4,"n_rows":59,"n_cols":13,"rows_kept":59,"cut":false,"hidden":false,"merged":[[1,0,1,12],[21,0,21,12],[41,0,41,12]]}
[]
[{"$f":"\"MÅLESTATISTIKK FOR TØMRERE - 1. HALVÅR \"&FORS!$A$14","v":"MÅLESTATISTIKK FOR TØMRERE - 1. HALVÅR 2022"}]
[]
[null,"Målesum i kroner",null,"Timer",null,{"$f":"\"Fortjeneste 1. halvår  \"&FORS!$A$14-0","v":"Fortjeneste 1. halvår  2022"},null,null,{"$f":"\" 1. halvår  \"&FORS!$A$14-1","v":" 1. halvår  2021"},null,null,"Endringer i %"]
[null,"Innmålt m/","Innmålt m/","Innmålt m/","Innmålt m/","Innmålt m/","Innmålt m/","Gjennom-","Innmålt m/","Innmålt m/","Gjen.snitt","Innmålt m/","Gjen.snitt"]
[null,"overskudd","underskudd","overskudd","underskudd","overskudd","underskudd","snitt","overskudd","underskudd","fortjeneste","overskudd","fortjeneste"]
["Agder",4714613,null,14967,null,{"$f":"IF(D7=0,0,B7/D7)","v":315.00053450925367},{"$f":"IF(E7=0,0,C7/E7)","v":0},{"$f":"IF(D7+E7=0,0,(B7+C7)/(D7+E7))","v":315.00053450925367},7188511,null,306.67,{"$f":"IF(I7=0,0,(B7-I7)/I7)","v":-0.34414609645864075},{"$f":"IF(K7=0,0,(H7-K7)/K7)","v":2.7164491177009985E-2}]
["Bergen",null,null,null,null,{"$f":"IF(D8=0,0,B8/D8)","v":0},0,{"$f":"IF(D8+E8=0,0,(B8+C8)/(D8+E8))","v":0},null,null,0,{"$f":"IF(I8=0,0,(B8-I8)/I8)","v":0},{"$f":"IF(K8=0,0,(H8-K8)/K8)","v":0}]
["Drammen - Bærum",null,null,null,null,0,0,0,null,null,0,0,0]
["Haugesund",null,null,null,null,0,0,0,null,null,0,0,0]
["Hamar og Omegn",11229776.84,null,39113.1,null,287.11037580759387,0,287.11037580759387,3010764,307983,305.64999999999998,2.7298761510367466,-6.0656385383301523E-2]
["Sandnes",null,null,null,null,0,0,0,2322419,null,288.33,-1,-1]
["Stavanger",null,null,null,null,0,0,0,null,null,0,0,0]
["Telemark",14552743,null,43968,null,330.98487536390104,0,330.98487536390104,8218301,2517000,310.31,0.77077269377210689,6.6626519815349283E-2]
["Trondheim",63068793.82,7546396.1200000001,192570.94,34525.14,327.50940417074349,218.57684342482031,310.94851985115724,82817344,7906794,304.01599825255403,-0.2384591104491349,2.2803147329254002E-2]
["Vestfold",790021,null,2810.5,null,281.0962462195339,0,281.0962462195339,4819741.7,null,330.8,-0.83608644421753975,-0.15025318555159042]
["Østfold",5843692,null,20254.5,null,288.51326865634798,0,288.51326865634798,9855768,2949901,275.75,-0.40707898156693623,4.6285652425559293E-2]
["Oslo",47675313.689999998,null,136103.4,0,350.28745564034404,0,350.28745564034404,51602400.829999998,0,336.26,-7.6102799033275145E-2,{"$f":"IF(K18=0,0,(H18-K18)/K18)","v":4.1716099566835321E-2}]
["Landet i alt",{"$f":"SUM(B7:B18)","v":147874953.34999999},{"$f":"SUM(C7:C18)","v":7546396.1200000001},{"$f":"SUM(D7:D18)","v":449787.44000000006},{"$f":"SUM(E7:E18)","v":34525.14},{"$f":"IF(D19=0,0,B19/D19)","v":328.76630203368944},{"$f":"IF(E19=0,0,C19/E19)","v":218.57684342482031},{"$f":"IF(D19+E19=0,0,(B19+C19)/(D19+E19))","v":320.91123767629568},{"$f":"SUM(I7:I18)","v":169835249.53},{"$f":"SUM(J7:J18)","v":13681678},309.84011456143861,{"$f":"IF(I19=0,0,(B19-I19)/I19)","v":-0.12930352350747365},{"$f":"IF(K19=0,0,(H19-K19)/K19)","v":3.5731729348627533E-2}]
[]
[]
[{"$f":"\"MÅLESTATISTIKK FOR TØMRERE - 2. HALVÅR \"&FORS!$A$14","v":"MÅLESTATISTIKK FOR TØMRERE - 2. HALVÅR 2022"}]
[]
[null,"Målesum i kroner",null,"Timer",null,{"$f":"\"Fortjeneste 2. halvår  \"&FORS!$A$14-0","v":"Fortjeneste 2. halvår  2022"},null,null,{"$f":"\" 2. halvår  \"&FORS!$A$14-1","v":" 2. halvår  2021"},null,null,"Endringer i %"]
[null,"Innmålt m/","Innmålt m/","Innmålt m/","Innmålt m/","Innmålt m/","Innmålt m/","Gjennom-","Innmålt m/","Innmålt m/","Gjen.snitt","Innmålt m/","Gjen.snitt"]
[null,"overskudd","underskudd","overskudd","underskudd","overskudd","underskudd","snitt","overskudd","underskudd","fortjeneste","overskudd","fortjeneste"]
["Agder",3079712,null,8946,null,{"$f":"IF(D27=0,0,B27/D27)","v":344.25575676279902},0,{"$f":"IF(D27+E27=0,0,(B27+C27)/(D27+E27))","v":344.25575676279902},8493420,null,311.94,{"$f":"IF(I27=0,0,(B27-I27)/I27)","v":-0.63740024630831871},{"$f":"IF(K27=0,0,(H27-K27)/K27)","v":0.10359606579085409}]
["Bergen",null,null,null,null,0,0,{"$f":"IF(D28+E28=0,0,(B28+C28)/(D28+E28))","v":0},null,null,0,{"$f":"IF(I28=0,0,(B28-I28)/I28)","v":0},{"$f":"IF(K28=0,0,(H28-K28)/K28)","v":0}]
["Drammen - Bærum",null,null,null,null,0,0,0,null,null,0,0,0]
["Haugesund",null,null,null,null,0,0,0,null,null,0,0,0]
["Hamar og Omegn",6106453.8200000003,307983,20850.8,1501.5,292.86424597617361,205.11688311688312,286.96987871494213,7964273,434567,324.42,-0.2332691483579229,-0.11543715333536123]
["Sandnes",null,null,null,null,0,0,0,null,null,null,0,0]
["Stavanger",null,null,null,null,0,0,0,null,null,0,0,0]
["Telemark",14294306,800000,43272,3400,330.33615270844888,235.29411764705881,323.41245286253002,16307650,null,294.29000000000002,-0.12346009388231903,9.8958350139420281E-2]
["Trondheim",75283462.200000003,3929598.7,227287.98,18807.29,331.22500450749749,208.94018755493215,321.87965619981236,73733703.870000005,2477617.2599999998,324.14,2.1018316572464328E-2,-6.9733565748985845E-3]
["Vestfold",2167631,null,5318.5,null,407.56435085080381,0,407.56435085080381,1472901,null,498.36,0.47167460677941014,-0.18218887781763426]
["Østfold",1087323,1299999,3331,5649,326.4253977784449,230.12904938927244,265.84877505567931,2682125.5,841837,351.22,-0.59460398105905188,-0.24307051120186979]
["Oslo",68377351.549999997,7110348.8300000001,190751.3,24511.96,358.46335804788748,290.0767147955529,350.67619239808965,31635079.609999999,null,334.81,1.1614407927200407,4.7388645494727315E-2]
["Landet i alt",{"$f":"SUM(B27:B38)","v":170396239.56999999},{"$f":"SUM(C27:C38)","v":13447929.530000001},{"$f":"SUM(D27:D38)","v":499757.58},{"$f":"SUM(E27:E38)","v":53869.75},{"$f":"IF(D39=0,0,B39/D39)","v":340.95778911447422},{"$f":"IF(E39=0,0,C39/E39)","v":249.63786782006602},{"$f":"IF(D39+E39=0,0,(B39+C39)/(D39+E39))","v":332.07206208551872},{"$f":"SUM(I27:I38)","v":142289152.98000002},{"$f":"SUM(J27:J38)","v":3754021.26},306.32752674789111,0.19753499125791177,8.4042513615877154E-2]
[]
[]
[{"$f":"\"MÅLESTATISTIKK FOR TØMRERE - GJENNOMSNITT HELE ÅRET  \"&FORS!$A$14","v":"MÅLESTATISTIKK FOR TØMRERE - GJENNOMSNITT HELE ÅRET  2022"}]
[]
[null,"Målesum i kroner",null,"Timer",null,{"$f":"\"Fortjeneste hele  \"&FORS!$A$14-0","v":"Fortjeneste hele  2022"},null,null,{"$f":"\" Hele året  \"&FORS!$A$14-1","v":" Hele året  2021"},null,null,"Endringer i %"]
[null,"Innmålt m/","Innmålt m/","Innmålt m/","Innmålt m/","Innmålt m/","Innmålt m/","Gjennom-","Innmålt m/","Innmålt m/","Gjen.snitt","Innmålt m/","Gjen.snitt"]
[null,"overskudd","underskudd","overskudd","underskudd","overskudd","underskudd","snitt","overskudd","underskudd","fortjeneste","overskudd","fortjeneste"]
["Agder",{"$f":"SUMIFS(B$7:B$19,$A$7:$A$19,$A47)+SUMIFS(B$27:B$39,$A$27:$A$39,$A47)","v":7794325},{"$f":"SUMIFS(C$7:C$19,$A$7:$A$19,$A47)+SUMIFS(C$27:C$39,$A$27:$A$39,$A47)","v":0},23913,0,{"$f":"IF(D47=0,0,B47/D47)","v":325.94509262744111},{"$f":"IF(E47=0,0,C27/E47)","v":0},{"$f":"IF(D47+E47=0,0,(B47+C47)/(D47+E47))","v":325.94509262744111},{"$f":"SUMIFS(I$7:I$19,$A$7:$A$19,$A47)+SUMIFS(I$27:I$39,$A$27:$A$39,$A47)","v":15681931},{"$f":"SUMIFS(J$7:J$19,$A$7:$A$19,$A47)+SUMIFS(J$27:J$39,$A$27:$A$39,$A47)","v":0},309.60000000000002,{"$f":"IF(I47=0,0,(B47-I47)/I47)","v":-0.50297415541491675},{"$f":"IF(K47=0,0,(H47-K47)/K47)","v":5.2794226832820056E-2}]
["Bergen",{"$f":"SUMIFS($B$7:$B$19,$A$7:$A$19,A48)+SUMIFS($B$27:$B$39,$A$27:$A$39,A48)","v":0},0,0,0,{"$f":"IF(D48=0,0,B48/D48)","v":0},0,{"$f":"IF(D48+E48=0,0,(B48+C48)/(D48+E48))","v":0},{"$f":"SUMIFS(I$7:I$19,$A$7:$A$19,$A48)+SUMIFS(I$27:I$39,$A$27:$A$39,$A48)","v":0},0,0,{"$f":"IF(I48=0,0,(B48-I48)/I48)","v":0},{"$f":"IF(K48=0,0,(H48-K48)/K48)","v":0}]
["Drammen - Bærum",0,0,0,0,0,0,0,0,0,0,0,0]
["Haugesund",0,0,0,0,0,0,0,0,0,0,0,0]
["Hamar og Omegn",17336230.66,307983,59963.899999999994,1501.5,289.11112619426024,205.11688311688312,287.05928310887106,10975037,742550,318.87,0.57960566875537645,-9.9760770505625956E-2]
["Sandnes",0,0,0,0,{"$f":"IF(D52=0,0,B52/D52)","v":0},0,{"$f":"IF(D52+E52=0,0,(B52+C52)/(D52+E52))","v":0},2322419,0,288.33,-1,-1]
["Stavanger",0,0,0,0,0,0,0,0,0,0,0,0]
["Telemark",28847049,800000,87240,3400,330.66310178817054,235.29411764705881,327.08571270962045,24525951,2517000,300.45,0.17618472776040367,8.8652729937162472E-2]
["Trondheim",138352256.02000001,11475994.82,419858.92000000004,53332.43,329.52082099387098,215.17854746164764,316.63353702471522,156551047.87,10384411.26,310.5,-0.11624829151646607,1.9753742430644844E-2]
["Vestfold",2957652,0,8129,0,{"$f":"IF(D56=0,0,B56/D56)","v":363.83958666502645},0,363.83958666502645,6292642.7000000002,0,359.06,-0.52998253023328346,1.3311387135928377E-2]
["Østfold",6931015,1299999,23585.5,{"$f":"SUMIFS(E$7:E$19,$A$7:$A$19,$A57)+SUMIFS(E$27:E$39,$A$27:$A$39,$A57)","v":5649},{"$f":"IF(D57=0,0,B57/D57)","v":293.86763053571048},230.12904938927244,281.55138620465544,12537893.5,3791738,289.16000000000003,-0.44719461845803682,-2.6312815726049869E-2]
["Oslo",116052665.23999999,7110348.8300000001,326854.69999999995,24511.96,355.05888469708407,290.0767147955529,350.52561352861426,83237480.439999998,0,335.71,0.39423568116834268,4.4132178155593456E-2]
["Landet i alt",{"$f":"SUM(B47:B58)","v":318271192.92000002},{"$f":"SUM(C47:C58)","v":20994325.649999999},{"$f":"SUM(D47:D58)","v":949545.02},{"$f":"SUM(E47:E58)","v":88394.89},{"$f":"IF(D59=0,0,B59/D59)","v":335.18283621770775},{"$f":"IF(E59=0,0,C59/E59)","v":237.50610074858398},{"$f":"IF(D59+E59=0,0,(B59+C59)/(D59+E59))","v":326.86431584464265},{"$f":"SUM(I47:I58)","v":312124402.50999999},{"$f":"SUM(J47:J58)","v":17435699.259999998},315.36,{"$f":"IF(I59=0,0,(B59-I59)/I59)","v":1.9693399044001671E-2},{"$f":"IF(K59=0,0,(H59-K59)/K59)","v":3.647994623491449E-2}]

{"sheet":"MALERE","index":5,"n_rows":59,"n_cols":13,"rows_kept":59,"cut":false,"hidden":false,"merged":[[1,0,1,12],[21,0,21,12],[41,0,41,12]]}
[]
[{"$f":"\"MÅLESTATISTIKK FOR MALERE - 1. HALVÅR \"&FORS!$A$14","v":"MÅLESTATISTIKK FOR MALERE - 1. HALVÅR 2022"}]
[]
[null,"Målesum i kroner",null,"Timer",null,{"$f":"\"Fortjeneste 1. halvår  \"&FORS!$A$14-0","v":"Fortjeneste 1. halvår  2022"},null,null,{"$f":"\" 1. halvår  \"&FORS!$A$14-1","v":" 1. halvår  2021"},null,null,"Endringer i %"]
[null,"Innmålt m/","Innmålt m/","Innmålt m/","Innmålt m/","Innmålt m/","Innmålt m/","Gjennom-","Innmålt m/","Innmålt m/","Gjen.snitt","Innmålt m/","Gjen.snitt"]
[null,"overskudd","underskudd","overskudd","underskudd","overskudd","underskudd","snitt","overskudd","underskudd","fortjeneste","overskudd","fortjeneste"]
["Agder",null,null,null,null,{"$f":"IF(D7=0,0,B7/D7)","v":0},{"$f":"IF(E7=0,0,C7/E7)","v":0},{"$f":"IF(D7+E7=0,0,(B7+C7)/(D7+E7))","v":0},null,null,0,{"$f":"IF(I7=0,0,(B7-I7)/I7)","v":0},{"$f":"IF(K7=0,0,(H7-K7)/K7)","v":0}]
["Bergen",657178.21,null,2780.73,0,{"$f":"IF(D8=0,0,B8/D8)","v":236.33298090789108},{"$f":"IF(E8=0,0,C8/E8)","v":0},{"$f":"IF(D8+E8=0,0,(B8+C8)/(D8+E8))","v":236.33298090789108},1393596.92,null,258.52999999999997,{"$f":"IF(I8=0,0,(B8-I8)/I8)","v":-0.52843020778203209},{"$f":"IF(K8=0,0,(H8-K8)/K8)","v":-8.5858581565423323E-2}]
["Drammen - Bærum",null,null,null,null,0,0,{"$f":"IF(D9+E9=0,0,(B9+C9)/(D9+E9))","v":0},null,null,0,{"$f":"IF(I9=0,0,(B9-I9)/I9)","v":0},0]
["Haugesund",null,null,null,null,0,0,0,null,null,0,0,0]
["Hamar og Omegn",2533204.15,null,8104,0,{"$f":"IF(D11=0,0,B11/D11)","v":312.58688919052321},0,{"$f":"IF(D11+E11=0,0,(B11+C11)/(D11+E11))","v":312.58688919052321},1529179,null,373.97,0.65657790879942757,-0.16413913097167371]
["Sandnes",null,null,null,null,0,0,0,null,null,0,0,0]
["Stavanger",null,null,null,null,0,0,0,null,null,0,0,0]
["Telemark",233396,0,642,0,363.54517133956386,0,363.54517133956386,117214,null,540.16,0.99119559097036192,-0.32696761822503723]
["Trondheim",18164579,926487,56463.18,4647.18,321.70662367936058,{"$f":"IF(E15=0,0,C15/E15)","v":199.36542161052509},312.40310153630253,20964447,7983359,283.52999999999997,-0.13355315310725821,0.10183437920608951]
["Vestfold",null,null,null,null,0,0,0,null,null,null,0,0]
["Østfold",null,0,null,null,0,0,0,null,null,0,0,0]
["Oslo",11720436,132684,36337,678,322.54825659795802,195.69911504424778,320.2247737403755,7728422,110709,328.06,0.51653675226326923,-2.3883516002025561E-2]
["Landet i alt",{"$f":"SUM(B7:B18)","v":33308793.359999999},{"$f":"SUM(C7:C18)","v":1059171},{"$f":"SUM(D7:D18)","v":104326.91},{"$f":"SUM(E7:E18)","v":5325.18},{"$f":"IF(D19=0,0,B19/D19)","v":319.27326669600393},{"$f":"IF(E19=0,0,C19/E19)","v":198.89862877874549},{"$f":"IF(D19+E19=0,0,(B19+C19)/(D19+E19))","v":313.42735336827599},{"$f":"SUM(I7:I18)","v":31732858.920000002},{"$f":"SUM(J7:J18)","v":8094068},293.67,{"$f":"IF(I19=0,0,(B19-I19)/I19)","v":4.9662542034835278E-2},{"$f":"IF(K19=0,0,(H19-K19)/K19)","v":6.7277397651363674E-2}]
[]
[]
[{"$f":"\"MÅLESTATISTIKK FOR MALERE - 2. HALVÅR \"&FORS!$A$14","v":"MÅLESTATISTIKK FOR MALERE - 2. HALVÅR 2022"}]
[]
[null,"Målesum i kroner",null,"Timer",null,{"$f":"\"Fortjeneste 2. halvår  \"&FORS!$A$14-0","v":"Fortjeneste 2. halvår  2022"},null,null,{"$f":"\" 2. halvår  \"&FORS!$A$14-1","v":" 2. halvår  2021"},null,null,"Endringer i %"]
[null,"Innmålt m/","Innmålt m/","Innmålt m/","Innmålt m/","Innmålt m/","Innmålt m/","Gjennom-","Innmålt m/","Innmålt m/","Gjen.snitt","Innmålt m/","Gjen.snitt"]
[null,"overskudd","underskudd","overskudd","underskudd","overskudd","underskudd","snitt","overskudd","underskudd","fortjeneste","overskudd","fortjeneste"]
["Agder",null,null,null,null,{"$f":"IF(D27=0,0,B27/D27)","v":0},0,{"$f":"IF(D27+E27=0,0,(B27+C27)/(D27+E27))","v":0},null,null,0,{"$f":"IF(I27=0,0,(B27-I27)/I27)","v":0},{"$f":"IF(K27=0,0,(H27-K27)/K27)","v":0}]
["Bergen",148590.60999999999,null,623.13,null,238.45844366344099,0,{"$f":"IF(D28+E28=0,0,(B28+C28)/(D28+E28))","v":238.45844366344099},964964.81,null,246.91,{"$f":"IF(I28=0,0,(B28-I28)/I28)","v":-0.84601447797873586},{"$f":"IF(K28=0,0,(H28-K28)/K28)","v":-3.422929948790656E-2}]
["Drammen - Bærum",null,null,null,null,0,0,{"$f":"IF(D29+E29=0,0,(B29+C29)/(D29+E29))","v":0},null,null,0,0,0]
["Haugesund",null,null,null,null,0,0,0,null,null,0,0,0]
["Hamar og Omegn",2308257.6,null,5467.7,0,422.16244490370724,0,422.16244490370724,629296,0,268.24,2.6679997965981035,0.57382360909524022]
["Sandnes",null,null,null,null,0,0,0,null,null,0,0,0]
["Stavanger",null,null,null,null,0,0,0,null,null,0,0,0]
["Telemark",117379,null,347.5,null,337.7812949640288,0,337.7812949640288,66517,null,457.16,0.76464663168813984,-0.26113112484900519]
["Trondheim",24067359,6096846,74705.710000000006,28037.279999999999,322.16224168139217,217.45497423430518,293.58893487526495,20880023,2464338,295.45999999999998,0.15265002342190906,-6.3327188950620247E-3]
["Vestfold",null,null,null,null,0,0,0,null,null,null,0,0]
["Østfold",null,null,null,null,0,0,0,null,null,0,{"$f":"IF(I38=0,0,(B37-I38)/I38)","v":-1},0]
["Oslo",11090734,74139,31629,346,350.65079515634386,214.27456647398844,349.17507427677873,7436408,106121,306.44,{"$f":"IF(#REF!=0,0,(B38-#REF!)/#REF!)","v":{"$error":"#REF!"}},0.13945657967882369]
["Landet i alt",{"$f":"SUM(B27:B38)","v":37732320.210000001},{"$f":"SUM(C27:C38)","v":6170985},{"$f":"SUM(D27:D38)","v":112773.04000000001},{"$f":"SUM(E27:E38)","v":28383.279999999999},{"$f":"IF(D39=0,0,B39/D39)","v":334.58635335182947},{"$f":"IF(E39=0,0,C39/E39)","v":217.41620418781761},{"$f":"IF(D39+E39=0,0,(B39+C39)/(D39+E39))","v":311.02613903507824},{"$f":"SUM(I27:I38)","v":29977208.809999999},{"$f":"SUM(J27:J38)","v":2570459},293.67,0.25870024955135251,5.9100824173658285E-2]
[]
[]
[{"$f":"\"MÅLESTATISTIKK FOR MALERE - GJENNOMSNITT HELE ÅRET  \"&FORS!$A$14","v":"MÅLESTATISTIKK FOR MALERE - GJENNOMSNITT HELE ÅRET  2022"}]
[]
[null,"Målesum i kroner",null,"Timer",null,{"$f":"\"Fortjeneste hele  \"&FORS!$A$14-0","v":"Fortjeneste hele  2022"},null,null,{"$f":"\" Hele året  \"&FORS!$A$14-1","v":" Hele året  2021"},null,null,"Endringer i %"]
[null,"Innmålt m/","Innmålt m/","Innmålt m/","Innmålt m/","Innmålt m/","Innmålt m/","Gjennom-","Innmålt m/","Innmålt m/","Gjen.snitt","Innmålt m/","Gjen.snitt"]
[null,"overskudd","underskudd","overskudd","underskudd","overskudd","underskudd","snitt","overskudd","underskudd","fortjeneste","overskudd","fortjeneste"]
["Agder",{"$f":"SUMIFS(B$7:B$19,$A$7:$A$19,$A47)+SUMIFS(B$27:B$39,$A$27:$A$39,$A47)","v":0},{"$f":"SUMIFS(C$7:C$19,$A$7:$A$19,$A47)+SUMIFS(C$27:C$39,$A$27:$A$39,$A47)","v":0},0,0,{"$f":"IF(D47=0,0,B47/D47)","v":0},{"$f":"IF(E47=0,0,C27/E47)","v":0},{"$f":"IF(D47+E47=0,0,(B47+C47)/(D47+E47))","v":0},{"$f":"SUMIFS(I$7:I$19,$A$7:$A$19,$A47)+SUMIFS(I$27:I$39,$A$27:$A$39,$A47)","v":0},{"$f":"SUMIFS(J$7:J$19,$A$7:$A$19,$A47)+SUMIFS(J$27:J$39,$A$27:$A$39,$A47)","v":0},0,{"$f":"IF(I47=0,0,(B47-I47)/I47)","v":0},{"$f":"IF(K47=0,0,(H47-K47)/K47)","v":0}]
["Bergen",{"$f":"SUMIFS($B$7:$B$19,$A$7:$A$19,A48)+SUMIFS($B$27:$B$39,$A$27:$A$39,A48)","v":805768.82},0,3403.86,0,{"$f":"IF(D48=0,0,B48/D48)","v":236.72208022656628},0,{"$f":"IF(D48+E48=0,0,(B48+C48)/(D48+E48))","v":236.72208022656628},{"$f":"SUMIFS(I$7:I$19,$A$7:$A$19,$A48)+SUMIFS(I$27:I$39,$A$27:$A$39,$A48)","v":2358561.73},0,253.64,{"$f":"IF(I48=0,0,(B48-I48)/I48)","v":-0.65836432867076167},{"$f":"IF(K48=0,0,(H48-K48)/K48)","v":-6.6700519529386965E-2}]
["Drammen - Bærum",0,0,0,0,0,0,0,0,0,0,0,0]
["Haugesund",0,0,0,0,0,0,0,0,0,0,0,0]
["Hamar og Omegn",4841461.75,0,13571.7,0,356.73215219906126,0,356.73215219906126,2158475,0,335.43,1.2430010771493762,6.350699758239052E-2]
["Sandnes",0,0,0,0,{"$f":"IF(D52=0,0,B52/D52)","v":0},0,{"$f":"IF(D52+E52=0,0,(B52+C52)/(D52+E52))","v":0},0,0,0,0,0]
["Stavanger",0,0,0,0,0,0,0,0,0,0,0,0]
["Telemark",350775,0,989.5,0,354.49722081859522,0,354.49722081859522,183731,0,506.84,0.90917700333639939,-0.30057371000987443]
["Trondheim",42231938,7023333,131168.89000000001,32684.46,321.96611559341545,214.88294437172897,300.60582221846545,41844470,10447697,288.73,9.2597181897631879E-3,4.1131237552264846E-2]
["Vestfold",0,0,0,0,{"$f":"IF(D56=0,0,B56/D56)","v":0},0,0,0,0,null,0,0]
["Østfold",0,0,0,{"$f":"SUMIFS(E$7:E$19,$A$7:$A$19,$A57)+SUMIFS(E$27:E$39,$A$27:$A$39,$A57)","v":0},{"$f":"IF(D57=0,0,B57/D57)","v":0},0,0,0,0,0,0,0]
["Oslo",22811170,206823,67966,1024,335.6261954506665,201.9755859375,333.64245542832293,15164830,216830,317.64,0.50421534563855974,5.0379219960719514E-2]
["Landet i alt",{"$f":"SUM(B47:B58)","v":71041113.569999993},{"$f":"SUM(C47:C58)","v":7230156},{"$f":"SUM(D47:D58)","v":217099.95},{"$f":"SUM(E47:E58)","v":33708.46},{"$f":"IF(D59=0,0,B59/D59)","v":327.22768277929123},{"$f":"IF(E59=0,0,C59/E59)","v":214.49084295159139},{"$f":"IF(D59+E59=0,0,(B59+C59)/(D59+E59))","v":312.07593704692755},{"$f":"SUM(I47:I58)","v":61710067.730000004},{"$f":"SUM(J47:J58)","v":10664527},294.64,{"$f":"IF(I59=0,0,(B59-I59)/I59)","v":0.15120783663414702},{"$f":"IF(K59=0,0,(H59-K59)/K59)","v":5.9177087452238541E-2}]

{"sheet":"RØRLEGGERE","index":6,"n_rows":59,"n_cols":13,"rows_kept":59,"cut":false,"hidden":false,"merged":[[1,0,1,12],[21,0,21,12],[41,0,41,12]]}
[]
[{"$f":"\"MÅLESTATISTIKK FOR RØRLEGGERE - 1. HALVÅR \"&FORS!$A$14","v":"MÅLESTATISTIKK FOR RØRLEGGERE - 1. HALVÅR 2022"}]
[]
[null,"Målesum i kroner",null,"Timer",null,{"$f":"\"Fortjeneste 1. halvår  \"&FORS!$A$14-0","v":"Fortjeneste 1. halvår  2022"},null,null,{"$f":"\" 1. halvår  \"&FORS!$A$14-1","v":" 1. halvår  2021"},null,null,"Endringer i %"]
[null,"Innmålt m/","Innmålt m/","Innmålt m/","Innmålt m/","Innmålt m/","Innmålt m/","Gjennom-","Innmålt m/","Innmålt m/","Gjen.snitt","Innmålt m/","Gjen.snitt"]
[null,"overskudd","underskudd","overskudd","underskudd","overskudd","underskudd","snitt","overskudd","underskudd","fortjeneste","overskudd","fortjeneste"]
["Agder",null,null,null,null,{"$f":"IF(D7=0,0,B7/D7)","v":0},{"$f":"IF(E7=0,0,C7/E7)","v":0},{"$f":"IF(D7+E7=0,0,(B7+C7)/(D7+E7))","v":0},null,null,0,{"$f":"IF(I7=0,0,(B7-I7)/I7)","v":0},{"$f":"IF(K7=0,0,(H7-K7)/K7)","v":0}]
["Bergen",null,null,null,null,{"$f":"IF(D8=0,0,B8/D8)","v":0},0,{"$f":"IF(D8+E8=0,0,(B8+C8)/(D8+E8))","v":0},null,null,0,{"$f":"IF(I8=0,0,(B8-I8)/I8)","v":0},{"$f":"IF(K8=0,0,(H8-K8)/K8)","v":0}]
["Nordland",null,null,null,null,0,0,0,null,null,0,0,0]
["Haugesund",null,null,null,null,0,0,0,null,null,0,0,0]
["Hamar og Omegn",null,null,null,null,0,0,0,null,null,0,0,0]
["Sandnes",null,null,null,null,0,0,0,null,null,0,0,0]
["Stavanger",null,null,null,null,0,0,0,null,null,0,0,0]
["Telemark",null,null,null,null,0,0,0,null,null,0,0,0]
["Trondheim",3933483.88,2022729.36,11358.1,9086.1,346.31530625720848,222.61799451910062,291.34000058696353,9779522.9700000007,4641267.51,284.35000000000002,-0.59778366572004693,2.4582382932876748E-2]
["Vestfold",null,null,null,null,0,0,0,null,null,0,0,0]
["Østfold",null,null,null,null,0,0,0,null,null,0,0,0]
["Oslo",38489101,1142598,116529,6755,330.29632966900942,169.14848260547743,321.46668667466986,36598559,1578608,306.17,5.1656186791397989E-2,4.9961415797334298E-2]
["Landet i alt",{"$f":"SUM(B7:B18)","v":42422584.880000003},{"$f":"SUM(C7:C18)","v":3165327.3600000003},{"$f":"SUM(D7:D18)","v":127887.1},{"$f":"SUM(E7:E18)","v":15841.1},{"$f":"IF(D19=0,0,B19/D19)","v":331.71903092649688},{"$f":"IF(E19=0,0,C19/E19)","v":199.81739651918113},{"$f":"IF(D19+E19=0,0,(B19+C19)/(D19+E19))","v":317.18140378853974},{"$f":"SUM(I7:I18)","v":46378081.969999999},{"$f":"SUM(J7:J18)","v":6219875.5099999998},299.86,{"$f":"IF(I19=0,0,(B19-I19)/I19)","v":-8.5288069751539922E-2},{"$f":"IF(K19=0,0,(H19-K19)/K19)","v":5.7764969614285754E-2}]
[]
[]
[{"$f":"\"MÅLESTATISTIKK FOR RØRLEGGERE - 2. HALVÅR \"&FORS!$A$14","v":"MÅLESTATISTIKK FOR RØRLEGGERE - 2. HALVÅR 2022"}]
[]
[null,"Målesum i kroner",null,"Timer",null,{"$f":"\"Fortjeneste 2. halvår  \"&FORS!$A$14-0","v":"Fortjeneste 2. halvår  2022"},null,null,{"$f":"\" 2. halvår  \"&FORS!$A$14-1","v":" 2. halvår  2021"},null,null,"Endringer i %"]
[null,"Innmålt m/","Innmålt m/","Innmålt m/","Innmålt m/","Innmålt m/","Innmålt m/","Gjennom-","Innmålt m/","Innmålt m/","Gjen.snitt","Innmålt m/","Gjen.snitt"]
[null,"overskudd","underskudd","overskudd","underskudd","overskudd","underskudd","snitt","overskudd","underskudd","fortjeneste","overskudd","fortjeneste"]
["Agder",null,null,null,null,{"$f":"IF(D27=0,0,B27/D27)","v":0},0,{"$f":"IF(D27+E27=0,0,(B27+C27)/(D27+E27))","v":0},null,null,0,{"$f":"IF(I27=0,0,(B27-I27)/I27)","v":0},{"$f":"IF(K27=0,0,(H27-K27)/K27)","v":0}]
["Bergen",null,null,null,null,0,0,{"$f":"IF(D28+E28=0,0,(B28+C28)/(D28+E28))","v":0},null,null,0,{"$f":"IF(I28=0,0,(B28-I28)/I28)","v":0},{"$f":"IF(K28=0,0,(H28-K28)/K28)","v":0}]
["Nordland",null,null,0,null,0,0,0,null,424816.48,201.76512942293991,0,-1]
["Haugesund",null,null,null,null,0,0,0,null,null,0,0,0]
["Hamar og Omegn",null,null,null,null,0,0,0,null,null,0,0,0]
["Sandnes",null,null,null,null,0,0,0,null,null,0,0,0]
["Stavanger",null,null,null,null,0,0,0,null,null,0,0,0]
["Telemark",null,null,null,null,0,0,0,null,null,0,0,0]
["Trondheim",17862922.010000002,7998067.3499999996,52387.64,36941.480000000003,340.97588686949825,216.50641365749286,289.502341005934,7773105.4699999997,3108168.08,394.75,1.2980418931585658,-0.26661851550111715]
["Vestfold",null,null,null,null,0,0,0,null,null,0,0,0]
["Østfold",null,0,null,null,0,0,0,null,0,0,0,0]
["Oslo",12307045,1097666,36890,4505,333.61466522092707,243.65504994450612,323.82439908201474,14162110,null,337.3,-0.13098789657755799,-3.9951381316291952E-2]
["Landet i alt",{"$f":"SUM(B27:B38)","v":30169967.010000002},{"$f":"SUM(C27:C38)","v":9095733.3499999996},{"$f":"SUM(D27:D38)","v":89277.64},{"$f":"SUM(E27:E38)","v":41446.480000000003},{"$f":"IF(D39=0,0,B39/D39)","v":337.93419057672224},{"$f":"IF(E39=0,0,C39/E39)","v":219.45731820892868},{"$f":"IF(D39+E39=0,0,(B39+C39)/(D39+E39))","v":300.37073770318744},{"$f":"SUM(I27:I38)","v":21935215.469999999},{"$f":"SUM(J27:J38)","v":3532984.56},360.07,0.37541238431244839,-0.16579904545452981]
[]
[]
[{"$f":"\"MÅLESTATISTIKK FOR RØRLEGGERE - GJENNOMSNITT HELE ÅRET  \"&FORS!$A$14","v":"MÅLESTATISTIKK FOR RØRLEGGERE - GJENNOMSNITT HELE ÅRET  2022"}]
[]
[null,"Målesum i kroner",null,"Timer",null,{"$f":"\"Fortjeneste hele  \"&FORS!$A$14-0","v":"Fortjeneste hele  2022"},null,null,{"$f":"\" Hele året  \"&FORS!$A$14-1","v":" Hele året  2021"},null,null,"Endringer i %"]
[null,"Innmålt m/","Innmålt m/","Innmålt m/","Innmålt m/","Innmålt m/","Innmålt m/","Gjennom-","Innmålt m/","Innmålt m/","Gjen.snitt","Innmålt m/","Gjen.snitt"]
[null,"overskudd","underskudd","overskudd","underskudd","overskudd","underskudd","snitt","overskudd","underskudd","fortjeneste","overskudd","fortjeneste"]
["Agder",{"$f":"SUMIFS(B$7:B$19,$A$7:$A$19,$A47)+SUMIFS(B$27:B$39,$A$27:$A$39,$A47)","v":0},{"$f":"SUMIFS(C$7:C$19,$A$7:$A$19,$A47)+SUMIFS(C$27:C$39,$A$27:$A$39,$A47)","v":0},0,0,{"$f":"IF(D47=0,0,B47/D47)","v":0},{"$f":"IF(E47=0,0,C27/E47)","v":0},{"$f":"IF(D47+E47=0,0,(B47+C47)/(D47+E47))","v":0},{"$f":"SUMIFS(I$7:I$19,$A$7:$A$19,$A47)+SUMIFS(I$27:I$39,$A$27:$A$39,$A47)","v":0},{"$f":"SUMIFS(J$7:J$19,$A$7:$A$19,$A47)+SUMIFS(J$27:J$39,$A$27:$A$39,$A47)","v":0},0,{"$f":"IF(I47=0,0,(B47-I47)/I47)","v":0},{"$f":"IF(K47=0,0,(H47-K47)/K47)","v":0}]
["Bergen",{"$f":"SUMIFS($B$7:$B$19,$A$7:$A$19,A48)+SUMIFS($B$27:$B$39,$A$27:$A$39,A48)","v":0},0,0,0,{"$f":"IF(D48=0,0,B48/D48)","v":0},0,{"$f":"IF(D48+E48=0,0,(B48+C48)/(D48+E48))","v":0},{"$f":"SUMIFS(I$7:I$19,$A$7:$A$19,$A48)+SUMIFS(I$27:I$39,$A$27:$A$39,$A48)","v":0},0,0,{"$f":"IF(I48=0,0,(B48-I48)/I48)","v":0},{"$f":"IF(K48=0,0,(H48-K48)/K48)","v":0}]
["Nordland",0,0,0,0,0,0,0,0,424816.48,201.76512942293991,0,-1]
["Haugesund",0,0,0,0,0,0,0,0,0,0,0,0]
["Hamar og Omegn",0,0,0,0,0,0,0,0,0,0,0,0]
["Sandnes",0,0,0,0,{"$f":"IF(D52=0,0,B52/D52)","v":0},0,{"$f":"IF(D52+E52=0,0,(B52+C52)/(D52+E52))","v":0},0,0,0,0,0]
["Stavanger",0,0,0,0,0,0,0,0,0,0,0,0]
["Telemark",0,0,0,0,0,0,0,0,0,0,0,0]
["Trondheim",21796405.890000001,10020796.709999999,63745.74,46027.58,341.92725490362182,217.71287367269795,289.84458700893805,17552628.440000001,7749435.5899999999,272.64317524099499,0.24177447067295177,6.309129782081789E-2]
["Vestfold",0,0,0,0,{"$f":"IF(D56=0,0,B56/D56)","v":0},0,0,0,0,0,0,0]
["Østfold",0,0,0,{"$f":"SUMIFS(E$7:E$19,$A$7:$A$19,$A57)+SUMIFS(E$27:E$39,$A$27:$A$39,$A57)","v":0},{"$f":"IF(D57=0,0,B57/D57)","v":0},0,0,0,0,0,0,0]
["Oslo",50796146,2240264,153419,11260,331.09423213552429,198.95772646536412,322.0593396850843,50760669,1578608,321.16010046458365,6.9890725829480299E-4,2.7999717872793837E-3]
["Landet i alt",{"$f":"SUM(B47:B58)","v":72592551.890000001},{"$f":"SUM(C47:C58)","v":12261060.709999999},{"$f":"SUM(D47:D58)","v":217164.74},{"$f":"SUM(E47:E58)","v":57287.58},{"$f":"IF(D59=0,0,B59/D59)","v":334.27411784251905},{"$f":"IF(E59=0,0,C59/E59)","v":214.02650818903501},{"$f":"IF(D59+E59=0,0,(B59+C59)/(D59+E59))","v":309.17433162889637},{"$f":"SUM(I47:I58)","v":68313297.439999998},{"$f":"SUM(J47:J58)","v":9752860.0700000003},316.95999999999998,{"$f":"IF(I59=0,0,(B59-I59)/I59)","v":6.2641602884980038E-2},{"$f":"IF(K59=0,0,(H59-K59)/K59)","v":-2.4563567551437442E-2}]

{"sheet":"TAKTEKKERE","index":7,"n_rows":59,"n_cols":13,"rows_kept":59,"cut":false,"hidden":false,"merged":[[1,0,1,12],[21,0,21,12],[41,0,41,12]]}
[]
[{"$f":"\"MÅLESTATISTIKK FOR TAKTEKKERE - 1. HALVÅR \"&FORS!$A$14","v":"MÅLESTATISTIKK FOR TAKTEKKERE - 1. HALVÅR 2022"}]
[]
[null,"Målesum i kroner",null,"Timer",null,{"$f":"\"Fortjeneste 1. halvår  \"&FORS!$A$14-0","v":"Fortjeneste 1. halvår  2022"},null,null,{"$f":"\" 1. halvår  \"&FORS!$A$14-1","v":" 1. halvår  2021"},null,null,"Endringer i %"]
[null,"Innmålt m/","Innmålt m/","Innmålt m/","Innmålt m/","Innmålt m/","Innmålt m/","Gjennom-","Innmålt m/","Innmålt m/","Gjen.snitt","Innmålt m/","Gjen.snitt"]
[null,"overskudd","underskudd","overskudd","underskudd","overskudd","underskudd","snitt","overskudd","underskudd","fortjeneste","overskudd","fortjeneste"]
["Agder",0,null,0,null,{"$f":"IF(D7=0,0,B7/D7)","v":0},{"$f":"IF(E7=0,0,C7/E7)","v":0},{"$f":"IF(D7+E7=0,0,(B7+C7)/(D7+E7))","v":0},0,null,0,{"$f":"IF(I7=0,0,(B7-I7)/I7)","v":0},{"$f":"IF(K7=0,0,(H7-K7)/K7)","v":0}]
["Bergen",1151010.56,null,4226.3,null,{"$f":"IF(D8=0,0,B8/D8)","v":272.34473653077163},0,{"$f":"IF(D8+E8=0,0,(B8+C8)/(D8+E8))","v":272.34473653077163},null,null,null,{"$f":"IF(I8=0,0,(B8-I8)/I8)","v":0},{"$f":"IF(K8=0,0,(H8-K8)/K8)","v":0}]
["Drammen - Bærum",null,null,null,null,0,0,0,null,null,0,{"$f":"IF(I9=0,0,(B9-I9)/I9)","v":0},0]
["Haugesund",null,null,null,null,0,0,0,null,null,0,0,0]
["Hamar og Omegn",684546.2,55635.68,1642.27,298.2,416.8292668075286,186.5716968477532,381.44463970069108,1319617,130636,343.39,-0.4812538789663971,0.11082046565331286]
["Sandnes",null,null,null,null,0,0,0,null,null,0,0,0]
["Stavanger",3943115.24,null,13302,null,296.43025409712828,0,296.43025409712828,4461131.5,null,324.52,-0.11611768449327256,-8.6557826645111857E-2]
["Telemark",1525563.93,null,4247,null,359.20977866729453,0,359.20977866729453,1412344.64,51097,373.78,8.016406675356523E-2,-3.8980740897601382E-2]
["Trondheim",2330407.81,793524.12,5548.7,5122.1000000000004,419.9916755276011,154.92163760957419,292.75517580687489,1940638,112035,374.58,0.20084622170646976,-0.21844418867298068]
["Vestfold",null,null,null,null,0,0,0,null,null,0,0,0]
["Østfold",null,null,null,null,0,0,0,null,null,0,0,0]
["Oslo",3850859.27,286673.64,9066.1,1572,424.75367247217656,182.36236641221376,388.93532773709592,2870507.27,515809.07,340.22,0.34152569834808327,0.14318772481657718]
["Landet i alt",{"$f":"SUM(B7:B18)","v":13485503.01},{"$f":"SUM(C7:C18)","v":1135833.44},{"$f":"SUM(D7:D18)","v":38032.370000000003},{"$f":"SUM(E7:E18)","v":6992.3},{"$f":"IF(D19=0,0,B19/D19)","v":354.57961231445739},{"$f":"IF(E19=0,0,C19/E19)","v":162.44060466513164},{"$f":"IF(D19+E19=0,0,(B19+C19)/(D19+E19))","v":324.74055778754177},{"$f":"SUM(I7:I18)","v":12004238.41},{"$f":"SUM(J7:J18)","v":809577.07000000007},343.36,{"$f":"IF(I19=0,0,(B19-I19)/I19)","v":0.12339513340271951},{"$f":"IF(K19=0,0,(H19-K19)/K19)","v":-5.422717326554706E-2}]
[]
[]
[{"$f":"\"MÅLESTATISTIKK FOR TAKTEKKERE - 2. HALVÅR \"&FORS!$A$14","v":"MÅLESTATISTIKK FOR TAKTEKKERE - 2. HALVÅR 2022"}]
[]
[null,"Målesum i kroner",null,"Timer",null,{"$f":"\"Fortjeneste 2. halvår  \"&FORS!$A$14-0","v":"Fortjeneste 2. halvår  2022"},null,null,{"$f":"\" 2. halvår  \"&FORS!$A$14-1","v":" 2. halvår  2021"},null,null,"Endringer i %"]
[null,"Innmålt m/","Innmålt m/","Innmålt m/","Innmålt m/","Innmålt m/","Innmålt m/","Gjennom-","Innmålt m/","Innmålt m/","Gjen.snitt","Innmålt m/","Gjen.snitt"]
[null,"overskudd","underskudd","overskudd","underskudd","overskudd","underskudd","snitt","overskudd","underskudd","fortjeneste","overskudd","fortjeneste"]
["Agder",null,null,null,null,{"$f":"IF(D27=0,0,B27/D27)","v":0},0,{"$f":"IF(D27+E27=0,0,(B27+C27)/(D27+E27))","v":0},null,null,null,{"$f":"IF(I27=0,0,(B27-I27)/I27)","v":0},{"$f":"IF(K27=0,0,(H27-K27)/K27)","v":0}]
["Bergen",80494.289999999994,null,181.5,null,443.49471074380159,0,{"$f":"IF(D28+E28=0,0,(B28+C28)/(D28+E28))","v":443.49471074380159},null,null,null,{"$f":"IF(I28=0,0,(B28-I28)/I28)","v":0},{"$f":"IF(K28=0,0,(H28-K28)/K28)","v":0}]
["Drammen - Bærum",null,null,null,null,0,0,0,null,null,0,0,0]
["Haugesund",null,null,null,null,0,0,0,null,null,0,0,0]
["Hamar og Omegn",442758.57,87695,1209.7,522.5,366.00691907084399,167.83732057416267,306.23113381826585,1293233,48476,410.78,-0.65763433967428908,-0.25451303905188699]
["Sandnes",null,null,null,null,0,0,0,null,null,0,0,0]
["Stavanger",6268303.9000000004,null,18719.5,null,334.85423755976393,0,334.85423755976393,4016258.4,null,340.77,0.56073222280717805,-1.7359986032326941E-2]
["Telemark",938808,null,2375,null,395.28757894736844,0,395.28757894736844,1103626,57403,425.08,-0.14934225906239976,-7.0086621465680676E-2]
["Trondheim",3740090.3,398137.69,9705.49,2127.5,385.35821478359156,187.13874970622797,349.71955439833886,1951310.22,588691,185.36,0.91670717534600921,0.88670454466086979]
["Vestfold",null,null,null,null,0,0,0,null,null,0,0,0]
["Østfold",null,0,null,null,0,0,0,null,0,0,0,0]
["Oslo",3920212.96,196117.75,9767.4,943.7,401.35685648176587,207.81789763696088,384.30513299287651,4315685.46,388594.99,390.06,-9.163608044780909E-2,-1.4753799433737102E-2]
["Landet i alt",{"$f":"SUM(B27:B38)","v":15390668.02},{"$f":"SUM(C27:C38)","v":681950.44},{"$f":"SUM(D27:D38)","v":41958.590000000004},{"$f":"SUM(E27:E38)","v":3593.7},{"$f":"IF(D39=0,0,B39/D39)","v":366.80613004393138},{"$f":"IF(E39=0,0,C39/E39)","v":189.76276261234938},{"$f":"IF(D39+E39=0,0,(B39+C39)/(D39+E39))","v":352.83886847401084},{"$f":"SUM(I27:I38)","v":12680113.08},{"$f":"SUM(J27:J38)","v":1083164.99},353.14,0.21376425611497776,-8.5272562153579021E-4]
[]
[]
[{"$f":"\"MÅLESTATISTIKK FOR TAKTEKKERE - GJENNOMSNITT HELE ÅRET  \"&FORS!$A$14","v":"MÅLESTATISTIKK FOR TAKTEKKERE - GJENNOMSNITT HELE ÅRET  2022"}]
[]
[null,"Målesum i kroner",null,"Timer",null,{"$f":"\"Fortjeneste hele  \"&FORS!$A$14-0","v":"Fortjeneste hele  2022"},null,null,{"$f":"\" Hele året  \"&FORS!$A$14-1","v":" Hele året  2021"},null,null,"Endringer i %"]
[null,"Innmålt m/","Innmålt m/","Innmålt m/","Innmålt m/","Innmålt m/","Innmålt m/","Gjennom-","Innmålt m/","Innmålt m/","Gjen.snitt","Innmålt m/","Gjen.snitt"]
[null,"overskudd","underskudd","overskudd","underskudd","overskudd","underskudd","snitt","overskudd","underskudd","fortjeneste","overskudd","fortjeneste"]
["Agder",{"$f":"SUMIFS(B$7:B$19,$A$7:$A$19,$A47)+SUMIFS(B$27:B$39,$A$27:$A$39,$A47)","v":0},{"$f":"SUMIFS(C$7:C$19,$A$7:$A$19,$A47)+SUMIFS(C$27:C$39,$A$27:$A$39,$A47)","v":0},0,0,{"$f":"IF(D47=0,0,B47/D47)","v":0},{"$f":"IF(E47=0,0,C27/E47)","v":0},{"$f":"IF(D47+E47=0,0,(B47+C47)/(D47+E47))","v":0},{"$f":"SUMIFS(I$7:I$19,$A$7:$A$19,$A47)+SUMIFS(I$27:I$39,$A$27:$A$39,$A47)","v":0},{"$f":"SUMIFS(J$7:J$19,$A$7:$A$19,$A47)+SUMIFS(J$27:J$39,$A$27:$A$39,$A47)","v":0},257.12007504690433,{"$f":"IF(I47=0,0,(B47-I47)/I47)","v":0},{"$f":"IF(K47=0,0,(H47-K47)/K47)","v":-1}]
["Bergen",{"$f":"SUMIFS($B$7:$B$19,$A$7:$A$19,A48)+SUMIFS($B$27:$B$39,$A$27:$A$39,A48)","v":1231504.8500000001},0,4407.8,0,{"$f":"IF(D48=0,0,B48/D48)","v":279.39217977222199},0,{"$f":"IF(D48+E48=0,0,(B48+C48)/(D48+E48))","v":279.39217977222199},{"$f":"SUMIFS(I$7:I$19,$A$7:$A$19,$A48)+SUMIFS(I$27:I$39,$A$27:$A$39,$A48)","v":0},0,267.32182164911001,{"$f":"IF(I48=0,0,(B48-I48)/I48)","v":0},{"$f":"IF(K48=0,0,(H48-K48)/K48)","v":4.5152909884609758E-2}]
["Drammen - Bærum",0,0,0,0,0,0,0,0,0,0,0,0]
["Haugesund",0,0,0,0,0,0,0,0,0,0,0,0]
["Hamar og Omegn",1127304.77,143330.68,2851.9700000000003,820.7,395.27231001728626,174.64442549043497,345.9704928566955,2612850,179112,378.86734080543079,-0.56855358325200456,-8.6829463523565173E-2]
["Sandnes",0,0,0,0,{"$f":"IF(D52=0,0,B52/D52)","v":0},0,{"$f":"IF(D52+E52=0,0,(B52+C52)/(D52+E52))","v":0},0,0,0,0,0]
["Stavanger",10211419.140000001,0,32021.5,0,318.89259216463938,0,318.89259216463938,8477389.9000000004,0,298.66528555160636,0.20454753885980875,6.772567014500902E-2]
["Telemark",2464371.9299999997,0,6622,0,372.14918906674717,0,372.14918906674717,2515970.6399999997,108500,392.50730638090602,-2.05084706393871E-2,-5.1866849312614961E-2]
["Trondheim",6070498.1099999994,1191661.81,15254.189999999999,7249.6,397.95610976394028,164.37621523946149,322.70830469000998,3891948.2199999997,700726,263.5506368181463,0.5597581896914342,0.22446414315698776]
["Vestfold",0,0,0,0,{"$f":"IF(D56=0,0,B56/D56)","v":0},0,0,0,0,0,0,0]
["Østfold",0,0,0,{"$f":"SUMIFS(E$7:E$19,$A$7:$A$19,$A57)+SUMIFS(E$27:E$39,$A$27:$A$39,$A57)","v":0},{"$f":"IF(D57=0,0,B57/D57)","v":0},0,0,0,0,0,0,0]
["Oslo",7771072.2300000004,482791.39,18833.5,2515.6999999999998,412.61965274643592,191.91135270501255,386.61231427875515,7186192.7300000004,904404.06,350.94832449379493,8.1389342308941931E-2,0.10162176963346863]
["Landet i alt",{"$f":"SUM(B47:B58)","v":28876171.030000001},{"$f":"SUM(C47:C58)","v":1817783.88},{"$f":"SUM(D47:D58)","v":79990.960000000006},{"$f":"SUM(E47:E58)","v":10586},{"$f":"IF(D59=0,0,B59/D59)","v":360.99293007609856},{"$f":"IF(E59=0,0,C59/E59)","v":171.71583978839976},{"$f":"IF(D59+E59=0,0,(B59+C59)/(D59+E59))","v":338.87155088887943},{"$f":"SUM(I47:I58)","v":24684351.489999998},{"$f":"SUM(J47:J58)","v":1892742.06},348.36,{"$f":"IF(I59=0,0,(B59-I59)/I59)","v":0.16981687939819573},{"$f":"IF(K59=0,0,(H59-K59)/K59)","v":-2.7237481660123398E-2}]

{"sheet":"MURERE","index":8,"n_rows":59,"n_cols":13,"rows_kept":59,"cut":false,"hidden":false,"merged":[[1,0,1,12],[21,0,21,12],[41,0,41,12]]}
[]
[{"$f":"\"MÅLESTATISTIKK FOR MURERE - 1. HALVÅR \"&FORS!$A$14","v":"MÅLESTATISTIKK FOR MURERE - 1. HALVÅR 2022"}]
[]
[null,"Målesum i kroner",null,"Timer",null,{"$f":"\"Fortjeneste 1. halvår  \"&FORS!$A$14-0","v":"Fortjeneste 1. halvår  2022"},null,null,{"$f":"\" 1. halvår  \"&FORS!$A$14-1","v":" 1. halvår  2021"},null,null,"Endringer i %"]
[null,"Innmålt m/","Innmålt m/","Innmålt m/","Innmålt m/","Innmålt m/","Innmålt m/","Gjennom-","Innmålt m/","Innmålt m/","Gjen.snitt","Innmålt m/","Gjen.snitt"]
[null,"overskudd","underskudd","overskudd","underskudd","overskudd","underskudd","snitt","overskudd","underskudd","fortjeneste","overskudd","fortjeneste"]
["Agder",null,null,null,null,{"$f":"IF(D7=0,0,B7/D7)","v":0},{"$f":"IF(E7=0,0,C7/E7)","v":0},{"$f":"IF(D7+E7=0,0,(B7+C7)/(D7+E7))","v":0},null,null,0,{"$f":"IF(I7=0,0,(B7-I7)/I7)","v":0},{"$f":"IF(K7=0,0,(H7-K7)/K7)","v":0}]
["Bergen",null,null,null,null,{"$f":"IF(D8=0,0,B8/D8)","v":0},0,{"$f":"IF(D8+E8=0,0,(B8+C8)/(D8+E8))","v":0},null,null,0,{"$f":"IF(I8=0,0,(B8-I8)/I8)","v":0},{"$f":"IF(K8=0,0,(H8-K8)/K8)","v":0}]
["Drammen - Bærum",null,null,null,null,0,0,0,null,null,0,0,0]
["Haugesund",null,null,null,null,0,0,0,null,null,0,0,0]
["Hamar og Omegn",null,null,null,null,0,0,0,null,null,0,0,0]
["Sandnes",null,null,null,null,0,0,0,null,null,0,0,0]
["Stavanger",null,null,null,null,0,0,0,null,null,null,0,0]
["Telemark",null,null,null,null,0,0,0,null,null,0,0,0]
["Trondheim",3677969.13,251439.17,11242.19,1535.93,327.15770948542939,163.70483680896916,307.5106744967178,1941137,586367,271.75,0.89474989658123039,0.13159401838718601]
["Vestfold",null,null,null,null,0,0,0,null,null,0,0,0]
["Østfold",854606,0,2350.5,null,363.58476919804298,0,363.58476919804298,407970,0,358.34,1.0947765767090718,1.4636292900717203E-2]
["Oslo",13721474,null,41655,null,329.40761013083664,0,329.40761013083664,16111664,471588,329.81,-0.14835152967440235,-1.2200657019597878E-3]
["Landet i alt",{"$f":"SUM(B7:B18)","v":18254049.129999999},{"$f":"SUM(C7:C18)","v":251439.17},{"$f":"SUM(D7:D18)","v":55247.69},{"$f":"SUM(E7:E18)","v":1535.93},{"$f":"IF(D19=0,0,B19/D19)","v":330.40384367201591},{"$f":"IF(E19=0,0,C19/E19)","v":163.70483680896916},{"$f":"IF(D19+E19=0,0,(B19+C19)/(D19+E19))","v":325.89483199556491},{"$f":"SUM(I7:I18)","v":18460771},{"$f":"SUM(J7:J18)","v":1057955},321.45,{"$f":"IF(I19=0,0,(B19-I19)/I19)","v":-1.1197900131040087E-2},{"$f":"IF(K19=0,0,(H19-K19)/K19)","v":1.3827444378798959E-2}]
[]
[]
[{"$f":"\"MÅLESTATISTIKK FOR MURERE - 2. HALVÅR \"&FORS!$A$14","v":"MÅLESTATISTIKK FOR MURERE - 2. HALVÅR 2022"}]
[]
[null,"Målesum i kroner",null,"Timer",null,{"$f":"\"Fortjeneste 2. halvår  \"&FORS!$A$14-0","v":"Fortjeneste 2. halvår  2022"},null,null,{"$f":"\" 2. halvår  \"&FORS!$A$14-1","v":" 2. halvår  2021"},null,null,"Endringer i %"]
[null,"Innmålt m/","Innmålt m/","Innmålt m/","Innmålt m/","Innmålt m/","Innmålt m/","Gjennom-","Innmålt m/","Innmålt m/","Gjen.snitt","Innmålt m/","Gjen.snitt"]
[null,"overskudd","underskudd","overskudd","underskudd","overskudd","underskudd","snitt","overskudd","underskudd","fortjeneste","overskudd","fortjeneste"]
["Agder",null,null,null,null,{"$f":"IF(D27=0,0,B27/D27)","v":0},0,{"$f":"IF(D27+E27=0,0,(B27+C27)/(D27+E27))","v":0},null,null,0,{"$f":"IF(I27=0,0,(B27-I27)/I27)","v":0},{"$f":"IF(K27=0,0,(H27-K27)/K27)","v":0}]
["Bergen",null,null,null,null,0,0,{"$f":"IF(D28+E28=0,0,(B28+C28)/(D28+E28))","v":0},null,null,null,{"$f":"IF(I28=0,0,(B28-I28)/I28)","v":0},{"$f":"IF(K28=0,0,(H28-K28)/K28)","v":0}]
["Drammen - Bærum",null,null,null,null,0,0,0,null,null,0,0,0]
["Haugesund",null,null,null,null,0,0,0,null,null,0,0,0]
["Hamar og Omegn",null,null,null,null,0,0,0,null,null,0,0,0]
["Sandnes",null,null,null,null,0,0,0,null,null,0,0,0]
["Stavanger",null,null,null,null,0,0,0,33164,null,296.11,-1,-1]
["Telemark",null,null,null,null,0,0,0,null,null,0,0,0]
["Trondheim",5752507.04,926542.69,18774.28,3941.33,306.40360322739411,235.08376360264174,294.02907207862791,1902539.44,null,311.20999999999998,2.0235941074630235,-5.5206863280010524E-2]
["Vestfold",null,null,null,null,0,0,0,null,null,0,0,0]
["Østfold",235631,0,718,0,328.17688022284125,0,328.17688022284125,636207,0,396.76,-0.62963155073741728,-0.17285794882840697]
["Oslo",15368624,null,41473,null,370.56938248981265,0,370.56938248981265,12031890,null,316.8,0.27732417766452322,0.16972658614208536]
["Landet i alt",{"$f":"SUM(B27:B38)","v":21356762.039999999},{"$f":"SUM(C27:C38)","v":926542.69},{"$f":"SUM(D27:D38)","v":60965.279999999999},{"$f":"SUM(E27:E38)","v":3941.33},{"$f":"IF(D39=0,0,B39/D39)","v":350.31024281361454},{"$f":"IF(E39=0,0,C39/E39)","v":235.08376360264174},{"$f":"IF(D39+E39=0,0,(B39+C39)/(D39+E39))","v":343.31333480519163},{"$f":"SUM(I27:I38)","v":14603800.439999999},{"$f":"SUM(J27:J38)","v":0},318.8,0.46241124888994989,7.6892518209509472E-2]
[]
[]
[{"$f":"\"MÅLESTATISTIKK FOR MURERE - GJENNOMSNITT HELE ÅRET  \"&FORS!$A$14","v":"MÅLESTATISTIKK FOR MURERE - GJENNOMSNITT HELE ÅRET  2022"}]
[]
[null,"Målesum i kroner",null,"Timer",null,{"$f":"\"Fortjeneste hele  \"&FORS!$A$14-0","v":"Fortjeneste hele  2022"},null,null,{"$f":"\" Hele året  \"&FORS!$A$14-1","v":" Hele året  2021"},null,null,"Endringer i %"]
[null,"Innmålt m/","Innmålt m/","Innmålt m/","Innmålt m/","Innmålt m/","Innmålt m/","Gjennom-","Innmålt m/","Innmålt m/","Gjen.snitt","Innmålt m/","Gjen.snitt"]
[null,"overskudd","underskudd","overskudd","underskudd","overskudd","underskudd","snitt","overskudd","underskudd","fortjeneste","overskudd","fortjeneste"]
["Agder",{"$f":"SUMIFS(B$7:B$19,$A$7:$A$19,$A47)+SUMIFS(B$27:B$39,$A$27:$A$39,$A47)","v":0},{"$f":"SUMIFS(C$7:C$19,$A$7:$A$19,$A47)+SUMIFS(C$27:C$39,$A$27:$A$39,$A47)","v":0},0,0,{"$f":"IF(D47=0,0,B47/D47)","v":0},{"$f":"IF(E47=0,0,C27/E47)","v":0},{"$f":"IF(D47+E47=0,0,(B47+C47)/(D47+E47))","v":0},{"$f":"SUMIFS(I$7:I$19,$A$7:$A$19,$A47)+SUMIFS(I$27:I$39,$A$27:$A$39,$A47)","v":0},{"$f":"SUMIFS(J$7:J$19,$A$7:$A$19,$A47)+SUMIFS(J$27:J$39,$A$27:$A$39,$A47)","v":0},0,{"$f":"IF(I47=0,0,(B47-I47)/I47)","v":0},{"$f":"IF(K47=0,0,(H47-K47)/K47)","v":0}]
["Bergen",{"$f":"SUMIFS($B$7:$B$19,$A$7:$A$19,A48)+SUMIFS($B$27:$B$39,$A$27:$A$39,A48)","v":0},0,0,0,{"$f":"IF(D48=0,0,B48/D48)","v":0},0,{"$f":"IF(D48+E48=0,0,(B48+C48)/(D48+E48))","v":0},{"$f":"SUMIFS(I$7:I$19,$A$7:$A$19,$A48)+SUMIFS(I$27:I$39,$A$27:$A$39,$A48)","v":0},0,null,{"$f":"IF(I48=0,0,(B48-I48)/I48)","v":0},{"$f":"IF(K48=0,0,(H48-K48)/K48)","v":0}]
["Drammen - Bærum",0,0,0,0,0,0,0,0,0,0,0,0]
["Haugesund",0,0,0,0,0,0,0,0,0,0,0,0]
["Hamar og Omegn",0,0,0,0,0,0,0,0,0,0,0,0]
["Sandnes",0,0,0,0,{"$f":"IF(D52=0,0,B52/D52)","v":0},0,{"$f":"IF(D52+E52=0,0,(B52+C52)/(D52+E52))","v":0},0,0,0,0,0]
["Stavanger",0,0,0,0,0,0,0,33164,0,323.41934127279495,-1,-1]
["Telemark",0,0,0,0,0,0,0,0,0,0,0,0]
["Trondheim",9430476.1699999999,1177981.8599999999,30016.47,5477.26,314.17672264593403,215.06772729430406,298.88259222121764,3843676.44,586367,294.27886413743778,1.4535041690449888,1.5644100357916857E-2]
["Vestfold",0,0,0,0,{"$f":"IF(D56=0,0,B56/D56)","v":0},0,0,0,0,0,0,0]
["Østfold",1090237,0,3068.5,{"$f":"SUMIFS(E$7:E$19,$A$7:$A$19,$A57)+SUMIFS(E$27:E$39,$A$27:$A$39,$A57)","v":0},{"$f":"IF(D57=0,0,B57/D57)","v":355.29965781326382},0,355.29965781326382,1044177,0,348.9372119815668,4.4111295307213243E-2,1.8233784226008899E-2]
["Oslo",29090098,0,83128,0,349.94343662785104,0,349.94343662785104,28143554,471588,328.81732840874116,3.3632710353496929E-2,6.4248767914228552E-2]
["Landet i alt",{"$f":"SUM(B47:B58)","v":39610811.170000002},{"$f":"SUM(C47:C58)","v":1177981.8599999999},{"$f":"SUM(D47:D58)","v":116212.97},{"$f":"SUM(E47:E58)","v":5477.26},{"$f":"IF(D59=0,0,B59/D59)","v":340.84673311421267},{"$f":"IF(E59=0,0,C59/E59)","v":215.06772729430406},{"$f":"IF(D59+E59=0,0,(B59+C59)/(D59+E59))","v":335.18543789423359},{"$f":"SUM(I47:I58)","v":33064571.439999998},{"$f":"SUM(J47:J58)","v":1057955},320.61,{"$f":"IF(I59=0,0,(B59-I59)/I59)","v":0.19798350454591601},{"$f":"IF(K59=0,0,(H59-K59)/K59)","v":4.5461582278261976E-2}]

{"sheet":"Ark1","index":9,"n_rows":0,"n_cols":0,"rows_kept":0,"cut":false,"hidden":false,"merged":[]}

{"sheet":"BLIKK OG VENTILASJON","index":10,"n_rows":59,"n_cols":13,"rows_kept":59,"cut":false,"hidden":false,"merged":[[1,0,1,12],[21,0,21,12],[41,0,41,12]]}
[]
[{"$f":"\"MÅLESTATISTIKK FOR BLIKK- OG VENTILASJONSARBEID - 1. HALVÅR \"&FORS!$A$14","v":"MÅLESTATISTIKK FOR BLIKK- OG VENTILASJONSARBEID - 1. HALVÅR 2022"}]
[]
[null,"Målesum i kroner",null,"Timer",null,{"$f":"\"Fortjeneste 1. halvår  \"&FORS!$A$14-0","v":"Fortjeneste 1. halvår  2022"},null,null,{"$f":"\" 1. halvår  \"&FORS!$A$14-1","v":" 1. halvår  2021"},null,null,"Endringer i %"]
[null,"Innmålt m/","Innmålt m/","Innmålt m/","Innmålt m/","Innmålt m/","Innmålt m/","Gjennom-","Innmålt m/","Innmålt m/","Gjen.snitt","Innmålt m/","Gjen.snitt"]
[null,"overskudd","underskudd","overskudd","underskudd","overskudd","underskudd","snitt","overskudd","underskudd","fortjeneste","overskudd","fortjeneste"]
["Agder",null,null,null,null,{"$f":"IF(D7=0,0,B7/D7)","v":0},{"$f":"IF(E7=0,0,C7/E7)","v":0},{"$f":"IF(D7+E7=0,0,(B7+C7)/(D7+E7))","v":0},null,null,0,{"$f":"IF(I7=0,0,(B7-I7)/I7)","v":0},{"$f":"IF(K7=0,0,(H7-K7)/K7)","v":0}]
["Bergen",null,null,null,null,{"$f":"IF(D8=0,0,B8/D8)","v":0},0,{"$f":"IF(D8+E8=0,0,(B8+C8)/(D8+E8))","v":0},null,null,0,{"$f":"IF(I8=0,0,(B8-I8)/I8)","v":0},{"$f":"IF(K8=0,0,(H8-K8)/K8)","v":0}]
["Drammen - Bærum",null,null,null,null,0,0,0,null,null,0,0,0]
["Haugesund",null,null,null,null,0,0,0,null,null,0,0,0]
["Hamar og Omegn",null,null,null,null,0,0,0,null,null,0,0,0]
["Sandnes",null,null,null,null,0,0,0,null,null,0,0,0]
["Stavanger",null,null,null,null,0,0,0,null,null,0,0,0]
["Telemark",null,null,null,null,0,0,0,null,null,0,0,0]
["Trondheim",588096,0,1656.75,null,354.96966953372566,0,354.96966953372566,240277.43,0,345.38,1.4475707102410744,2.776556121873203E-2]
["Vestfold",null,null,null,null,0,0,0,null,null,0,0,0]
["Østfold",null,null,null,null,0,0,0,null,null,0,0,0]
["Oslo",null,null,null,null,0,0,0,null,null,0,0,0]
["Landet i alt",{"$f":"SUM(B7:B18)","v":588096},{"$f":"SUM(C7:C18)","v":0},{"$f":"SUM(D7:D18)","v":1656.75},{"$f":"SUM(E7:E18)","v":0},{"$f":"IF(D19=0,0,B19/D19)","v":354.96966953372566},{"$f":"IF(E19=0,0,C19/E19)","v":0},{"$f":"IF(D19+E19=0,0,(B19+C19)/(D19+E19))","v":354.96966953372566},{"$f":"SUM(I7:I18)","v":240277.43},{"$f":"SUM(J7:J18)","v":0},345.38,{"$f":"IF(I19=0,0,(B19-I19)/I19)","v":1.4475707102410744},{"$f":"IF(K19=0,0,(H19-K19)/K19)","v":2.776556121873203E-2}]
[]
[]
[{"$f":"\"MÅLESTATISTIKK FOR BLIKK- OG VENTILASJONSARBEID - 2. HALVÅR \"&FORS!$A$14","v":"MÅLESTATISTIKK FOR BLIKK- OG VENTILASJONSARBEID - 2. HALVÅR 2022"}]
[]
[null,"Målesum i kroner",null,"Timer",null,{"$f":"\"Fortjeneste 2. halvår  \"&FORS!$A$14-0","v":"Fortjeneste 2. halvår  2022"},null,null,{"$f":"\" 2. halvår  \"&FORS!$A$14-1","v":" 2. halvår  2021"},null,null,"Endringer i %"]
[null,"Innmålt m/","Innmålt m/","Innmålt m/","Innmålt m/","Innmålt m/","Innmålt m/","Gjennom-","Innmålt m/","Innmålt m/","Gjen.snitt","Innmålt m/","Gjen.snitt"]
[null,"overskudd","underskudd","overskudd","underskudd","overskudd","underskudd","snitt","overskudd","underskudd","fortjeneste","overskudd","fortjeneste"]
["Agder",null,null,null,null,{"$f":"IF(D27=0,0,B27/D27)","v":0},0,{"$f":"IF(D27+E27=0,0,(B27+C27)/(D27+E27))","v":0},null,null,0,{"$f":"IF(I27=0,0,(B27-I27)/I27)","v":0},{"$f":"IF(K27=0,0,(H27-K27)/K27)","v":0}]
["Bergen",null,null,null,null,0,0,{"$f":"IF(D28+E28=0,0,(B28+C28)/(D28+E28))","v":0},null,null,0,{"$f":"IF(I28=0,0,(B28-I28)/I28)","v":0},{"$f":"IF(K28=0,0,(H28-K28)/K28)","v":0}]
["Drammen - Bærum",null,null,null,null,0,0,0,null,null,0,0,0]
["Haugesund",null,null,null,null,0,0,0,null,null,0,0,0]
["Hamar og Omegn",null,null,null,null,0,0,0,null,null,0,0,0]
["Sandnes",null,null,null,null,0,0,0,null,null,0,0,0]
["Stavanger",null,null,null,null,0,0,0,null,null,0,0,0]
["Telemark",null,null,null,null,0,0,0,null,null,0,0,0]
["Trondheim",275376.84999999998,null,715.6,null,384.81952207937388,0,384.81952207937388,1242552.8700000001,0,420.34,-0.77837816269339111,-8.4504158349493486E-2]
["Vestfold",null,null,null,null,0,0,0,null,null,0,0,0]
["Østfold",null,0,null,null,0,0,0,null,0,0,0,0]
["Oslo",null,null,null,null,0,0,0,null,null,0,0,0]
["Landet i alt",{"$f":"SUM(B27:B38)","v":275376.84999999998},{"$f":"SUM(C27:C38)","v":0},{"$f":"SUM(D27:D38)","v":715.6},{"$f":"SUM(E27:E38)","v":0},{"$f":"IF(D39=0,0,B39/D39)","v":384.81952207937388},{"$f":"IF(E39=0,0,C39/E39)","v":0},{"$f":"IF(D39+E39=0,0,(B39+C39)/(D39+E39))","v":384.81952207937388},{"$f":"SUM(I27:I38)","v":1242552.8700000001},{"$f":"SUM(J27:J38)","v":0},420.34,-0.77837816269339111,-8.4504158349493486E-2]
[]
[]
[{"$f":"\"MÅLESTATISTIKK FOR BLIKK- OG VENTILASJONSARBEID - GJENNOMSNITT HELE ÅRET  \"&FORS!$A$14","v":"MÅLESTATISTIKK FOR BLIKK- OG VENTILASJONSARBEID - GJENNOMSNITT HELE ÅRET  2022"}]
[]
[null,"Målesum i kroner",null,"Timer",null,{"$f":"\"Fortjeneste hele  \"&FORS!$A$14-0","v":"Fortjeneste hele  2022"},null,null,{"$f":"\" Hele året  \"&FORS!$A$14-1","v":" Hele året  2021"},null,null,"Endringer i %"]
[null,"Innmålt m/","Innmålt m/","Innmålt m/","Innmålt m/","Innmålt m/","Innmålt m/","Gjennom-","Innmålt m/","Innmålt m/","Gjen.snitt","Innmålt m/","Gjen.snitt"]
[null,"overskudd","underskudd","overskudd","underskudd","overskudd","underskudd","snitt","overskudd","underskudd","fortjeneste","overskudd","fortjeneste"]
["Agder",{"$f":"SUMIFS(B$7:B$19,$A$7:$A$19,$A47)+SUMIFS(B$27:B$39,$A$27:$A$39,$A47)","v":0},{"$f":"SUMIFS(C$7:C$19,$A$7:$A$19,$A47)+SUMIFS(C$27:C$39,$A$27:$A$39,$A47)","v":0},0,0,{"$f":"IF(D47=0,0,B47/D47)","v":0},{"$f":"IF(E47=0,0,C27/E47)","v":0},{"$f":"IF(D47+E47=0,0,(B47+C47)/(D47+E47))","v":0},{"$f":"SUMIFS(I$7:I$19,$A$7:$A$19,$A47)+SUMIFS(I$27:I$39,$A$27:$A$39,$A47)","v":0},{"$f":"SUMIFS(J$7:J$19,$A$7:$A$19,$A47)+SUMIFS(J$27:J$39,$A$27:$A$39,$A47)","v":0},0,{"$f":"IF(I47=0,0,(B47-I47)/I47)","v":0},{"$f":"IF(K47=0,0,(H47-K47)/K47)","v":0}]
["Bergen",{"$f":"SUMIFS($B$7:$B$19,$A$7:$A$19,A48)+SUMIFS($B$27:$B$39,$A$27:$A$39,A48)","v":0},0,0,0,{"$f":"IF(D48=0,0,B48/D48)","v":0},0,{"$f":"IF(D48+E48=0,0,(B48+C48)/(D48+E48))","v":0},{"$f":"SUMIFS(I$7:I$19,$A$7:$A$19,$A48)+SUMIFS(I$27:I$39,$A$27:$A$39,$A48)","v":0},0,0,{"$f":"IF(I48=0,0,(B48-I48)/I48)","v":0},{"$f":"IF(K48=0,0,(H48-K48)/K48)","v":0}]
["Drammen - Bærum",0,0,0,0,0,0,0,0,0,0,0,0]
["Haugesund",0,0,0,0,0,0,0,0,0,0,0,0]
["Hamar og Omegn",0,0,0,0,0,0,0,0,0,0,0,0]
["Sandnes",0,0,0,0,{"$f":"IF(D52=0,0,B52/D52)","v":0},0,{"$f":"IF(D52+E52=0,0,(B52+C52)/(D52+E52))","v":0},0,0,0,0,0]
["Stavanger",0,0,0,0,0,0,0,0,0,0,0,0]
["Telemark",0,0,0,0,0,0,0,0,0,0,0,0]
["Trondheim",863472.85,0,2372.35,0,363.97363373869791,0,363.97363373869791,1482830.3,0,406.05,-0.41768599549119007,-0.10362360857357984]
["Vestfold",0,0,0,0,{"$f":"IF(D56=0,0,B56/D56)","v":0},0,0,0,0,0,0,0]
["Østfold",0,0,0,{"$f":"SUMIFS(E$7:E$19,$A$7:$A$19,$A57)+SUMIFS(E$27:E$39,$A$27:$A$39,$A57)","v":0},{"$f":"IF(D57=0,0,B57/D57)","v":0},0,0,0,0,0,0,0]
["Oslo",0,0,0,0,0,0,0,0,0,0,0,0]
["Landet i alt",{"$f":"SUM(B47:B58)","v":863472.85},{"$f":"SUM(C47:C58)","v":0},{"$f":"SUM(D47:D58)","v":2372.35},{"$f":"SUM(E47:E58)","v":0},{"$f":"IF(D59=0,0,B59/D59)","v":363.97363373869791},{"$f":"IF(E59=0,0,C59/E59)","v":0},{"$f":"IF(D59+E59=0,0,(B59+C59)/(D59+E59))","v":363.97363373869791},{"$f":"SUM(I47:I58)","v":1482830.3},{"$f":"SUM(J47:J58)","v":0},406.05,{"$f":"IF(I59=0,0,(B59-I59)/I59)","v":-0.41768599549119007},{"$f":"IF(K59=0,0,(H59-K59)/K59)","v":-0.10362360857357984}]

{"sheet":"ISOLATØR","index":11,"n_rows":59,"n_cols":13,"rows_kept":59,"cut":false,"hidden":false,"merged":[[1,0,1,12],[21,0,21,12],[41,0,41,12]]}
[]
[{"$f":"\"MÅLESTATISTIKK FOR ISOLATØRER - 1. HALVÅR \"&FORS!$A$14","v":"MÅLESTATISTIKK FOR ISOLATØRER - 1. HALVÅR 2022"}]
[]
[null,"Målesum i kroner",null,"Timer",null,{"$f":"\"Fortjeneste 1. halvår  \"&FORS!$A$14-0","v":"Fortjeneste 1. halvår  2022"},null,null,{"$f":"\" 1. halvår  \"&FORS!$A$14-1","v":" 1. halvår  2021"},null,null,"Endringer i %"]
[null,"Innmålt m/","Innmålt m/","Innmålt m/","Innmålt m/","Innmålt m/","Innmålt m/","Gjennom-","Innmålt m/","Innmålt m/","Gjen.snitt","Innmålt m/","Gjen.snitt"]
[null,"overskudd","underskudd","overskudd","underskudd","overskudd","underskudd","snitt","overskudd","underskudd","fortjeneste","overskudd","fortjeneste"]
["Agder","Murere",null,null,null,{"$f":"IF(D7=0,0,B7/D7)","v":0},{"$f":"IF(E7=0,0,C7/E7)","v":0},{"$f":"IF(D7+E7=0,0,(B7+C7)/(D7+E7))","v":0},null,null,null,{"$f":"IF(I7=0,0,(B7-I7)/I7)","v":0},{"$f":"IF(K7=0,0,(H7-K7)/K7)","v":0}]
["Bergen",null,null,null,null,{"$f":"IF(D8=0,0,B8/D8)","v":0},0,{"$f":"IF(D8+E8=0,0,(B8+C8)/(D8+E8))","v":0},null,null,null,{"$f":"IF(I8=0,0,(B8-I8)/I8)","v":0},{"$f":"IF(K8=0,0,(H8-K8)/K8)","v":0}]
["Drammen - Bærum",null,null,null,null,0,0,0,null,null,null,0,0]
["Haugesund",null,null,null,null,0,0,0,null,null,null,0,0]
["Hamar og Omegn",null,null,null,null,0,0,0,null,null,null,0,0]
["Sandnes",null,null,null,null,0,0,0,null,null,null,0,0]
["Stavanger",null,null,null,null,0,0,0,null,null,null,0,0]
["Telemark",null,null,null,null,0,0,0,null,null,null,0,0]
["Trondheim",null,null,null,null,0,0,0,null,null,null,0,0]
["Vestfold",null,null,null,null,0,0,0,null,null,null,0,0]
["Østfold",null,null,null,null,0,0,0,null,null,null,0,0]
["Oslo",null,null,null,null,0,0,0,null,null,null,0,0]
["Landet i alt",{"$f":"SUM(B7:B18)","v":0},{"$f":"SUM(C7:C18)","v":0},{"$f":"SUM(D7:D18)","v":0},{"$f":"SUM(E7:E18)","v":0},{"$f":"IF(D19=0,0,B19/D19)","v":0},{"$f":"IF(E19=0,0,C19/E19)","v":0},{"$f":"IF(D19+E19=0,0,(B19+C19)/(D19+E19))","v":0},{"$f":"SUM(I7:I18)","v":0},{"$f":"SUM(J7:J18)","v":0},null,{"$f":"IF(I19=0,0,(B19-I19)/I19)","v":0},{"$f":"IF(K19=0,0,(H19-K19)/K19)","v":0}]
[]
[]
[{"$f":"\"MÅLESTATISTIKK FOR ISOLATØRER - 2. HALVÅR \"&FORS!$A$14","v":"MÅLESTATISTIKK FOR ISOLATØRER - 2. HALVÅR 2022"}]
[]
[null,"Målesum i kroner",null,"Timer",null,{"$f":"\"Fortjeneste 2. halvår  \"&FORS!$A$14-0","v":"Fortjeneste 2. halvår  2022"},null,null,{"$f":"\" 2. halvår  \"&FORS!$A$14-1","v":" 2. halvår  2021"},null,null,"Endringer i %"]
[null,"Innmålt m/","Innmålt m/","Innmålt m/","Innmålt m/","Innmålt m/","Innmålt m/","Gjennom-","Innmålt m/","Innmålt m/","Gjen.snitt","Innmålt m/","Gjen.snitt"]
[null,"overskudd","underskudd","overskudd","underskudd","overskudd","underskudd","snitt","overskudd","underskudd","fortjeneste","overskudd","fortjeneste"]
["Agder",null,null,null,null,{"$f":"IF(D27=0,0,B27/D27)","v":0},0,{"$f":"IF(D27+E27=0,0,(B27+C27)/(D27+E27))","v":0},null,null,null,{"$f":"IF(I27=0,0,(B27-I27)/I27)","v":0},{"$f":"IF(K27=0,0,(H27-K27)/K27)","v":0}]
["Bergen",null,null,null,null,0,0,{"$f":"IF(D28+E28=0,0,(B28+C28)/(D28+E28))","v":0},null,null,null,{"$f":"IF(I28=0,0,(B28-I28)/I28)","v":0},{"$f":"IF(K28=0,0,(H28-K28)/K28)","v":0}]
["Drammen - Bærum",null,null,null,null,0,0,0,null,null,null,0,0]
["Haugesund",null,null,null,null,0,0,0,null,null,null,0,0]
["Hamar og Omegn",null,null,null,null,0,0,0,null,null,null,0,0]
["Sandnes",null,null,null,null,0,0,0,null,null,null,0,0]
["Stavanger",null,null,null,null,0,0,0,null,null,null,0,0]
["Telemark",null,null,null,null,0,0,0,null,null,null,0,0]
["Trondheim",null,null,null,null,0,0,0,null,null,null,0,0]
["Vestfold",null,null,null,null,0,0,0,null,null,null,0,0]
["Østfold",null,0,null,null,0,0,0,null,null,null,0,0]
["Oslo",null,null,null,null,0,0,0,null,null,null,0,0]
["Landet i alt",{"$f":"SUM(B27:B38)","v":0},{"$f":"SUM(C27:C38)","v":0},{"$f":"SUM(D27:D38)","v":0},{"$f":"SUM(E27:E38)","v":0},{"$f":"IF(D39=0,0,B39/D39)","v":0},{"$f":"IF(E39=0,0,C39/E39)","v":0},{"$f":"IF(D39+E39=0,0,(B39+C39)/(D39+E39))","v":0},{"$f":"SUM(I27:I38)","v":0},{"$f":"SUM(J27:J38)","v":0},null,0,0]
[]
[]
[{"$f":"\"MÅLESTATISTIKK FOR ISOLATØRER - GJENNOMSNITT HELE ÅRET  \"&FORS!$A$14","v":"MÅLESTATISTIKK FOR ISOLATØRER - GJENNOMSNITT HELE ÅRET  2022"}]
[]
[null,"Målesum i kroner",null,"Timer",null,{"$f":"\"Fortjeneste hele  \"&FORS!$A$14-0","v":"Fortjeneste hele  2022"},null,null,{"$f":"\" Hele året  \"&FORS!$A$14-1","v":" Hele året  2021"},null,null,"Endringer i %"]
[null,"Innmålt m/","Innmålt m/","Innmålt m/","Innmålt m/","Innmålt m/","Innmålt m/","Gjennom-","Innmålt m/","Innmålt m/","Gjen.snitt","Innmålt m/","Gjen.snitt"]
[null,"overskudd","underskudd","overskudd","underskudd","overskudd","underskudd","snitt","overskudd","underskudd","fortjeneste","overskudd","fortjeneste"]
["Agder",{"$f":"SUMIFS(B$7:B$19,$A$7:$A$19,$A47)+SUMIFS(B$27:B$39,$A$27:$A$39,$A47)","v":0},{"$f":"SUMIFS(C$7:C$19,$A$7:$A$19,$A47)+SUMIFS(C$27:C$39,$A$27:$A$39,$A47)","v":0},0,0,{"$f":"IF(D47=0,0,B47/D47)","v":0},{"$f":"IF(E47=0,0,C27/E47)","v":0},{"$f":"IF(D47+E47=0,0,(B47+C47)/(D47+E47))","v":0},{"$f":"SUMIFS(I$7:I$19,$A$7:$A$19,$A47)+SUMIFS(I$27:I$39,$A$27:$A$39,$A47)","v":0},{"$f":"SUMIFS(J$7:J$19,$A$7:$A$19,$A47)+SUMIFS(J$27:J$39,$A$27:$A$39,$A47)","v":0},null,{"$f":"IF(I47=0,0,(B47-I47)/I47)","v":0},{"$f":"IF(K47=0,0,(H47-K47)/K47)","v":0}]
["Bergen",{"$f":"SUMIFS($B$7:$B$19,$A$7:$A$19,A48)+SUMIFS($B$27:$B$39,$A$27:$A$39,A48)","v":0},0,0,0,{"$f":"IF(D48=0,0,B48/D48)","v":0},0,{"$f":"IF(D48+E48=0,0,(B48+C48)/(D48+E48))","v":0},{"$f":"SUMIFS(I$7:I$19,$A$7:$A$19,$A48)+SUMIFS(I$27:I$39,$A$27:$A$39,$A48)","v":0},0,null,{"$f":"IF(I48=0,0,(B48-I48)/I48)","v":0},{"$f":"IF(K48=0,0,(H48-K48)/K48)","v":0}]
["Drammen - Bærum",0,0,0,0,0,0,0,0,0,null,0,0]
["Haugesund",0,0,0,0,0,0,0,0,0,null,0,0]
["Hamar og Omegn",0,0,0,0,0,0,0,0,0,null,0,0]
["Sandnes",0,0,0,0,{"$f":"IF(D52=0,0,B52/D52)","v":0},0,{"$f":"IF(D52+E52=0,0,(B52+C52)/(D52+E52))","v":0},0,0,null,0,0]
["Stavanger",0,0,0,0,0,0,0,0,0,null,0,0]
["Telemark",0,0,0,0,0,0,0,0,0,null,0,0]
["Trondheim",0,0,0,0,0,0,0,0,0,null,0,0]
["Vestfold",0,0,0,0,{"$f":"IF(D56=0,0,B56/D56)","v":0},0,0,0,0,null,0,0]
["Østfold",0,0,0,{"$f":"SUMIFS(E$7:E$19,$A$7:$A$19,$A57)+SUMIFS(E$27:E$39,$A$27:$A$39,$A57)","v":0},{"$f":"IF(D57=0,0,B57/D57)","v":0},0,0,0,0,null,0,0]
["Oslo",0,0,0,0,0,0,0,0,0,null,0,0]
["Landet i alt",{"$f":"SUM(B47:B58)","v":0},{"$f":"SUM(C47:C58)","v":0},{"$f":"SUM(D47:D58)","v":0},{"$f":"SUM(E47:E58)","v":0},{"$f":"IF(D59=0,0,B59/D59)","v":0},{"$f":"IF(E59=0,0,C59/E59)","v":0},{"$f":"IF(D59+E59=0,0,(B59+C59)/(D59+E59))","v":0},{"$f":"SUM(I47:I58)","v":0},{"$f":"SUM(J47:J58)","v":0},null,{"$f":"IF(I59=0,0,(B59-I59)/I59)","v":0},{"$f":"IF(K59=0,0,(H59-K59)/K59)","v":0}]